{"text_format":"1","workbook":"xlsx","n_sheets":19,"sheets":["Hinweise - bitte beachten","Stammdaten","Daten Beg","Daten K1","Daten K2","Daten K3","Daten Sen","Übersicht Übungen","Statistik","Richterblatt","RichterblattGruppe","Liste Beginner","Liste Klasse 1","Liste Klasse 2","Liste Klasse 3","Liste Senioren","TemplateRBG","Chipkontrolle","Gesamtergebnisliste"],"not_rendered":{"charts":0,"images":2,"macros":1,"external_links":0,"defined_names":77,"comments":1,"pivot_tables":0},"unopened":[],"bounds":{"document_bytes":16777216,"sheet_cells":100000,"rows_first":2000,"rows_last":500,"rows_between":2000,"halvings":0,"cell_chars":16384,"cell_head_chars":4096},"cells_cut":0,"cells_raw":0,"read":"whole","date_system":"1900"}

{"sheet":"Hinweise - bitte beachten","index":0,"n_rows":204,"n_cols":20,"rows_kept":204,"cut":false,"hidden":false,"merged":[]}
["swhv-Obedience Auswertung",null,null,null,null,null,null,null,null,null,null,null,null,null,null,null,"Zulaessige Platzierungswerte",null,"Klassen","Kl Kurz"]
["überarbeitet Peter Kaspar, mit freundlicher Genehmigung von Sören Marquardt (HSVRM)",null,null,null,null,null,null,null,null,null,null,null,null,null,null,null,"R",null,"Beginner","Beg"]
[null,null,null,null,null,null,null,null,null,null,null,null,null,null,null,null,"Rdis",null,"Klasse 1","K1"]
["Liebe Hundesportler!",null,null,null,null,null,null,null,null,null,null,null,null,null,null,null,"dis",null,"Klasse 2","K2"]
[null,null,null,null,null,null,null,null,null,null,null,null,null,null,null,null,1,null,"Klasse 3","K3"]
["Bitte beachtet die Datei mit den WICHTIGEN Hinweisen!!!",null,null,null,null,null,null,null,null,null,null,null,null,null,null,null,2,null,"Senioren","Sen"]
[null,null,null,null,null,null,null,null,null,null,null,null,null,null,null,null,3]
[null,null,null,null,null,null,null,null,null,null,null,null,null,null,null,null,4]
["Das Erstellen dieser Excel-Auswertungs-Datei hat Zeit und Mühe gekostet und ich bitte Euch, diese Datei nicht zu „knacken“ und meinen Autorenvermerk auf jedem Blatt nicht zu löschen.\nBei Rückfragen, Anregungen und Lob :) schickt mir bitte eine E-Mail an S.Marquardt@hsvrm.de!",null,null,null,null,null,null,null,null,null,null,null,null,null,null,null,5]
[null,null,null,null,null,null,null,null,null,null,null,null,null,null,null,null,6]
["Änderungen an dieser Datei sind nur durch mich oder unter Abstimmung mit mir gestattet. ",null,null,null,null,null,null,null,null,null,null,null,null,null,null,null,7]
[null,null,null,null,null,null,null,null,null,null,null,null,null,null,null,null,8]
[null,null,null,null,null,null,null,null,null,null,null,null,null,null,null,null,9]
["In den Blättern \"Chip-Kontrolle\" und \"Gesamtergebnisliste\" sind Schalter eingefügt \"Druckfähige Liste erstellen\".",null,null,null,null,null,null,null,null,null,null,null,null,null,null,null,10]
["Bei Aktivierung werden von den Blättern neue Mappen angelegt, ungeschützt, Leerzeilen entfernt. Können dann für eigene Zwecke verändert werden. (Speichern nicht vergessen !!)",null,null,null,null,null,null,null,null,null,null,null,null,null,null,null,11]
[null,null,null,null,null,null,null,null,null,null,null,null,null,null,null,null,12]
[null,null,null,null,null,null,null,null,null,null,null,null,null,null,null,null,13]
[null,null,null,null,null,null,null,null,null,null,null,null,null,null,null,null,14]
["NEU !!!!!",null,null,null,null,null,null,null,null,null,null,null,null,null,null,null,15]
["Zurückgestufte Hunde werden bei der Dateneingabe in Spalte \"Q\" mit dem bisherigen AK erfasst.\nBei der Platzierungsliste werden sie mit \"R\" oder \"Rdis\" erfasst und dementsprechend hinten angestellt.",null,null,null,null,null,null,null,null,null,null,null,null,null,null,null,16]
["Bei Teilnahme von zurückgestuften Hunden ist der Ausdruck des Tabellenblatts \"Statistik\" (Seiten 1&2 erforderlich)",null,null,null,null,null,null,null,null,null,null,null,null,null,null,null,17]
[null,null,null,null,null,null,null,null,null,null,null,null,null,null,null,null,18]
[null,null,null,null,null,null,null,null,null,null,null,null,null,null,null,null,19]
[null,null,null,null,null,null,null,null,null,null,null,null,null,null,null,null,20]
[null,null,null,null,null,null,null,null,null,null,null,null,null,null,null,null,21]
[null,null,null,null,null,null,null,null,null,null,null,null,null,null,null,null,22]
[null,null,null,null,null,null,null,null,null,null,null,null,null,null,null,null,23]
[null,null,null,null,null,null,null,null,null,null,null,null,null,null,null,null,24]
[null,null,null,null,null,null,null,null,null,null,null,null,null,null,null,null,25]
[null,null,null,null,null,null,null,null,null,null,null,null,null,null,null,null,26]
[null,null,null,null,null,null,null,null,null,null,null,null,null,null,null,null,27]
[null,null,null,null,null,null,null,null,null,null,null,null,null,null,null,null,28]
[null,null,null,null,null,null,null,null,null,null,null,null,null,null,null,null,29]
[null,null,null,null,null,null,null,null,null,null,null,null,null,null,null,null,30]
[null,null,null,null,null,null,null,null,null,null,null,null,null,null,null,null,31]
[null,null,null,null,null,null,null,null,null,null,null,null,null,null,null,null,32]
[null,null,null,null,null,null,null,null,null,null,null,null,null,null,null,null,33]
[null,null,null,null,null,null,null,null,null,null,null,null,null,null,null,null,34]
[null,null,null,null,null,null,null,null,null,null,null,null,null,null,null,null,35]
[null,null,null,null,null,null,null,null,null,null,null,null,null,null,null,null,36]
[null,null,null,null,null,null,null,null,null,null,null,null,null,null,null,null,37]
[null,null,null,null,null,null,null,null,null,null,null,null,null,null,null,null,38]
[null,null,null,null,null,null,null,null,null,null,null,null,null,null,null,null,39]
[null,null,null,null,null,null,null,null,null,null,null,null,null,null,null,null,40]
[null,null,null,null,null,null,null,null,null,null,null,null,null,null,null,null,41]
[null,null,null,null,null,null,null,null,null,null,null,null,null,null,null,null,42]
[null,null,null,null,null,null,null,null,null,null,null,null,null,null,null,null,43]
[null,null,null,null,null,null,null,null,null,null,null,null,null,null,null,null,44]
[null,null,null,null,null,null,null,null,null,null,null,null,null,null,null,null,45]
[null,null,null,null,null,null,null,null,null,null,null,null,null,null,null,null,46]
[null,null,null,null,null,null,null,null,null,null,null,null,null,null,null,null,47]
[null,null,null,null,null,null,null,null,null,null,null,null,null,null,null,null,48]
[null,null,null,null,null,null,null,null,null,null,null,null,null,null,null,null,49]
[null,null,null,null,null,null,null,null,null,null,null,null,null,null,null,null,50]
[null,null,null,null,null,null,null,null,null,null,null,null,null,null,null,null,51]
[null,null,null,null,null,null,null,null,null,null,null,null,null,null,null,null,52]
[null,null,null,null,null,null,null,null,null,null,null,null,null,null,null,null,53]
[null,null,null,null,null,null,null,null,null,null,null,null,null,null,null,null,54]
[null,null,null,null,null,null,null,null,null,null,null,null,null,null,null,null,55]
[null,null,null,null,null,null,null,null,null,null,null,null,null,null,null,null,56]
[null,null,null,null,null,null,null,null,null,null,null,null,null,null,null,null,57]
[null,null,null,null,null,null,null,null,null,null,null,null,null,null,null,null,58]
[null,null,null,null,null,null,null,null,null,null,null,null,null,null,null,null,59]
[null,null,null,null,null,null,null,null,null,null,null,null,null,null,null,null,60]
[null,null,null,null,null,null,null,null,null,null,null,null,null,null,null,null,61]
[null,null,null,null,null,null,null,null,null,null,null,null,null,null,null,null,62]
[null,null,null,null,null,null,null,null,null,null,null,null,null,null,null,null,63]
[null,null,null,null,null,null,null,null,null,null,null,null,null,null,null,null,64]
[null,null,null,null,null,null,null,null,null,null,null,null,null,null,null,null,65]
[null,null,null,null,null,null,null,null,null,null,null,null,null,null,null,null,66]
[null,null,null,null,null,null,null,null,null,null,null,null,null,null,null,null,67]
[null,null,null,null,null,null,null,null,null,null,null,null,null,null,null,null,68]
[null,null,null,null,null,null,null,null,null,null,null,null,null,null,null,null,69]
[null,null,null,null,null,null,null,null,null,null,null,null,null,null,null,null,70]
[null,null,null,null,null,null,null,null,null,null,null,null,null,null,null,null,71]
[null,null,null,null,null,null,null,null,null,null,null,null,null,null,null,null,72]
[null,null,null,null,null,null,null,null,null,null,null,null,null,null,null,null,73]
[null,null,null,null,null,null,null,null,null,null,null,null,null,null,null,null,74]
[null,null,null,null,null,null,null,null,null,null,null,null,null,null,null,null,75]
[null,null,null,null,null,null,null,null,null,null,null,null,null,null,null,null,76]
[null,null,null,null,null,null,null,null,null,null,null,null,null,null,null,null,77]
[null,null,null,null,null,null,null,null,null,null,null,null,null,null,null,null,78]
[null,null,null,null,null,null,null,null,null,null,null,null,null,null,null,null,79]
[null,null,null,null,null,null,null,null,null,null,null,null,null,null,null,null,80]
[null,null,null,null,null,null,null,null,null,null,null,null,null,null,null,null,81]
[null,null,null,null,null,null,null,null,null,null,null,null,null,null,null,null,82]
[null,null,null,null,null,null,null,null,null,null,null,null,null,null,null,null,83]
[null,null,null,null,null,null,null,null,null,null,null,null,null,null,null,null,84]
[null,null,null,null,null,null,null,null,null,null,null,null,null,null,null,null,85]
[null,null,null,null,null,null,null,null,null,null,null,null,null,null,null,null,86]
[null,null,null,null,null,null,null,null,null,null,null,null,null,null,null,null,87]
[null,null,null,null,null,null,null,null,null,null,null,null,null,null,null,null,88]
[null,null,null,null,null,null,null,null,null,null,null,null,null,null,null,null,89]
[null,null,null,null,null,null,null,null,null,null,null,null,null,null,null,null,90]
[null,null,null,null,null,null,null,null,null,null,null,null,null,null,null,null,91]
[null,null,null,null,null,null,null,null,null,null,null,null,null,null,null,null,92]
[null,null,null,null,null,null,null,null,null,null,null,null,null,null,null,null,93]
[null,null,null,null,null,null,null,null,null,null,null,null,null,null,null,null,94]
[null,null,null,null,null,null,null,null,null,null,null,null,null,null,null,null,95]
[null,null,null,null,null,null,null,null,null,null,null,null,null,null,null,null,96]
[null,null,null,null,null,null,null,null,null,null,null,null,null,null,null,null,97]
[null,null,null,null,null,null,null,null,null,null,null,null,null,null,null,null,98]
[null,null,null,null,null,null,null,null,null,null,null,null,null,null,null,null,99]
[null,null,null,null,null,null,null,null,null,null,null,null,null,null,null,null,100]
[null,null,null,null,null,null,null,null,null,null,null,null,null,null,null,null,101]
[null,null,null,null,null,null,null,null,null,null,null,null,null,null,null,null,102]
[null,null,null,null,null,null,null,null,null,null,null,null,null,null,null,null,103]
[null,null,null,null,null,null,null,null,null,null,null,null,null,null,null,null,104]
[null,null,null,null,null,null,null,null,null,null,null,null,null,null,null,null,105]
[null,null,null,null,null,null,null,null,null,null,null,null,null,null,null,null,106]
[null,null,null,null,null,null,null,null,null,null,null,null,null,null,null,null,107]
[null,null,null,null,null,null,null,null,null,null,null,null,null,null,null,null,108]
[null,null,null,null,null,null,null,null,null,null,null,null,null,null,null,null,109]
[null,null,null,null,null,null,null,null,null,null,null,null,null,null,null,null,110]
[null,null,null,null,null,null,null,null,null,null,null,null,null,null,null,null,111]
[null,null,null,null,null,null,null,null,null,null,null,null,null,null,null,null,112]
[null,null,null,null,null,null,null,null,null,null,null,null,null,null,null,null,113]
[null,null,null,null,null,null,null,null,null,null,null,null,null,null,null,null,114]
[null,null,null,null,null,null,null,null,null,null,null,null,null,null,null,null,115]
[null,null,null,null,null,null,null,null,null,null,null,null,null,null,null,null,116]
[null,null,null,null,null,null,null,null,null,null,null,null,null,null,null,null,117]
[null,null,null,null,null,null,null,null,null,null,null,null,null,null,null,null,118]
[null,null,null,null,null,null,null,null,null,null,null,null,null,null,null,null,119]
[null,null,null,null,null,null,null,null,null,null,null,null,null,null,null,null,120]
[null,null,null,null,null,null,null,null,null,null,null,null,null,null,null,null,121]
[null,null,null,null,null,null,null,null,null,null,null,null,null,null,null,null,122]
[null,null,null,null,null,null,null,null,null,null,null,null,null,null,null,null,123]
[null,null,null,null,null,null,null,null,null,null,null,null,null,null,null,null,124]
[null,null,null,null,null,null,null,null,null,null,null,null,null,null,null,null,125]
[null,null,null,null,null,null,null,null,null,null,null,null,null,null,null,null,126]
[null,null,null,null,null,null,null,null,null,null,null,null,null,null,null,null,127]
[null,null,null,null,null,null,null,null,null,null,null,null,null,null,null,null,128]
[null,null,null,null,null,null,null,null,null,null,null,null,null,null,null,null,129]
[null,null,null,null,null,null,null,null,null,null,null,null,null,null,null,null,130]
[null,null,null,null,null,null,null,null,null,null,null,null,null,null,null,null,131]
[null,null,null,null,null,null,null,null,null,null,null,null,null,null,null,null,132]
[null,null,null,null,null,null,null,null,null,null,null,null,null,null,null,null,133]
[null,null,null,null,null,null,null,null,null,null,null,null,null,null,null,null,134]
[null,null,null,null,null,null,null,null,null,null,null,null,null,null,null,null,135]
[null,null,null,null,null,null,null,null,null,null,null,null,null,null,null,null,136]
[null,null,null,null,null,null,null,null,null,null,null,null,null,null,null,null,137]
[null,null,null,null,null,null,null,null,null,null,null,null,null,null,null,null,138]
[null,null,null,null,null,null,null,null,null,null,null,null,null,null,null,null,139]
[null,null,null,null,null,null,null,null,null,null,null,null,null,null,null,null,140]
[null,null,null,null,null,null,null,null,null,null,null,null,null,null,null,null,141]
[null,null,null,null,null,null,null,null,null,null,null,null,null,null,null,null,142]
[null,null,null,null,null,null,null,null,null,null,null,null,null,null,null,null,143]
[null,null,null,null,null,null,null,null,null,null,null,null,null,null,null,null,144]
[null,null,null,null,null,null,null,null,null,null,null,null,null,null,null,null,145]
[null,null,null,null,null,null,null,null,null,null,null,null,null,null,null,null,146]
[null,null,null,null,null,null,null,null,null,null,null,null,null,null,null,null,147]
[null,null,null,null,null,null,null,null,null,null,null,null,null,null,null,null,148]
[null,null,null,null,null,null,null,null,null,null,null,null,null,null,null,null,149]
[null,null,null,null,null,null,null,null,null,null,null,null,null,null,null,null,150]
[null,null,null,null,null,null,null,null,null,null,null,null,null,null,null,null,151]
[null,null,null,null,null,null,null,null,null,null,null,null,null,null,null,null,152]
[null,null,null,null,null,null,null,null,null,null,null,null,null,null,null,null,153]
[null,null,null,null,null,null,null,null,null,null,null,null,null,null,null,null,154]
[null,null,null,null,null,null,null,null,null,null,null,null,null,null,null,null,155]
[null,null,null,null,null,null,null,null,null,null,null,null,null,null,null,null,156]
[null,null,null,null,null,null,null,null,null,null,null,null,null,null,null,null,157]
[null,null,null,null,null,null,null,null,null,null,null,null,null,null,null,null,158]
[null,null,null,null,null,null,null,null,null,null,null,null,null,null,null,null,159]
[null,null,null,null,null,null,null,null,null,null,null,null,null,null,null,null,160]
[null,null,null,null,null,null,null,null,null,null,null,null,null,null,null,null,161]
[null,null,null,null,null,null,null,null,null,null,null,null,null,null,null,null,162]
[null,null,null,null,null,null,null,null,null,null,null,null,null,null,null,null,163]
[null,null,null,null,null,null,null,null,null,null,null,null,null,null,null,null,164]
[null,null,null,null,null,null,null,null,null,null,null,null,null,null,null,null,165]
[null,null,null,null,null,null,null,null,null,null,null,null,null,null,null,null,166]
[null,null,null,null,null,null,null,null,null,null,null,null,null,null,null,null,167]
[null,null,null,null,null,null,null,null,null,null,null,null,null,null,null,null,168]
[null,null,null,null,null,null,null,null,null,null,null,null,null,null,null,null,169]
[null,null,null,null,null,null,null,null,null,null,null,null,null,null,null,null,170]
[null,null,null,null,null,null,null,null,null,null,null,null,null,null,null,null,171]
[null,null,null,null,null,null,null,null,null,null,null,null,null,null,null,null,172]
[null,null,null,null,null,null,null,null,null,null,null,null,null,null,null,null,173]
[null,null,null,null,null,null,null,null,null,null,null,null,null,null,null,null,174]
[null,null,null,null,null,null,null,null,null,null,null,null,null,null,null,null,175]
[null,null,null,null,null,null,null,null,null,null,null,null,null,null,null,null,176]
[null,null,null,null,null,null,null,null,null,null,null,null,null,null,null,null,177]
[null,null,null,null,null,null,null,null,null,null,null,null,null,null,null,null,178]
[null,null,null,null,null,null,null,null,null,null,null,null,null,null,null,null,179]
[null,null,null,null,null,null,null,null,null,null,null,null,null,null,null,null,180]
[null,null,null,null,null,null,null,null,null,null,null,null,null,null,null,null,181]
[null,null,null,null,null,null,null,null,null,null,null,null,null,null,null,null,182]
[null,null,null,null,null,null,null,null,null,null,null,null,null,null,null,null,183]
[null,null,null,null,null,null,null,null,null,null,null,null,null,null,null,null,184]
[null,null,null,null,null,null,null,null,null,null,null,null,null,null,null,null,185]
[null,null,null,null,null,null,null,null,null,null,null,null,null,null,null,null,186]
[null,null,null,null,null,null,null,null,null,null,null,null,null,null,null,null,187]
[null,null,null,null,null,null,null,null,null,null,null,null,null,null,null,null,188]
[null,null,null,null,null,null,null,null,null,null,null,null,null,null,null,null,189]
[null,null,null,null,null,null,null,null,null,null,null,null,null,null,null,null,190]
[null,null,null,null,null,null,null,null,null,null,null,null,null,null,null,null,191]
[null,null,null,null,null,null,null,null,null,null,null,null,null,null,null,null,192]
[null,null,null,null,null,null,null,null,null,null,null,null,null,null,null,null,193]
[null,null,null,null,null,null,null,null,null,null,null,null,null,null,null,null,194]
[null,null,null,null,null,null,null,null,null,null,null,null,null,null,null,null,195]
[null,null,null,null,null,null,null,null,null,null,null,null,null,null,null,null,196]
[null,null,null,null,null,null,null,null,null,null,null,null,null,null,null,null,197]
[null,null,null,null,null,null,null,null,null,null,null,null,null,null,null,null,198]
[null,null,null,null,null,null,null,null,null,null,null,null,null,null,null,null,199]
[null,null,null,null,null,null,null,null,null,null,null,null,null,null,null,null,200]

{"sheet":"Stammdaten","index":1,"n_rows":115,"n_cols":17,"rows_kept":115,"cut":false,"hidden":false,"merged":[[0,0,0,14],[2,0,2,2],[3,0,3,1],[4,0,4,1],[3,12,3,13],[4,12,4,13],[2,12,2,13],[2,3,2,4],[7,0,7,1],[7,2,7,5],[3,2,3,5],[4,2,4,5],[6,12,6,13],[6,2,6,5],[5,0,5,1],[5,12,5,13],[5,2,5,5],[6,0,6,1]]}
[{"$f":"'Hinweise - bitte beachten'!A1:A1","v":"swhv-Obedience Auswertung"}]
[]
["Stammdaten:",null,null,"Anzahl Abteilungen aller Starts:",null,{"$f":"SUM(L4,L5,L6*1.5,L7*1.5,L8*1.5)","v":0},"Leistungsrichter:"]
["Veranstalter:",null,null,null,null,null,"Ringsteward Beginner",null,null,null,"Starts",{"$f":"COUNTIF('Daten Beg'!A5:A45,\">0\")","v":0},"swhv Vereinsnummer:",null,null,"<-- ","Vereinsnummer 4stellig"]
["Name Prf:",null,"z.B. Vereinsprf.",null,null,null,"Ringsteward Klasse 1",null,null,null,null,{"$f":"COUNTIF('Daten K1'!A5:A45,\">0\")","v":0},"KG Nr",null,6,"<-- ","ergibt sich aus Vereinsnummer"]
["Prf Datum:",null,null,null,null,null,"Ringsteward Klasse 2",null,null,null,null,{"$f":"COUNTIF('Daten K2'!A5:A45,\">0\")","v":0}]
["Prf. Leiter:",null,null,null,null,null,"Ringsteward Klasse 3",null,null,null,null,{"$f":"COUNTIF('Daten K3'!A5:A65,\">0\")","v":0}]
[null,null,null,null,null,null,"Ringsteward Klasse Sen",null,null,null,null,{"$f":"COUNTIF('Daten Sen'!A5:A35,\">0\")","v":0}]
[]
[]
[]
[]
[]
[]
[]
[]
[]
[]
[]
[]
[]
[]
[]
[]
[]
[]
[]
[]
[]
[]
[]
[]
[]
[]
[]
[]
[]
[]
[]
[]
[]
[]
[]
[]
[]
[]
[]
[]
[]
[]
[]
[]
[]
[]
[]
[]
[]
[]
[]
[]
[]
[]
[]
[]
[]
[]
[]
[]
[]
[]
[]
[]
[]
[]
[]
[]
[]
[]
[]
[]
[]
[]
[]
[]
[]
[]
[]
[]
[]
[]
[]
[]
[]
[]
[]
[null,null,null,null,null,null,null,null,"Gültigkeitprüfungen für Spalte B (Gruppe)"]
[null,null,null,null,null,null,null,null,"Beg","Ob 1","Ob 2","Ob 3","Ob S"]
[null,null,null,null,null,null,null,null,"A1","D1","G1","J1","M1"]
[null,null,null,null,null,null,null,null,"A2","D2","G2","J2","M2"]
[null,null,null,null,null,null,null,null,"A3","D3","G3","J3","M3"]
[null,null,null,null,null,null,null,null,"A4","D4","G4","J4","M4"]
[null,null,null,null,null,null,null,null,"A5","D5","G5","J5","M5"]
[null,null,null,null,null,null,null,null,"A6","D6","G6","J6","M6"]
[null,null,null,null,null,null,null,null,"B1","E1","H1","K1","N1"]
[null,null,null,null,null,null,null,null,"B2","E2","H2","K2","N2"]
[null,null,null,null,null,null,null,null,"B3","E3","H3","K3","N3"]
[null,null,null,null,null,null,null,null,"B4","E4","H4","K4","N4"]
[null,null,null,null,null,null,null,null,"B5","E5","H5","K5","N5"]
[null,null,null,null,null,null,null,null,"B6","E6","H6","K6","N6"]
[null,null,null,null,null,null,null,null,"C1","F1","I1","L1","O1"]
[null,null,null,null,null,null,null,null,"C2","F2","I2","L2","O2"]
[null,null,null,null,null,null,null,null,"C3","F3","I3","L3","O3"]
[null,null,null,null,null,null,null,null,"C4","F4","I4","L4","O4"]
[null,null,null,null,null,null,null,null,"C5","F5","I5","L5","O5"]
[null,null,null,null,null,null,null,null,"C6","F6","I6","L6","O6"]

{"sheet":"Daten Beg","index":2,"n_rows":1048570,"n_cols":23,"rows_kept":4500,"cut":true,"hidden":false,"merged":[[0,0,0,15],[2,0,2,5]],"bounds":{"rows_first":2000,"rows_last":500,"rows_between":2000,"halvings":0}}
[{"$f":"'Hinweise - bitte beachten'!A1:A1","v":"swhv-Obedience Auswertung"}]
[]
["Klasse Beginner: (Gruppen A, B und C)",null,null,null,null,null,null,null,null,null,null,null,null,null,{"$f":"IF(SUM('Liste Beginner'!H8:R48)=0,\"Sortieren OK\",\"KEIN Sortieren!\")","v":"Sortieren OK"}]
["Nr.","Los","Gruppe","ID","Hundeführer/-in","Verein","Verband","Hundename","Rasse","R/H","SH","Wurftag","Zucht.Nr.","Täto","Chip","LB.Nr.","rückgestuft aus"]
[null,null,null,{"$f":"IF(A5=\"\",\"\",A5&\" / \"&B5&\" / Beginner\")","v":""},null,null,null,null,null,null,null,null,null,null,null,null,null,null,null,null,null,null,"A01"]
[null,null,null,"",null,null,null,null,null,null,null,null,null,null,null,null,null,null,1,null,null,null,"A02"]
[null,null,null,"",null,null,null,null,null,null,null,null,null,null,null,null,null,null,2,null,null,null,"A03"]
[null,null,null,"",null,null,null,null,null,null,null,null,null,null,null,null,null,null,3,null,null,null,"A04"]
[null,null,null,"",null,null,null,null,null,null,null,null,null,null,null,null,null,null,null,null,null,null,"A05"]
[null,null,null,"",null,null,null,null,null,null,null,null,null,null,null,null,null,null,null,null,null,null,"A06"]
[null,null,null,"",null,null,null,null,null,null,null,null,null,null,null,null,null,null,null,null,null,null,"A07"]
[null,null,null,"",null,null,null,null,null,null,null,null,null,null,null,null,null,null,null,null,null,null,"A08"]
[null,null,null,"",null,null,null,null,null,null,null,null,null,null,null,null,null,null,null,null,null,null,"A09"]
[null,null,null,"",null,null,null,null,null,null,null,null,null,null,null,null,null,null,null,null,null,null,"A10"]
[null,null,null,"",null,null,null,null,null,null,null,null,null,null,null,null,null,null,null,null,null,null,"A11"]
[null,null,null,"",null,null,null,null,null,null,null,null,null,null,null,null,null,null,null,null,null,null,"A12"]
[null,null,null,"",null,null,null,null,null,null,null,null,null,null,null,null,null,null,null,null,null,null,"A13"]
[null,null,null,"",null,null,null,null,null,null,null,null,null,null,null,null,null,null,null,null,null,null,"A14"]
[null,null,null,"",null,null,null,null,null,null,null,null,null,null,null,null,null,null,null,null,null,null,"A15"]
[null,null,null,"",null,null,null,null,null,null,null,null,null,null,null,null,null,null,null,null,null,null,"A16"]
[null,null,null,"",null,null,null,null,null,null,null,null,null,null,null,null,null,null,null,null,null,null,"A17"]
[null,null,null,"",null,null,null,null,null,null,null,null,null,null,null,null,null,null,null,null,null,null,"A18"]
[null,null,null,"",null,null,null,null,null,null,null,null,null,null,null,null,null,null,null,null,null,null,"A19"]
[null,null,null,"",null,null,null,null,null,null,null,null,null,null,null,null,null,null,null,null,null,null,"A20"]
[null,null,null,"",null,null,null,null,null,null,null,null,null,null,null,null,null,null,null,null,null,null,"A21"]
[null,null,null,"",null,null,null,null,null,null,null,null,null,null,null,null,null,null,null,null,null,null,"A22"]
[null,null,null,"",null,null,null,null,null,null,null,null,null,null,null,null,null,null,null,null,null,null,"A23"]
[null,null,null,"",null,null,null,null,null,null,null,null,null,null,null,null,null,null,null,null,null,null,"A24"]
[null,null,null,"",null,null,null,null,null,null,null,null,null,null,null,null,null,null,null,null,null,null,"A25"]
[null,null,null,"",null,null,null,null,null,null,null,null,null,null,null,null,null,null,null,null,null,null,"A26"]
[null,null,null,"",null,null,null,null,null,null,null,null,null,null,null,null,null,null,null,null,null,null,"A27"]
[null,null,null,"",null,null,null,null,null,null,null,null,null,null,null,null,null,null,null,null,null,null,"A28"]
[null,null,null,"",null,null,null,null,null,null,null,null,null,null,null,null,null,null,null,null,null,null,"A29"]
[null,null,null,"",null,null,null,null,null,null,null,null,null,null,null,null,null,null,null,null,null,null,"A30"]
[null,null,null,"",null,null,null,null,null,null,null,null,null,null,null,null,null,null,null,null,null,null,"A31"]
[null,null,null,"",null,null,null,null,null,null,null,null,null,null,null,null,null,null,null,null,null,null,"A32"]
[null,null,null,"",null,null,null,null,null,null,null,null,null,null,null,null,null,null,null,null,null,null,"A33"]
[null,null,null,"",null,null,null,null,null,null,null,null,null,null,null,null,null,null,null,null,null,null,"A34"]
[null,null,null,"",null,null,null,null,null,null,null,null,null,null,null,null,null,null,null,null,null,null,"A35"]
[null,null,null,"",null,null,null,null,null,null,null,null,null,null,null,null,null,null,null,null,null,null,"A36"]
[null,null,null,"",null,null,null,null,null,null,null,null,null,null,null,null,null,null,null,null,null,null,"A37"]
[null,null,null,"",null,null,null,null,null,null,null,null,null,null,null,null,null,null,null,null,null,null,"A38"]
[null,null,null,"",null,null,null,null,null,null,null,null,null,null,null,null,null,null,null,null,null,null,"A39"]
[null,null,null,"",null,null,null,null,null,null,null,null,null,null,null,null,null,null,null,null,null,null,"A40"]
[null,null,null,"",null,null,null,null,null,null,null,null,null,null,null,null,null,null,null,null,null,null,"A41"]
[]
[]
[]
[]
[]
[]
[]
[]
[]
[]
[]
[]
[]
[]
[]
[]
[]
[]
[]
[]
[]
[]
[]
[]
[]
[]
[]
[]
[]
[]
[]
[]
[]
[]
[]
[]
[]
[]
[]
[]
[]
[]
[]
[]
[]
[]
[]
[]
[]
[]
[]
[]
[]
[]
[]
[]
[]
[]
[]
[]
[]
[]
[]
[]
[]
[]
[]
[]
[]
[]
[]
[]
[]
[]
[]
[]
[]
[]
[]
[]
[]
[]
[]
[]
[]
[]
[]
[]
[]
[]
[]
[]
[]
[]
[]
[]
[]
[]
[]
[]
[]
[]
[]
[]
[]
[]
[]
[]
[]
[]
[]
[]
[]
[]
[]
[]
[]
[]
[]
[]
[]
[]
[]
[]
[]
[]
[]
[]
[]
[]
[]
[]
[]
[]
[]
[]
[]
[]
[]
[]
[]
[]
[]
[]
[]
[]
[]
[]
[]
[]
[]
[]
[]
[]
[]
[]
[]
[]
[]
[]
[]
[]
[]
[]
[]
[]
[]
[]
[]
[]
[]
[]
[]
[]
[]
[]
[]
[]
[]
[]
[]
[]
[]
[]
[]
[]
[]
[]
[]
[]
[]
[]
[]
[]
[]
[]
[]
[]
[]
[]
[]
[]
[]
[]
[]
[]
[]
[]
[]
[]
[]
[]
[]
[]
[]
[]
[]
[]
[]
[]
[]
[]
[]
[]
[]
[]
[]
[]
[]
[]
[]
[]
[]
[]
[]
[]
[]
[]
[]
[]
[]
[]
[]
[]
[]
[]
[]
[]
[]
[]
[]
[]
[]
[]
[]
[]
[]
[]
[]
[]
[]
[]
[]
[]
[]
[]
[]
[]
[]
[]
[]
[]
[]
[]
[]
[]
[]
[]
[]
[]
[]
[]
[]
[]
[]
[]
[]
[]
[]
[]
[]
[]
[]
[]
[]
[]
[]
[]
[]
[]
[]
[]
[]
[]
[]
[]
[]
[]
[]
[]
[]
[]
[]
[]
[]
[]
[]
[]
[]
[]
[]
[]
[]
[]
[]
[]
[]
[]
[]
[]
[]
[]
[]
[]
[]
[]
[]
[]
[]
[]
[]
[]
[]
[]
[]
[]
[]
[]
[]
[]
[]
[]
[]
[]
[]
[]
[]
[]
[]
[]
[]
[]
[]
[]
[]
[]
[]
[]
[]
[]
[]
[]
[]
[]
[]
[]
[]
[]
[]
[]
[]
[]
[]
[]
[]
[]
[]
[]
[]
[]
[]
[]
[]
[]
[]
[]
[]
[]
[]
[]
[]
[]
[]
[]
[]
[]
[]
[]
[]
[]
[]
[]
[]
[]
[]
[]
[]
[]
[]
[]
[]
[]
[]
[]
[]
[]
[]
[]
[]
[]
[]
[]
[]
[]
[]
[]
[]
[]
[]
[]
[]
[]
[]
[]
[]
[]
[]
[]
[]
[]
[]
[]
[]
[]
[]
[]
[]
[]
[]
[]
[]
[]
[]
[]
[]
[]
[]
[]
[]
[]
[]
[]
[]
[]
[]
[]
[]
[]
[]
[]
[]
[]
[]
[]
[]
[]
[]
[]
[]
[]
[]
[]
[]
[]
[]
[]
[]
[]
[]
[]
[]
[]
[]
[]
[]
[]
[]
[]
[]
[]
[]
[]
[]
[]
[]
[]
[]
[]
[]
[]
[]
[]
[]
[]
[]
[]
[]
[]
[]
[]
[]
[]
[]
[]
[]
[]
[]
[]
[]
[]
[]
[]
[]
[]
[]
[]
[]
[]
[]
[]
[]
[]
[]
[]
[]
[]
[]
[]
[]
[]
[]
[]
[]
[]
[]
[]
[]
[]
[]
[]
[]
[]
[]
[]
[]
[]
[]
[]
[]
[]
[]
[]
[]
[]
[]
[]
[]
[]
[]
[]
[]
[]
[]
[]
[]
[]
[]
[]
[]
[]
[]
[]
[]
[]
[]
[]
[]
[]
[]
[]
[]
[]
[]
[]
[]
[]
[]
[]
[]
[]
[]
[]
[]
[]
[]
[]
[]
[]
[]
[]
[]
[]
[]
[]
[]
[]
[]
[]
[]
[]
[]
[]
[]
[]
[]
[]
[]
[]
[]
[]
[]
[]
[]
[]
[]
[]
[]
[]
[]
[]
[]
[]
[]
[]
[]
[]
[]
[]
[]
[]
[]
[]
[]
[]
[]
[]
[]
[]
[]
[]
[]
[]
[]
[]
[]
[]
[]
[]
[]
[]
[]
[]
[]
[]
[]
[]
[]
[]
[]
[]
[]
[]
[]
[]
[]
[]
[]
[]
[]
[]
[]
[]
[]
[]
[]
[]
[]
[]
[]
[]
[]
[]
[]
[]
[]
[]
[]
[]
[]
[]
[]
[]
[]
[]
[]
[]
[]
[]
[]
[]
[]
[]
[]
[]
[]
[]
[]
[]
[]
[]
[]
[]
[]
[]
[]
[]
[]
[]
[]
[]
[]
[]
[]
[]
[]
[]
[]
[]
[]
[]
[]
[]
[]
[]
[]
[]
[]
[]
[]
[]
[]
[]
[]
[]
[]
[]
[]
[]
[]
[]
[]
[]
[]
[]
[]
[]
[]
[]
[]
[]
[]
[]
[]
[]
[]
[]
[]
[]
[]
[]
[]
[]
[]
[]
[]
[]
[]
[]
[]
[]
[]
[]
[]
[]
[]
[]
[]
[]
[]
[]
[]
[]
[]
[]
[]
[]
[]
[]
[]
[]
[]
[]
[]
[]
[]
[]
[]
[]
[]
[]
[]
[]
[]
[]
[]
[]
[]
[]
[]
[]
[]
[]
[]
[]
[]
[]
[]
[]
[]
[]
[]
[]
[]
[]
[]
[]
[]
[]
[]
[]
[]
[]
[]
[]
[]
[]
[]
[]
[]
[]
[]
[]
[]
[]
[]
[]
[]
[]
[]
[]
[]
[]
[]
[]
[]
[]
[]
[]
[]
[]
[]
[]
[]
[]
[]
[]
[]
[]
[]
[]
[]
[]
[]
[]
[]
[]
[]
[]
[]
[]
[]
[]
[]
[]
[]
[]
[]
[]
[]
[]
[]
[]
[]
[]
[]
[]
[]
[]
[]
[]
[]
[]
[]
[]
[]
[]
[]
[]
[]
[]
[]
[]
[]
[]
[]
[]
[]
[]
[]
[]
[]
[]
[]
[]
[]
[]
[]
[]
[]
[]
[]
[]
[]
[]
[]
[]
[]
[]
[]
[]
[]
[]
[]
[]
[]
[]
[]
[]
[]
[]
[]
[]
[]
[]
[]
[]
[]
[]
[]
[]
[]
[]
[]
[]
[]
[]
[]
[]
[]
[]
[]
[]
[]
[]
[]
[]
[]
[]
[]
[]
[]
[]
[]
[]
[]
[]
[]
[]
[]
[]
[]
[]
[]
[]
[]
[]
[]
[]
[]
[]
[]
[]
[]
[]
[]
[]
[]
[]
[]
[]
[]
[]
[]
[]
[]
[]
[]
[]
[]
[]
[]
[]
[]
[]
[]
[]
[]
[]
[]
[]
[]
[]
[]
[]
[]
[]
[]
[]
[]
[]
[]
[]
[]
[]
[]
[]
[]
[]
[]
[]
[]
[]
[]
[]
[]
[]
[]
[]
[]
[]
[]
[]
[]
[]
[]
[]
[]
[]
[]
[]
[]
[]
[]
[]
[]
[]
[]
[]
[]
[]
[]
[]
[]
[]
[]
[]
[]
[]
[]
[]
[]
[]
[]
[]
[]
[]
[]
[]
[]
[]
[]
[]
[]
[]
[]
[]
[]
[]
[]
[]
[]
[]
[]
[]
[]
[]
[]
[]
[]
[]
[]
[]
[]
[]
[]
[]
[]
[]
[]
[]
[]
[]
[]
[]
[]
[]
[]
[]
[]
[]
[]
[]
[]
[]
[]
[]
[]
[]
[]
[]
[]
[]
[]
[]
[]
[]
[]
[]
[]
[]
[]
[]
[]
[]
[]
[]
[]
[]
[]
[]
[]
[]
[]
[]
[]
[]
[]
[]
[]
[]
[]
[]
[]
[]
[]
[]
[]
[]
[]
[]
[]
[]
[]
[]
[]
[]
[]
[]
[]
[]
[]
[]
[]
[]
[]
[]
[]
[]
[]
[]
[]
[]
[]
[]
[]
[]
[]
[]
[]
[]
[]
[]
[]
[]
[]
[]
[]
[]
[]
[]
[]
[]
[]
[]
[]
[]
[]
[]
[]
[]
[]
[]
[]
[]
[]
[]
[]
[]
[]
[]
[]
[]
[]
[]
[]
[]
[]
[]
[]
[]
[]
[]
[]
[]
[]
[]
[]
[]
[]
[]
[]
[]
[]
[]
[]
[]
[]
[]
[]
[]
[]
[]
[]
[]
[]
[]
[]
[]
[]
[]
[]
[]
[]
[]
[]
[]
[]
[]
[]
[]
[]
[]
[]
[]
[]
[]
[]
[]
[]
[]
[]
[]
[]
[]
[]
[]
[]
[]
[]
[]
[]
[]
[]
[]
[]
[]
[]
[]
[]
[]
[]
[]
[]
[]
[]
[]
[]
[]
[]
[]
[]
[]
[]
[]
[]
[]
[]
[]
[]
[]
[]
[]
[]
[]
[]
[]
[]
[]
[]
[]
[]
[]
[]
[]
[]
[]
[]
[]
[]
[]
[]
[]
[]
[]
[]
[]
[]
[]
[]
[]
[]
[]
[]
[]
[]
[]
[]
[]
[]
[]
[]
[]
[]
[]
[]
[]
[]
[]
[]
[]
[]
[]
[]
[]
[]
[]
[]
[]
[]
[]
[]
[]
[]
[]
[]
[]
[]
[]
[]
[]
[]
[]
[]
[]
[]
[]
[]
[]
[]
[]
[]
[]
[]
[]
[]
[]
[]
[]
[]
[]
[]
[]
[]
[]
[]
[]
[]
[]
[]
[]
[]
[]
[]
[]
[]
[]
[]
[]
[]
[]
[]
[]
[]
[]
[]
[]
[]
[]
[]
[]
[]
[]
[]
[]
[]
[]
[]
[]
[]
[]
[]
[]
[]
[]
[]
[]
[]
[]
[]
[]
[]
[]
[]
[]
[]
[]
[]
[]
[]
[]
[]
[]
[]
[]
[]
[]
[]
[]
[]
[]
[]
[]
[]
[]
[]
[]
[]
[]
[]
[]
[]
[]
[]
[]
[]
[]
[]
[]
[]
[]
[]
[]
[]
[]
[]
[]
[]
[]
[]
[]
[]
[]
[]
[]
[]
[]
[]
[]
[]
[]
[]
[]
[]
[]
[]
[]
[]
[]
[]
[]
[]
[]
[]
[]
[]
[]
[]
[]
[]
[]
[]
[]
[]
[]
[]
[]
[]
[]
[]
[]
[]
[]
[]
[]
[]
[]
[]
[]
[]
[]
[]
[]
[]
[]
[]
[]
[]
[]
[]
[]
[]
[]
[]
[]
[]
[]
[]
[]
[]
[]
[]
[]
[]
[]
[]
[]
[]
[]
[]
[]
[]
[]
[]
[]
[]
[]
[]
[]
[]
[]
[]
[]
[]
[]
[]
[]
[]
[]
[]
[]
[]
[]
[]
[]
[]
[]
[]
[]
[]
[]
[]
[]
[]
[]
[]
[]
[]
[]
[]
[]
[]
[]
[]
[]
[]
[]
[]
[]
[]
[]
[]
[]
[]
[]
[]
[]
[]
[]
[]
[]
[]
[]
[]
[]
[]
[]
[]
[]
[]
[]
[]
[]
[]
[]
[]
[]
[]
[]
[]
[]
[]
[]
[]
[]
[]
[]
[]
[]
[]
[]
[]
[]
[]
[]
[]
[]
[]
[]
[]
[]
[]
[]
[]
[]
[]
[]
[]
[]
[]
[]
[]
[]
[]
[]
[]
[]
[]
[]
[]
[]
[]
[]
[]
[]
[]
[]
[]
[]
[]
[]
[]
[]
[]
[]
[]
[]
[]
[]
[]
[]
[]
[]
[]
[]
[]
[]
[]
[]
[]
[]
[]
[]
[]
[]
[]
[]
[]
[]
[]
[]
[]
[]
[]
[]
[]
[]
[]
[]
[]
[]
[]
[]
[]
[]
[]
[]
[]
[]
[]
[]
[]
[]
[]
[]
[]
[]
[]
[]
[]
[]
[]
[]
[]
[]
[]
[]
[]
[]
[]
[]
[]
[]
[]
[]
[]
[]
[]
[]
[]
[]
[]
[]
[]
[]
[]
[]
[]
[]
[]
[]
[]
[]
[]
[]
[]
[]
[]
[]
[]
[]
[]
[]
[]
[]
[]
[]
[]
[]
[]
[]
[]
[]
[]
[]
[]
[]
[]
[]
[]
[]
[]
[]
[]
[]
[]
[]
[]
[]
[]
[]
[]
[]
[]
[]
[]
[]
[]
[]
[]
[]
[]
[]
[]
[]
[]
[]
[]
[]
[]
[]
[]
[]
[]
[]
[]
[]
[]
[]
[]
[]
[]
[]
[]
[]
[]
[]
[]
[]
[]
[]
[]
[]
[]
[]
[]
[]
[]
[]
[]
[]
[]
[]
[]
[]
[]
[]
[]
[]
[]
[]
[]
[]
[]
[]
[]
[]
[]
[]
[]
[]
[]
[]
[]
[]
[]
[]
[]
[]
[]
[]
[]
[]
[]
[]
[]
[]
[]
[]
[]
[]
[]
[]
[]
[]
[]
[]
[]
[]
[]
[]
[]
[]
[]
[]
[]
[]
[]
[]
[]
[]
[]
[]
[]
[]
[]
[]
[]
[]
[]
[]
[]
[]
[]
[]
[]
[]
[]
[]
[]
[]
[]
[]
[]
[]
[]
[]
[]
[]
[]
[]
[]
[]
[]
[]
[]
[]
[]
[]
[]
[]
[]
[]
[]
[]
[]
[]
[]
[]
[]
[]
[]
[]
[]
[]
[]
[]
[]
[]
[]
[]
[]
[]
[]
[]
[]
[]
[]
[]
[]
[]
[]
[]
[]
[]
[]
[]
[]
[]
[]
[]
[]
[]
[]
[]
[]
[]
[]
[]
[]
[]
[]
[]
[]
[]
[]
[]
[]
[]
[]
[]
[]
[]
[]
[]
[]
[]
[]
[]
[]
[]
[]
[]
[]
[]
[]
[]
[]
[]
[]
[]
[]
[]
[]
[]
[]
[]
[]
[]
[]
[]
[]
[]
[]
[]
[]
[]
[]
[]
[]
[]
[]
[]
[]
[]
[]
[]
[]
[]
[]
[]
[]
[]
[]
[]
[]
[]
[]
[]
[]
[]
[]
[]
[]
[]
[]
[]
[]
[]
[]
[]
[]
[]
[]
[]
[]
[]
[]
[]
[]
[]
[]
[]
[]
[]
[]
[]
[]
[]
[]
[]
[]
[]
[]
[]
[]
[]
[]
[]
[]
[]
[]
[]
[]
[]
[]
[]
[]
[]
[]
[]
[]
[]
[]
[]
[]
[]
[]
[]
[]
[]
[]
[]
[]
[]
[]
[]
[]
[]
[]
[]
[]
[]
[]
[]
[]
[]
[]
[]
[]
[]
[]
[]
[]
[]
[]
[]
[]
[]
[]
[]
[]
[]
[]
[]
[]
[]
[]
[]
[]
[]
[]
[]
[]
[]
[]
[]
[]
[]
[]
[]
[]
[]
[]
[]
[]
[]
[]
[]
[]
[]
[]
[]
[]
[]
[]
[]
[]
[]
[]
[]
[]
[]
[]
[]
[]
[]
[]
[]
[]
[]
[]
[]
[]
[]
[]
[]
[]
[]
[]
[]
[]
[]
[]
[]
[]
[]
[]
[]
[]
[]
[]
[]
[]
[]
[]
[]
[]
[]
[]
[]
[]
[]
[]
[]
[]
[]
[]
[]
[]
[]
[]
[]
[]
[]
[]
[]
[]
[]
[]
[]
[]
[]
[]
[]
[]
[]
[]
[]
[]
[]
[]
[]
[]
[]
[]
[]
[]
[]
[]
[]
[]
[]
[]
[]
[]
[]
[]
[]
[]
[]
[]
[]
[]
[]
[]
[]
[]
[]
[]
[]
[]
[]
[]
[]
[]
[]
[]
[]
[]
[]
[]
[]
[]
[]
[]
[]
[]
[]
[]
[]
[]
[]
[]
[]
[]
[]
[]
[]
[]
[]
[]
[]
[]
[]
[]
[]
[]
[]
[]
[]
[]
[]
[]
[]
[]
[]
[]
[]
[]
[]
[]
[]
[]
[]
[]
[]
[]
[]
[]
[]
[]
[]
[]
[]
[]
[]
[]
[]
[]
[]
[]
[]
[]
[]
[]
[]
[]
[]
[]
[]
[]
[]
[]
[]
[]
[]
[]
[]
[]
[]
[]
[]
[]
[]
[]
[]
[]
[]
[]
[]
[]
[]
[]
[]
[]
[]
[]
[]
[]
[]
[]
[]
[]
[]
[]
[]
[]
[]
[]
[]
[]
[]
[]
[]
[]
[]
[]
[]
[]
[]
[]
[]
[]
[]
[]
[]
[]
[]
[]
[]
[]
[]
[]
[]
[]
[]
[]
[]
[]
[]
[]
[]
[]
[]
[]
[]
[]
[]
[]
[]
[]
[]
[]
[]
[]
[]
[]
[]
[]
[]
[]
[]
[]
[]
[]
[]
[]
[]
[]
[]
[]
[]
[]
[]
[]
[]
[]
[]
[]
[]
[]
[]
[]
[]
[]
[]
[]
[]
[]
[]
[]
[]
[]
[]
[]
[]
[]
[]
[]
[]
[]
[]
[]
[]
[]
[]
[]
[]
[]
[]
[]
[]
[]
[]
[]
[]
[]
[]
[]
[]
[]
[]
[]
[]
[]
[]
[]
[]
[]
[]
[]
[]
[]
[]
[]
[]
[]
[]
[]
[]
[]
[]
[]
[]
[]
[]
[]
[]
[]
[]
[]
[]
[]
[]
[]
[]
[]
[]
[]
[]
[]
[]
[]
[]
[]
[]
[]
[]
[]
[]
[]
[]
[]
[]
[]
[]
[]
[]
[]
[]
[]
[]
[]
[]
[]
[]
[]
[]
[]
[]
[]
[]
[]
[]
[]
[]
[]
[]
[]
[]
[]
[]
[]
[]
[]
[]
[]
[]
[]
[]
[]
[]
[]
[]
[]
[]
[]
[]
[]
[]
[]
[]
[]
[]
[]
[]
[]
[]
[]
[]
[]
[]
[]
[]
[]
[]
[]
[]
[]
[]
[]
[]
[]
[]
[]
[]
[]
[]
[]
[]
[]
[]
[]
[]
[]
[]
[]
[]
[]
[]
[]
[]
[]
[]
[]
[]
[]
[]
[]
[]
[]
[]
[]
[]
[]
[]
[]
[]
[]
[]
[]
[]
[]
[]
[]
[]
[]
[]
[]
[]
[]
[]
[]
[]
[]
[]
[]
[]
[]
[]
[]
[]
[]
[]
[]
[]
[]
[]
[]
[]
[]
[]
[]
[]
[]
[]
[]
[]
[]
[]
[]
[]
[]
[]
[]
[]
[]
[]
[]
[]
[]
[]
[]
[]
[]
[]
[]
[]
[]
[]
[]
[]
[]
[]
[]
[]
[]
[]
[]
[]
[]
[]
[]
[]
[]
[]
[]
[]
[]
[]
[]
[]
[]
[]
[]
[]
[]
[]
[]
[]
[]
[]
[]
[]
[]
[]
[]
[]
[]
[]
[]
[]
[]
[]
[]
[]
[]
[]
[]
[]
[]
[]
[]
[]
[]
[]
[]
[]
[]
[]
[]
[]
[]
[]
[]
[]
[]
[]
[]
[]
[]
[]
[]
[]
[]
[]
[]
[]
[]
[]
[]
[]
[]
[]
[]
[]
[]
[]
[]
[]
[]
[]
[]
[]
[]
[]
[]
[]
[]
[]
[]
[]
[]
[]
[]
[]
[]
[]
[]
[]
[]
[]
[]
[]
[]
[]
[]
[]
[]
[]
[]
[]
[]
[]
[]
[]
[]
[]
[]
[]
[]
[]
[]
[]
[]
[]
[]
[]
[]
[]
[]
[]
[]
[]
[]
[]
[]
[]
[]
[]
[]
[]
[]
[]
[]
[]
[]
[]
[]
[]
[]
[]
[]
[]
[]
[]
[]
[]
[]
[]
[]
[]
[]
[]
[]
[]
[]
[]
[]
[]
[]
[]
[]
[]
[]
[]
[]
[]
[]
[]
[]
[]
[]
[]
[]
[]
[]
[]
[]
[]
[]
[]
[]
[]
[]
[]
[]
[]
[]
[]
[]
[]
[]
[]
[]
[]
[]
[]
[]
[]
[]
[]
[]
[]
[]
[]
[]
[]
[]
[]
[]
[]
[]
[]
[]
[]
[]
[]
[]
[]
[]
[]
[]
[]
[]
[]
[]
[]
[]
[]
[]
[]
[]
[]
[]
[]
[]
[]
[]
[]
[]
[]
[]
[]
[]
[]
[]
[]
[]
[]
[]
[]
[]
[]
[]
[]
[]
[]
[]
[]
[]
[]
[]
[]
[]
[]
[]
[]
[]
[]
[]
[]
[]
[]
[]
[]
[]
[]
[]
[]
[]
[]
[]
[]
[]
[]
[]
[]
[]
[]
[]
[]
[]
[]
[]
[]
[]
[]
[]
[]
[]
[]
[]
[]
[]
[]
[]
[]
[]
[]
[]
[]
[]
[]
[]
[]
[]
[]
[]
[]
[]
[]
[]
[]
[]
[]
[]
[]
[]
[]
[]
[]
[]
[]
[]
[]
[]
[]
[]
[]
[]
[]
[]
[]
[]
[]
[]
[]
[]
[]
[]
[]
[]
[]
[]
[]
[]
[]
[]
[]
[]
[]
[]
[]
[]
[]
[]
[]
[]
[]
[]
[]
[]
[]
[]
[]
[]
[]
[]
[]
[]
[]
[]
[]
[]
[]
[]
[]
[]
[]
[]
[]
[]
[]
[]
[]
[]
[]
[]
[]
[]
[]
[]
[]
[]
[]
[]
[]
[]
[]
[]
[]
[]
[]
[]
[]
[]
[]
[]
[]
[]
[]
[]
[]
[]
[]
[]
[]
[]
[]
[]
[]
[]
[]
[]
[]
[]
[]
[]
[]
[]
[]
[]
[]
[]
[]
[]
[]
[]
[]
[]
[]
[]
[]
[]
[]
[]
[]
[]
[]
[]
[]
[]
[]
[]
[]
[]
[]
[]
[]
[]
[]
[]
[]
[]
[]
[]
[]
[]
[]
[]
[]
[]
[]
[]
[]
[]
[]
[]
[]
[]
[]
[]
[]
[]
[]
[]
[]
[]
[]
[]
[]
[]
[]
[]
[]
[]
[]
[]
[]
[]
[]
[]
[]
[]
[]
[]
[]
[]
[]
[]
[]
[]
[]
[]
[]
[]
[]
[]
[]
[]
[]
[]
[]
[]
[]
[]
[]
[]
[]
[]
[]
[]
[]
[]
[]
[]
[]
[]
[]
[]
[]
[]
[]
[]
[]
[]
[]
[]
[]
[]
[]
[]
[]
[]
[]
[]
[]
[]
[]
[]
[]
[]
[]
[]
[]
[]
[]
[]
[]
[]
[]
[]
[]
[]
[]
[]
[]
[]
[]
[]
[]
[]
[]
[]
[]
[]
[]
[]
[]
[]
[]
[]
[]
[]
[]
[]
[]
[]
[]
[]
[]
[]
[]
[]
[]
[]
[]
[]
[]
[]
[]
[]
[]
[]
[]
[]
[]
[]
[]
[]
[]
[]
[]
[]
[]
[]
[]
[]
[]
[]
[]
[]
[]
[]
[]
[]
[]
[]
[]
[]
[]
[]
[]
[]
[]
[]
[]
[]
[]
[]
[]
[]
[]
[]
[]
[]
[]
[]
[]
[]
[]
[]
[]
[]
[]
[]
[]
[]
[]
[]
[]
[]
[]
[]
[]
[]
[]
[]
[]
[]
[]
[]
[]
[]
[]
[]
[]
[]
[]
[]
[]
[]
[]
[]
[]
[]
[]
[]
[]
[]
[]
[]
[]
[]
[]
[]
[]
[]
[]
[]
[]
[]
[]
[]
[]
[]
[]
[]
[]
[]
[]
[]
[]
[]
[]
[]
[]
[]
[]
[]
[]
[]
[]
[]
[]
[]
[]
[]
[]
[]
[]
[]
[]
[]
[]
[]
[]
[]
[]
[]
[]
[]
[]
[]
[]
[]
[]
[]
[]
[]
[]
[]
[]
[]
[]
[]
[]
[]
[]
[]
[]
[]
[]
[]
[]
[]
[]
[]
[]
[]
[]
[]
[]
[]
[]
[]
[]
[]
[]
[]
[]
[]
[]
[]
[]
[]
[]
[]
[]
[]
[]
[]
[]
[]
[]
[]
[]
[]
[]
[]
[]
[]
[]
[]
[]
[]
[]
[]
[]
[]
[]
[]
[]
[]
[]
[]
[]
[]
[]
[]
[]
[]
[]
[]
[]
[]
[]
[]
[]
[]
[]
[]
[]
[]
[]
[]
[]
[]
[]
[]
[]
[]
[]
[]
[]
[]
[]
[]
[]
[]
[]
[]
[]
[]
[]
[]
[]
[]
[]
[]
[]
[]
[]
[]
[]
[]
[]
[]
[]
[]
[]
[]
[]
[]
[]
[]
[]
[]
[]
[]
[]
[]
[]
[]
[]
[]
[]
[]
[]
[]
[]
[]
[]
[]
[]
[]
[]
[]
[]
[]
[]
[]
[]
[]
[]
[]
[]
[]
[]
[]
[]
[]
[]
[]
[]
[]
[]
[]
[]
[]
[]
[]
[]
[]
[]
[]
[]
[]
[]
[]
[]
[]
[]
[]
[]
[]
[]
[]
[]
[]
[]
[]
[]
[]
[]
[]
[]
[]
[]
[]
[]
[]
[]
[]
[]
[]
[]
[]
[]
[]
[]
[]
[]
[]
[]
[]
[]
[]
[]
[]
[]
[]
[]
[]
[]
[]
[]
[]
[]
[]
[]
[]
[]
[]
[]
[]
[]
[]
[]
[]
[]
[]
[]
[]
[]
[]
[]
[]
[]
[]
[]
[]
[]
[]
[]
[]
[]
[]
[]
[]
[]
[]
[]
[]
[]
[]
[]
[]
[]
[]
[]
[]
[]
[]
[]
[]
[]
[]
[]
[]
[]
[]
[]
[]
[]
[]
[]
[]
[]
[]
[]
[]
[]
[]
[]
[]
[]
[]
[]
[]
[]
[]
[]
[]
[]
[]
[]
[]
[]
[]
[]
[]
[]
[]
[]
[]
[]
[]
[]
[]
[]
[]
[]
[]
[]
[]
[]
[]
[]
[]
[]
[]
[]
[]
[]
[]
[]
[]
[]
[]
[]
[]
[]
[]
[]
[]
[]
[]
[]
[]
[]
[]
[]
[]
[]
[]
[]
[]
[]
[]
[]
[]
[]
[]
[]
[]
[]
[]
[]
[]
[]
[]
[]
[]
[]
[]
[]
[]
[]
[]
[]
[]
[]
[]
[]
[]
[]
[]
[]
[]
[]
[]
[]
[]
[]
[]
[]
[]
[]
[]
[]
[]
[]
[]
[]
[]
[]
[]
[]
[]
[]
[]
[]
[]
[]
[]
[]
[]
[]
[]
[]
[]
[]
[]
[]
[]
[]
[]
[]
[]
[]
[]
[]
[]
[]
[]
[]
[]
[]
[]
[]
[]
[]
[]
[]
[]
[]
[]
[]
[]
[]
[]
[]
[]
[]
[]
[]
[]
[]
[]
[]
[]
[]
[]
[]
[]
[]
[]
[]
[]
[]
[]
[]
[]
[]
[]
[]
[]
[]
[]
[]
[]
[]
[]
[]
[]
[]
[]
[]
[]
[]
[]
[]
[]
[]
[]
[]
[]
[]
[]
[]
[]
[]
[]
[]
[]
[]
[]
[]
[]
[]
[]
[]
[]
[]
[]
[]
[]
[]
[]
[]
[]
[]
[]
[]
[]
[]
[]
[]
[]
[]
[]
[]
[]
[]
[]
[]
[]
[]
[]
[]
[]
[]
[]
[]
[]
[]
[]
[]
[]
[]
[]
[]
[]
[]
[]
[]
[]
[]
[]
[]
[]
[]
[]
[]
[]
[]
[]
[]
[]
[]
[]
[]
[]
[]
[]
[]
[]
[]
[]
[]
[]
[]
[]
[]
[]
[]
[]
[]
[]
[]
[]
[]
[]
[]
[]
[]
[]
[]
[]
[]
[]
[]
[]
[]
[]
[]
[]
[]
[]
[]
[]
[]
[]
[]
[]
[]
[]
[]
[]
[]
[]
[]
[]
[]
[]
[]
[]
[]
[]
[]
[]
[]
[]
[]
[]
[]
[]
[]
[]
[]
[]
[]
[]
[]
[]
[]
[]
[]
[]
[]
[]
[]
[]
[]
[]
[]
[]
[]
[]
[]
[]
[]
[]
[]
[]
[]
[]
[]
[]
[]
[]
[]
[]
[]
[]
[]
[]
[]
[]
[]
[]
[]
[]
[]
[]
[]
[]
[]
[]
[]
[]
[]
[]
[]
[]
[]
[]
[]
[]
[]
[]
[]
[]
[]
[]
[]
[]
[]
[]
[]
[]
[]
[]
[]
[]
[]
[]
[]
[]
[]
[]
[]
[]
[]
[]
[]
[]
[]
[]
[]
[]
[]
[]
[]
[]
[]
[]
[]
[]
[]
[]
[]
[]
[]
[]
[]
[]
[]
[]
[]
[]
[]
[]
[]
[]
[]
[]
[]
[]
[]
[]
[]
[]
[]
[]
[]
[]
[]
[]
[]
[]
[]
[]
[]
[]
[]
[]
[]
[]
[]
[]
[]
[null,null,null,{"$f":"IF(A1048570=\"\",\"\",A1048570&\" / \"&B1048570&\" / Beginner\")","v":""},null,null,null,null,null,null,null,null,null,null,null,".."]

{"sheet":"Daten K1","index":3,"n_rows":35,"n_cols":23,"rows_kept":35,"cut":false,"hidden":false,"merged":[[0,0,0,15],[2,0,2,5]]}
[{"$f":"'Hinweise - bitte beachten'!A1:A1","v":"swhv-Obedience Auswertung"}]
[]
["Klasse 1: (Gruppen D, E und F)",null,null,null,null,null,null,null,null,null,null,null,null,null,{"$f":"IF(SUM('Liste Klasse 1'!H8:R38)=0,\"Sortieren OK\",\"KEIN Sortieren!\")","v":"Sortieren OK"}]
["Nr.","Los","Gruppe","ID","Hundeführer/-in","Verein","Verband","Hundename","Rasse","R/H","SH","Wurftag","Zucht.Nr.","Täto","Chip","LB.Nr.","Rück"]
[null,null,null,{"$f":"IF(A5=\"\",\"\",A5&\" / \"&B5&\" / Klasse 1\")","v":""},null,null,null,null,null,null,null,null,null,null,null,null,null,"<-- Rückstufung aus…",null,null,null,null,"B01"]
[null,null,null,"",null,null,null,null,null,null,null,null,null,null,null,null,null,null,2,null,null,null,"B02"]
[null,null,null,"",null,null,null,null,null,null,null,null,null,null,null,null,null,null,3,null,null,null,"B03"]
[null,null,null,"",null,null,null,null,null,null,null,null,null,null,null,null,null,null,null,null,null,null,"B04"]
[null,null,null,"",null,null,null,null,null,null,null,null,null,null,null,null,null,null,null,null,null,null,"B05"]
[null,null,null,"",null,null,null,null,null,null,null,null,null,null,null,null,null,null,null,null,null,null,"B06"]
[null,null,null,"",null,null,null,null,null,null,null,null,null,null,null,null,null,null,null,null,null,null,"B07"]
[null,null,null,"",null,null,null,null,null,null,null,null,null,null,null,null,null,null,null,null,null,null,"B08"]
[null,null,null,"",null,null,null,null,null,null,null,null,null,null,null,null,null,null,null,null,null,null,"B09"]
[null,null,null,"",null,null,null,null,null,null,null,null,null,null,null,null,null,null,null,null,null,null,"B10"]
[null,null,null,"",null,null,null,null,null,null,null,null,null,null,null,null,null,null,null,null,null,null,"B11"]
[null,null,null,"",null,null,null,null,null,null,null,null,null,null,null,null,null,null,null,null,null,null,"B12"]
[null,null,null,"",null,null,null,null,null,null,null,null,null,null,null,null,null,null,null,null,null,null,"B13"]
[null,null,null,"",null,null,null,null,null,null,null,null,null,null,null,null,null,null,null,null,null,null,"B14"]
[null,null,null,"",null,null,null,null,null,null,null,null,null,null,null,null,null,null,null,null,null,null,"B15"]
[null,null,null,"",null,null,null,null,null,null,null,null,null,null,null,null,null,null,null,null,null,null,"B16"]
[null,null,null,"",null,null,null,null,null,null,null,null,null,null,null,null,null,null,null,null,null,null,"B17"]
[null,null,null,"",null,null,null,null,null,null,null,null,null,null,null,null,null,null,null,null,null,null,"B18"]
[null,null,null,"",null,null,null,null,null,null,null,null,null,null,null,null,null,null,null,null,null,null,"B19"]
[null,null,null,"",null,null,null,null,null,null,null,null,null,null,null,null,null,null,null,null,null,null,"B20"]
[null,null,null,"",null,null,null,null,null,null,null,null,null,null,null,null,null,null,null,null,null,null,"B21"]
[null,null,null,"",null,null,null,null,null,null,null,null,null,null,null,null,null,null,null,null,null,null,"B22"]
[null,null,null,"",null,null,null,null,null,null,null,null,null,null,null,null,null,null,null,null,null,null,"B23"]
[null,null,null,"",null,null,null,null,null,null,null,null,null,null,null,null,null,null,null,null,null,null,"B24"]
[null,null,null,"",null,null,null,null,null,null,null,null,null,null,null,null,null,null,null,null,null,null,"B25"]
[null,null,null,"",null,null,null,null,null,null,null,null,null,null,null,null,null,null,null,null,null,null,"B26"]
[null,null,null,"",null,null,null,null,null,null,null,null,null,null,null,null,null,null,null,null,null,null,"B27"]
[null,null,null,"",null,null,null,null,null,null,null,null,null,null,null,null,null,null,null,null,null,null,"B28"]
[null,null,null,"",null,null,null,null,null,null,null,null,null,null,null,null,null,null,null,null,null,null,"B29"]
[null,null,null,"",null,null,null,null,null,null,null,null,null,null,null,null,null,null,null,null,null,null,"B30"]
[null,null,null,"",null,null,null,null,null,null,null,null,null,null,null,null,null,null,null,null,null,null,"B31"]

{"sheet":"Daten K2","index":4,"n_rows":35,"n_cols":23,"rows_kept":35,"cut":false,"hidden":false,"merged":[[0,0,0,15],[2,0,2,5]]}
[{"$f":"'Hinweise - bitte beachten'!A1:A1","v":"swhv-Obedience Auswertung"}]
[]
["Klasse 2: (Gruppen G, H und I)",null,null,null,null,null,null,null,null,null,null,null,null,null,{"$f":"IF(SUM('Liste Klasse 2'!H8:R38)=0,\"Sortieren OK\",\"KEIN Sortieren!\")","v":"Sortieren OK"}]
["Nr.","Los","Gruppe","ID","Hundeführer/-in","Verein","Verband","Hundename","Rasse","R/H","SH","Wurftag","Zucht.Nr.","Täto","Chip","LB.Nr.","Rück"]
[null,null,null,{"$f":"IF(A5=\"\",\"\",A5&\" / \"&B5&\" / Klasse 2\")","v":""},null,null,null,null,null,null,null,null,null,null,null,null,null,"<-- Rückstufung aus…",null,null,null,null,"C01"]
[null,null,null,"",null,null,null,null,null,null,null,null,null,null,null,null,null,null,3,null,null,null,"C02"]
[null,null,null,"",null,null,null,null,null,null,null,null,null,null,null,null,null,null,null,null,null,null,"C03"]
[null,null,null,"",null,null,null,null,null,null,null,null,null,null,null,null,null,null,null,null,null,null,"C04"]
[null,null,null,"",null,null,null,null,null,null,null,null,null,null,null,null,null,null,null,null,null,null,"C05"]
[null,null,null,"",null,null,null,null,null,null,null,null,null,null,null,null,null,null,null,null,null,null,"C06"]
[null,null,null,"",null,null,null,null,null,null,null,null,null,null,null,null,null,null,null,null,null,null,"C07"]
[null,null,null,"",null,null,null,null,null,null,null,null,null,null,null,null,null,null,null,null,null,null,"C08"]
[null,null,null,"",null,null,null,null,null,null,null,null,null,null,null,null,null,null,null,null,null,null,"C09"]
[null,null,null,"",null,null,null,null,null,null,null,null,null,null,null,null,null,null,null,null,null,null,"C10"]
[null,null,null,"",null,null,null,null,null,null,null,null,null,null,null,null,null,null,null,null,null,null,"C11"]
[null,null,null,"",null,null,null,null,null,null,null,null,null,null,null,null,null,null,null,null,null,null,"C12"]
[null,null,null,"",null,null,null,null,null,null,null,null,null,null,null,null,null,null,null,null,null,null,"C13"]
[null,null,null,"",null,null,null,null,null,null,null,null,null,null,null,null,null,null,null,null,null,null,"C14"]
[null,null,null,"",null,null,null,null,null,null,null,null,null,null,null,null,null,null,null,null,null,null,"C15"]
[null,null,null,"",null,null,null,null,null,null,null,null,null,null,null,null,null,null,null,null,null,null,"C16"]
[null,null,null,"",null,null,null,null,null,null,null,null,null,null,null,null,null,null,null,null,null,null,"C17"]
[null,null,null,"",null,null,null,null,null,null,null,null,null,null,null,null,null,null,null,null,null,null,"C18"]
[null,null,null,"",null,null,null,null,null,null,null,null,null,null,null,null,null,null,null,null,null,null,"C19"]
[null,null,null,"",null,null,null,null,null,null,null,null,null,null,null,null,null,null,null,null,null,null,"C20"]
[null,null,null,"",null,null,null,null,null,null,null,null,null,null,null,null,null,null,null,null,null,null,"C21"]
[null,null,null,"",null,null,null,null,null,null,null,null,null,null,null,null,null,null,null,null,null,null,"C22"]
[null,null,null,"",null,null,null,null,null,null,null,null,null,null,null,null,null,null,null,null,null,null,"C23"]
[null,null,null,"",null,null,null,null,null,null,null,null,null,null,null,null,null,null,null,null,null,null,"C24"]
[null,null,null,"",null,null,null,null,null,null,null,null,null,null,null,null,null,null,null,null,null,null,"C25"]
[null,null,null,"",null,null,null,null,null,null,null,null,null,null,null,null,null,null,null,null,null,null,"C26"]
[null,null,null,"",null,null,null,null,null,null,null,null,null,null,null,null,null,null,null,null,null,null,"C27"]
[null,null,null,"",null,null,null,null,null,null,null,null,null,null,null,null,null,null,null,null,null,null,"C28"]
[null,null,null,"",null,null,null,null,null,null,null,null,null,null,null,null,null,null,null,null,null,null,"C29"]
[null,null,null,"",null,null,null,null,null,null,null,null,null,null,null,null,null,null,null,null,null,null,"C30"]
[null,null,null,"",null,null,null,null,null,null,null,null,null,null,null,null,null,null,null,null,null,null,"C31"]

{"sheet":"Daten K3","index":5,"n_rows":65,"n_cols":23,"rows_kept":65,"cut":false,"hidden":false,"merged":[[0,0,0,15],[2,0,2,5]]}
[{"$f":"'Hinweise - bitte beachten'!A1:A1","v":"swhv-Obedience Auswertung"}]
[]
["Klasse 3: (Gruppen J, K und L)",null,null,null,null,null,null,null,null,null,null,null,null,null,{"$f":"IF(SUM('Liste Klasse 3'!H8:R68)=0,\"Sortieren OK\",\"KEIN Sortieren!\")","v":"Sortieren OK"}]
["Nr.","Los","Gruppe","ID","Hundeführer/-in","Verein","Verband","Hundename","Rasse","R/H","SH","Wurftag","Zucht.Nr.","Täto","Chip","LB.Nr."]
[null,null,null,{"$f":"IF(A5=\"\",\"\",A5&\" / \"&B5&\" / Klasse 3\")","v":""},null,null,null,null,null,null,null,null,null,null,null,null,null,null,null,null,null,null,"D01"]
[null,null,null,"",null,null,null,null,null,null,null,null,null,null,null,null,null,null,null,null,null,null,"D02"]
[null,null,null,"",null,null,null,null,null,null,null,null,null,null,null,null,null,null,null,null,null,null,"D03"]
[null,null,null,"",null,null,null,null,null,null,null,null,null,null,null,null,null,null,null,null,null,null,"D04"]
[null,null,null,"",null,null,null,null,null,null,null,null,null,null,null,null,null,null,null,null,null,null,"D05"]
[null,null,null,"",null,null,null,null,null,null,null,null,null,null,null,null,null,null,null,null,null,null,"D06"]
[null,null,null,"",null,null,null,null,null,null,null,null,null,null,null,null,null,null,null,null,null,null,"D07"]
[null,null,null,"",null,null,null,null,null,null,null,null,null,null,null,null,null,null,null,null,null,null,"D08"]
[null,null,null,"",null,null,null,null,null,null,null,null,null,null,null,null,null,null,null,null,null,null,"D09"]
[null,null,null,"",null,null,null,null,null,null,null,null,null,null,null,null,null,null,null,null,null,null,"D10"]
[null,null,null,"",null,null,null,null,null,null,null,null,null,null,null,null,null,null,null,null,null,null,"D11"]
[null,null,null,"",null,null,null,null,null,null,null,null,null,null,null,null,null,null,null,null,null,null,"D12"]
[null,null,null,"",null,null,null,null,null,null,null,null,null,null,null,null,null,null,null,null,null,null,"D13"]
[null,null,null,"",null,null,null,null,null,null,null,null,null,null,null,null,null,null,null,null,null,null,"D14"]
[null,null,null,"",null,null,null,null,null,null,null,null,null,null,null,null,null,null,null,null,null,null,"D15"]
[null,null,null,"",null,null,null,null,null,null,null,null,null,null,null,null,null,null,null,null,null,null,"D16"]
[null,null,null,"",null,null,null,null,null,null,null,null,null,null,null,null,null,null,null,null,null,null,"D17"]
[null,null,null,"",null,null,null,null,null,null,null,null,null,null,null,null,null,null,null,null,null,null,"D18"]
[null,null,null,"",null,null,null,null,null,null,null,null,null,null,null,null,null,null,null,null,null,null,"D19"]
[null,null,null,"",null,null,null,null,null,null,null,null,null,null,null,null,null,null,null,null,null,null,"D20"]
[null,null,null,"",null,null,null,null,null,null,null,null,null,null,null,null,null,null,null,null,null,null,"D21"]
[null,null,null,"",null,null,null,null,null,null,null,null,null,null,null,null,null,null,null,null,null,null,"D22"]
[null,null,null,"",null,null,null,null,null,null,null,null,null,null,null,null,null,null,null,null,null,null,"D23"]
[null,null,null,"",null,null,null,null,null,null,null,null,null,null,null,null,null,null,null,null,null,null,"D24"]
[null,null,null,"",null,null,null,null,null,null,null,null,null,null,null,null,null,null,null,null,null,null,"D25"]
[null,null,null,"",null,null,null,null,null,null,null,null,null,null,null,null,null,null,null,null,null,null,"D26"]
[null,null,null,"",null,null,null,null,null,null,null,null,null,null,null,null,null,null,null,null,null,null,"D27"]
[null,null,null,"",null,null,null,null,null,null,null,null,null,null,null,null,null,null,null,null,null,null,"D28"]
[null,null,null,"",null,null,null,null,null,null,null,null,null,null,null,null,null,null,null,null,null,null,"D29"]
[null,null,null,"",null,null,null,null,null,null,null,null,null,null,null,null,null,null,null,null,null,null,"D30"]
[null,null,null,"",null,null,null,null,null,null,null,null,null,null,null,null,null,null,null,null,null,null,"D31"]
[null,null,null,"",null,null,null,null,null,null,null,null,null,null,null,null,null,null,null,null,null,null,"D32"]
[null,null,null,{"$f":"IF(A37=\"\",\"\",A37&\" / \"&B37&\" / Klasse 3\")","v":""},null,null,null,null,null,null,null,null,null,null,null,null,null,null,null,null,null,null,"D33"]
[null,null,null,"",null,null,null,null,null,null,null,null,null,null,null,null,null,null,null,null,null,null,"D34"]
[null,null,null,"",null,null,null,null,null,null,null,null,null,null,null,null,null,null,null,null,null,null,"D35"]
[null,null,null,"",null,null,null,null,null,null,null,null,null,null,null,null,null,null,null,null,null,null,"D36"]
[null,null,null,"",null,null,null,null,null,null,null,null,null,null,null,null,null,null,null,null,null,null,"D37"]
[null,null,null,"",null,null,null,null,null,null,null,null,null,null,null,null,null,null,null,null,null,null,"D38"]
[null,null,null,"",null,null,null,null,null,null,null,null,null,null,null,null,null,null,null,null,null,null,"D39"]
[null,null,null,"",null,null,null,null,null,null,null,null,null,null,null,null,null,null,null,null,null,null,"D40"]
[null,null,null,"",null,null,null,null,null,null,null,null,null,null,null,null,null,null,null,null,null,null,"D41"]
[null,null,null,"",null,null,null,null,null,null,null,null,null,null,null,null,null,null,null,null,null,null,"D42"]
[null,null,null,"",null,null,null,null,null,null,null,null,null,null,null,null,null,null,null,null,null,null,"D43"]
[null,null,null,"",null,null,null,null,null,null,null,null,null,null,null,null,null,null,null,null,null,null,"D44"]
[null,null,null,"",null,null,null,null,null,null,null,null,null,null,null,null,null,null,null,null,null,null,"D45"]
[null,null,null,"",null,null,null,null,null,null,null,null,null,null,null,null,null,null,null,null,null,null,"D46"]
[null,null,null,"",null,null,null,null,null,null,null,null,null,null,null,null,null,null,null,null,null,null,"D47"]
[null,null,null,"",null,null,null,null,null,null,null,null,null,null,null,null,null,null,null,null,null,null,"D48"]
[null,null,null,"",null,null,null,null,null,null,null,null,null,null,null,null,null,null,null,null,null,null,"D49"]
[null,null,null,"",null,null,null,null,null,null,null,null,null,null,null,null,null,null,null,null,null,null,"D50"]
[null,null,null,"",null,null,null,null,null,null,null,null,null,null,null,null,null,null,null,null,null,null,"D51"]
[null,null,null,"",null,null,null,null,null,null,null,null,null,null,null,null,null,null,null,null,null,null,"D52"]
[null,null,null,"",null,null,null,null,null,null,null,null,null,null,null,null,null,null,null,null,null,null,"D53"]
[null,null,null,"",null,null,null,null,null,null,null,null,null,null,null,null,null,null,null,null,null,null,"D54"]
[null,null,null,"",null,null,null,null,null,null,null,null,null,null,null,null,null,null,null,null,null,null,"D55"]
[null,null,null,"",null,null,null,null,null,null,null,null,null,null,null,null,null,null,null,null,null,null,"D56"]
[null,null,null,"",null,null,null,null,null,null,null,null,null,null,null,null,null,null,null,null,null,null,"D57"]
[null,null,null,"",null,null,null,null,null,null,null,null,null,null,null,null,null,null,null,null,null,null,"D58"]
[null,null,null,"",null,null,null,null,null,null,null,null,null,null,null,null,null,null,null,null,null,null,"D59"]
[null,null,null,"",null,null,null,null,null,null,null,null,null,null,null,null,null,null,null,null,null,null,"D60"]
[null,null,null,"",null,null,null,null,null,null,null,null,null,null,null,null,null,null,null,null,null,null,"D61"]

{"sheet":"Daten Sen","index":6,"n_rows":35,"n_cols":23,"rows_kept":35,"cut":false,"hidden":false,"merged":[[0,0,0,15],[2,0,2,5]]}
[{"$f":"'Hinweise - bitte beachten'!A1:A1","v":"swhv-Obedience Auswertung"}]
[]
["Klasse S - Senior: (Gruppen M, N und O)",null,null,null,null,null,null,null,null,null,null,null,null,null,{"$f":"IF(SUM('Liste Senioren'!H8:R38)=0,\"Sortieren OK\",\"KEIN Sortieren!\")","v":"Sortieren OK"}]
["Nr.","Los","Gruppe","ID","Hundeführer/-in","Verein","Verband","Hundename","Rasse","R/H","SH","Wurftag","Zucht.Nr.","Täto","Chip","LB.Nr."]
[null,null,null,{"$f":"IF(A5=\"\",\"\",A5&\" / \"&B5&\" / Klasse S\")","v":""},null,null,null,null,null,null,null,null,null,null,null,null,null,null,null,null,null,null,"E01"]
[null,null,null,"",null,null,null,null,null,null,null,null,null,null,null,null,null,null,null,null,null,null,"E02"]
[null,null,null,"",null,null,null,null,null,null,null,null,null,null,null,null,null,null,null,null,null,null,"E03"]
[null,null,null,"",null,null,null,null,null,null,null,null,null,null,null,null,null,null,null,null,null,null,"E04"]
[null,null,null,"",null,null,null,null,null,null,null,null,null,null,null,null,null,null,null,null,null,null,"E05"]
[null,null,null,"",null,null,null,null,null,null,null,null,null,null,null,null,null,null,null,null,null,null,"E06"]
[null,null,null,"",null,null,null,null,null,null,null,null,null,null,null,null,null,null,null,null,null,null,"E07"]
[null,null,null,"",null,null,null,null,null,null,null,null,null,null,null,null,null,null,null,null,null,null,"E08"]
[null,null,null,"",null,null,null,null,null,null,null,null,null,null,null,null,null,null,null,null,null,null,"E09"]
[null,null,null,"",null,null,null,null,null,null,null,null,null,null,null,null,null,null,null,null,null,null,"E10"]
[null,null,null,"",null,null,null,null,null,null,null,null,null,null,null,null,null,null,null,null,null,null,"E11"]
[null,null,null,"",null,null,null,null,null,null,null,null,null,null,null,null,null,null,null,null,null,null,"E12"]
[null,null,null,"",null,null,null,null,null,null,null,null,null,null,null,null,null,null,null,null,null,null,"E13"]
[null,null,null,"",null,null,null,null,null,null,null,null,null,null,null,null,null,null,null,null,null,null,"E14"]
[null,null,null,"",null,null,null,null,null,null,null,null,null,null,null,null,null,null,null,null,null,null,"E15"]
[null,null,null,"",null,null,null,null,null,null,null,null,null,null,null,null,null,null,null,null,null,null,"E16"]
[null,null,null,"",null,null,null,null,null,null,null,null,null,null,null,null,null,null,null,null,null,null,"E17"]
[null,null,null,"",null,null,null,null,null,null,null,null,null,null,null,null,null,null,null,null,null,null,"E18"]
[null,null,null,{"$f":"IF(A23=\"\",\"\",A23&\" / \"&B23&\" / Klasse S\")","v":""},null,null,null,null,null,null,null,null,null,null,null,null,null,null,null,null,null,null,"E19"]
[null,null,null,"",null,null,null,null,null,null,null,null,null,null,null,null,null,null,null,null,null,null,"E20"]
[null,null,null,"",null,null,null,null,null,null,null,null,null,null,null,null,null,null,null,null,null,null,"E21"]
[null,null,null,"",null,null,null,null,null,null,null,null,null,null,null,null,null,null,null,null,null,null,"E22"]
[null,null,null,"",null,null,null,null,null,null,null,null,null,null,null,null,null,null,null,null,null,null,"E23"]
[null,null,null,"",null,null,null,null,null,null,null,null,null,null,null,null,null,null,null,null,null,null,"E24"]
[null,null,null,"",null,null,null,null,null,null,null,null,null,null,null,null,null,null,null,null,null,null,"E25"]
[null,null,null,"",null,null,null,null,null,null,null,null,null,null,null,null,null,null,null,null,null,null,"E26"]
[null,null,null,"",null,null,null,null,null,null,null,null,null,null,null,null,null,null,null,null,null,null,"E27"]
[null,null,null,"",null,null,null,null,null,null,null,null,null,null,null,null,null,null,null,null,null,null,"E28"]
[null,null,null,"",null,null,null,null,null,null,null,null,null,null,null,null,null,null,null,null,null,null,"E29"]
[null,null,null,"",null,null,null,null,null,null,null,null,null,null,null,null,null,null,null,null,null,null,"E30"]
[null,null,null,"",null,null,null,null,null,null,null,null,null,null,null,null,null,null,null,null,null,null,"E31"]

{"sheet":"Übersicht Übungen","index":7,"n_rows":72,"n_cols":15,"rows_kept":72,"cut":false,"hidden":false,"merged":[[60,6,60,8],[46,6,46,8],[2,0,2,1],[0,0,0,8],[16,0,16,1],[30,0,30,1],[16,6,16,8],[17,6,17,8],[2,2,2,4],[16,2,16,4],[2,6,2,8],[3,6,3,8],[30,2,30,4],[30,6,30,8],[45,0,45,1],[31,6,31,8],[45,6,45,8],[45,2,45,4],[59,0,59,1],[59,2,59,4],[59,6,59,8]]}
["Übersicht der Übungen und Festlegung der Reihenfolge der Einzel-Vorführungen",null,null,null,null,null,null,null,null,null,{"$f":"IF(SUM('Liste Beginner'!H8:R68)+SUM('Liste Klasse 1'!H8:R68)+SUM('Liste Klasse 2'!H8:R68)+SUM('Liste Klasse 3'!H8:R68)+SUM('Liste Senioren'!H8:R68)=0,\"Sortieren OK\",\"KEIN Sortieren!\")","v":"Sortieren OK"}]
[]
["Übung",null,"Beginner-Klasse",null,null,null,"Wertnotenschlüssel"]
["Nummer","Reihenfolge","Koeffizient","Art","Bezeichnung",null,"Beginner"]
[1,1,4,"Gruppe","Verhalten gegenüber anderen Hunden",null,"WN","von","bis"]
[2,2,3,"Gruppe","Stehen und Betasten",null,"V",256,320]
[3,3,3,"Gruppe","2 Minuten Liegen mit Sichtkontakt",null,"SG",224,255.5]
[4,4,3,"Einzel","Freifolge",null,"G",192,223.5]
[5,5,2,"Einzel","Sitz oder Platz aus der Bewegung",null,"oAK",0,191.5]
[6,6,3,"Einzel","Voraussenden in ein Quadrat (10m) mit Platz"]
[7,7,3,"Einzel","Abrufen"]
[8,8,3,"Einzel","Apport auf ebener Erde"]
[9,9,3,"Einzel","Distanzkontrolle, 3m, 2 Wechsel"]
[10,10,3,"Einzel","Um eine Pylonengruppe/Tonne (5m) schicken"]
[11,11,2,"Einzel","Gesamteindruck"]
[]
["Übung",null,"Klasse 1",null,null,null,"Wertnotenschlüssel"]
["Nummer","Reihenfolge","Koeffizient","Art","Bezeichnung",null,"Klasse 1",null,null,null,null,1,3,"Gruppe","1 Minute Sitzen in einer Gruppe, Hundeführer in Sicht"]
[1,1,3,"Gruppe","1 Minute Sitzen in einer Gruppe, Hundeführer in Sicht",null,"WN","von","bis",null,null,2,4,"Einzel","Freifolge"]
[2,2,4,"Einzel","Freifolge",null,"V",256,320,null,null,3,3,"Einzel","Steh oder Sitz oder Platz aus der Bewegung"]
[3,3,3,"Einzel","Steh oder Sitz oder Platz aus der Bewegung",null,"SG",224,255.5,null,null,4,4,"Einzel","Abrufen"]
[4,4,4,"Einzel","Abrufen",null,"G",192,223.5,null,null,5,4,"Einzel","In ein Quadrat schicken mit Platz"]
[5,5,4,"Einzel","In ein Quadrat schicken mit Platz",null,"oAK",0,191.5,null,null,6,4,"Einzel","Distanzkontrolle, 5m"]
[6,6,4,"Einzel","Distanzkontrolle, 5m",null,null,null,null,null,null,7,4,"Einzel","Apportieren und Sprung über Hürde"]
[7,7,4,"Einzel","Apportieren und Sprung über Hürde",null,null,null,null,null,null,8,4,"Einzel","Um eine Pylonengruppe/Tonne herumschicken und zurückkehren"]
[8,8,4,"Einzel","Um eine Pylonengruppe/Tonne herumschicken und zurückkehren",null,null,null,null,null,null,9,2,"Einzel","Gesamteindruck"]
[9,9,2,"Einzel","Gesamteindruck"]
[10,10,0]
[11,11,0]
[]
["Übung",null,"Klasse 2",null,null,null,"Wertnotenschlüssel"]
["Nummer","Reihenfolge","Koeffizient","Art","Bezeichnung",null,"Klasse 2"]
[1,1,3,"Gruppe","2 Minuten Liegen in einer Gruppe, HF außer Sicht",null,"WN","von","bis"]
[2,2,4,"Einzel","Freifolge",null,"V",256,320]
[3,3,3,"Einzel","Steh oder Sitz oder Platz aus der Bewegung (2 Positionen)",null,"SG",224,255.5]
[4,4,3,"Einzel","Abrufen mit Steh",null,"G",192,223.5]
[5,5,4,"Einzel","In ein Quadrat schicken mit Platz und abrufen",null,"oAK",0,191.5]
[6,6,3,"Einzel","Apportieren mit Richtungsanweisung"]
[7,7,3,"Einzel","Geruchsidentifizierung aus 6 Holzgegenständen"]
[8,8,4,"Einzel","Distanzkontrolle aus 10 m"]
[9,9,3,"Einzel","Pylonengrp/Tonne schicken, Steh/Platz und springen"]
[10,10,2,"Einzel","Gesamteindruck"]
[11,11,0]
[]
[]
["Übung",null,"FCI Klasse 3",null,null,null,"Wertnotenschlüssel"]
["Nummer","Reihenfolge","Koeffizient","Art","Bezeichnung",null,"FCI Klasse 3"]
[1,1,2,"Gruppe","2 Minuten Sitzen in der Gruppe außer Sicht",null,"WN","von","bis"]
[2,2,2,"Gruppe","1 Minute Liegen in der Gruppe mit Abrufen",null,"V",256,320]
[3,3,4,"Einzel","Freifolge",null,"SG",224,255.5]
[4,4,3,"Einzel","Positionen aus der Bewegung",null,"G",192,223.5]
[5,5,3,"Einzel","Abrufen mit Steh/Sitz/Platz",null,"oAK",0,191.5]
[6,6,4,"Einzel","In ein Quadrat schicken mit Richtungsanweisung, Platz und abrufen"]
[7,7,3,"Einzel","Apportieren auf Anweisung"]
[8,8,4,"Einzel","Pylonengrp/Tonne schicken, Steh/Sitz/Platz,apportieren und springen"]
[9,9,3,"Einzel","Geruchsidentifizierung und apportieren"]
[10,10,4,"Einzel","Distanzkontrolle"]
[11,11,0]
[]
["Übung",null,"Klasse S",null,null,null,"Wertnotenschlüssel"]
["Nummer","Reihenfolge","Koeffizient","Art","Bezeichnung",null,"Klasse S"]
[1,1,4,"Gruppe","2 Minuten Liegen in einer Gruppe, Hundeführer außer Sicht",null,"WN","von","bis"]
[2,2,3,"Einzel","Freifolge",null,"V",256,320]
[3,3,3,"Einzel","Abrufen",null,"SG",224,255.5]
[4,4,3,"Einzel","In ein 15 m entferntes Quadrat schicken mit Platz",null,"G",192,223.5]
[5,5,4,"Einzel","Steh und/oder Sitz und/oder Platz aus der Bewegung",null,"oAK",0,191.5]
[6,6,3,"Einzel","Apportieren mit Richtungsanweisung"]
[7,7,2,"Einzel","Um eine 5 m entfernte Pylonengruppe/Tonne herumschicken"]
[8,8,4,"Einzel","Geruchsidentifizierung aus 6 Holzgegenständen"]
[9,9,4,"Einzel","Distanzkontrolle aus 10 Meter"]
[10,10,2,"Einzel","Gesamteindruck"]
[11,11,0]

{"sheet":"Statistik","index":8,"n_rows":54,"n_cols":6,"rows_kept":54,"cut":false,"hidden":false,"merged":[[46,0,46,5],[49,2,49,4],[42,0,42,5],[8,1,8,5],[0,0,0,5],[2,3,2,4],[4,1,4,5],[6,1,6,2],[6,3,6,4],[31,0,31,5],[9,1,9,5],[10,1,10,5],[11,1,11,5],[12,1,12,5],[13,1,13,5],[14,1,14,5],[26,0,26,5],[27,0,27,5],[28,0,28,5],[29,0,29,5],[30,0,30,5],[34,0,34,5],[36,0,36,1],[36,2,36,5],[37,0,37,1],[37,2,37,5]]}
["Obedience Prüfungsstatistik"]
[]
[null,null,null,"Vereinsnummer",null,{"$f":"Stammdaten!O4","v":0}]
[]
["Verein",{"$f":"Stammdaten!C4","v":0}]
[]
["Datum",{"$f":"Stammdaten!C6","v":"00:00:00"},null,"Kreisgruppe",null,{"$f":"Stammdaten!O5","v":6}]
[]
["Leistungsrichter/in",{"$f":"IF(Stammdaten!H3=\"\",\"\",Stammdaten!H3)","v":""}]
["Prüfungsleiter/in",{"$f":"IF(Stammdaten!C7=\"\",\"\",Stammdaten!C7)","v":""}]
["Ringsteward Beginner",{"$f":"IF(Stammdaten!H4=\"\",\"\",Stammdaten!H4)","v":""}]
["Ringsteward Klasse 1",{"$f":"IF(Stammdaten!H5=\"\",\"\",Stammdaten!H5)","v":""}]
["Ringsteward Klasse 2",{"$f":"IF(Stammdaten!H6=\"\",\"\",Stammdaten!H6)","v":""}]
["Ringsteward Klasse 3",{"$f":"IF(Stammdaten!H7=\"\",\"\",Stammdaten!H7)","v":""}]
["Ringsteward Klasse S",{"$f":"IF(Stammdaten!H8=\"\",\"\",Stammdaten!H8)","v":""}]
[]
["Wertnotenspiegel","Beginner","Klasse 1","Klasse 2","Klasse 3","Klasse S"]
["Vorzüglich",{"$f":"COUNTIFS('Liste Beginner'!$T8:$T48,\"V\",'Liste Beginner'!$U8:$U48,\"<>R*\")","v":0},{"$f":"COUNTIFS('Liste Klasse 1'!$T8:$T38,\"V\",'Liste Klasse 1'!$U8:$U38,\"<>R*\")","v":0},{"$f":"COUNTIFS('Liste Klasse 2'!$T8:$T38,\"V\",'Liste Klasse 2'!$U8:$U38,\"<>R*\")","v":0},{"$f":"COUNTIFS('Liste Klasse 3'!$T8:$T68,\"V\",'Liste Klasse 3'!$U8:$U68,\"<>R*\")","v":0},{"$f":"COUNTIFS('Liste Senioren'!$T8:$T38,\"V\",'Liste Senioren'!$U8:$U38,\"<>R*\")","v":0}]
["Sehr gut",{"$f":"COUNTIFS('Liste Beginner'!$T8:$T48,\"SG\",'Liste Beginner'!$U8:$U48,\"<>R*\")","v":0},{"$f":"COUNTIFS('Liste Klasse 1'!$T8:$T38,\"SG\",'Liste Klasse 1'!$U8:$U38,\"<>R*\")","v":0},{"$f":"COUNTIFS('Liste Klasse 2'!$T8:$T38,\"SG\",'Liste Klasse 2'!$U8:$U38,\"<>R*\")","v":0},{"$f":"COUNTIFS('Liste Klasse 3'!$T8:$T68,\"SG\",'Liste Klasse 3'!$U8:$U68,\"<>R*\")","v":0},{"$f":"COUNTIFS('Liste Senioren'!$T8:$T38,\"SG\",'Liste Senioren'!$U8:$U38,\"<>R*\")","v":0}]
["Gut",{"$f":"COUNTIFS('Liste Beginner'!$T8:$T48,\"G\",'Liste Beginner'!$U8:$U48,\"<>R*\")","v":0},{"$f":"COUNTIFS('Liste Klasse 1'!$T8:$T38,\"G\",'Liste Klasse 1'!$U8:$U38,\"<>R*\")","v":0},{"$f":"COUNTIFS('Liste Klasse 2'!$T8:$T38,\"G\",'Liste Klasse 2'!$U8:$U38,\"<>R*\")","v":0},{"$f":"COUNTIFS('Liste Klasse 3'!$T8:$T68,\"G\",'Liste Klasse 3'!$U8:$U68,\"<>R*\")","v":0},{"$f":"COUNTIFS('Liste Senioren'!$T8:$T38,\"G\",'Liste Senioren'!$U8:$U38,\"<>R*\")","v":0}]
["Ohne AKZ",{"$f":"COUNTIFS('Liste Beginner'!$T8:$T48,\"oAK\",'Liste Beginner'!$U8:$U48,\"<>R*\")","v":0},{"$f":"COUNTIFS('Liste Klasse 1'!$T8:$T38,\"oAK\",'Liste Klasse 1'!$U8:$U38,\"<>R*\")","v":0},{"$f":"COUNTIFS('Liste Klasse 2'!$T8:$T38,\"oAK\",'Liste Klasse 2'!$U8:$U38,\"<>R*\")","v":0},{"$f":"COUNTIFS('Liste Klasse 3'!$T8:$T68,\"oAK\",'Liste Klasse 3'!$U8:$U68,\"<>R*\")","v":0},{"$f":"COUNTIFS('Liste Senioren'!$T8:$T38,\"oAK\",'Liste Senioren'!$U8:$U38,\"<>R*\")","v":0}]
["Rueckgestuft",{"$f":"COUNTIF('Liste Beginner'!$T8:$T48,\"R*\")","v":0},{"$f":"COUNTIF('Liste Klasse 1'!$T8:$T38,\"R*\")","v":0},{"$f":"COUNTIF('Liste Klasse 2'!$T8:$T38,\"R*\")","v":0},{"$f":"COUNTIF('Liste Klasse 3'!$T8:$T68,\"R*\")","v":0},{"$f":"COUNTIF('Liste Senioren'!$T8:$T38,\"R*\")","v":0}]
["insg. Disqualifiziert",{"$f":"COUNTIF('Liste Beginner'!$U8:$U48,\"*DIS\")","v":0},{"$f":"COUNTIF('Liste Klasse 1'!$U8:$U38,\"*DIS\")","v":0},{"$f":"COUNTIF('Liste Klasse 2'!$U8:$U38,\"*DIS\")","v":0},{"$f":"COUNTIF('Liste Klasse 3'!$U8:$U68,\"*DIS\")","v":0},{"$f":"COUNTIF('Liste Senioren'!$U8:$U38,\"*DIS\")","v":0}]
[]
["Gesamt",{"$f":"SUM(B18:B22)","v":0},{"$f":"SUM(C18:C22)","v":0},{"$f":"SUM(D18:D22)","v":0},{"$f":"SUM(E18:E22)","v":0},{"$f":"SUM(F18:F22)","v":0}]
[]
["Die Prüfung wurde ordnungsgemäß durch den swhv geschützt."]
["Sämtliche Teilnehmer und Hundeeigentümer sind Mitglieder eines FCI/VDH angeschlossenen Vereins."]
["Die Identitätskontrolle wurde bei allen zur Prüfung gemeldeten Hunden durchgeführt."]
["Teilnehmer und Hunde erfüllen alle, durch die PO vorgeschriebenen, Vorraussetzungen."]
["Alle nötigen Formulare und Unterlagen der Teilnehmer, Hunde, Ringstewards"]
["und Leistungsrichter lagen vor. Die Abwicklung der Prüfung erfolgte nach den Vorgaben"]
["der FCI, des VDH, des dhv, des swhv und der derzeit gültigen Prüfungsordnung."]
["Datenschutzerklärung ist erfolgt."]
["Dieses Blatt ist innerhalb einer Woche vom LR ( inclusive der Gesamt-Ergebnisliste)\nder swhv-Geschäftsstelle zuzusenden."]
[]
["Unterschrift Prüfungsleiter/in:"]
["Unterschrift/Stempel Leistungsrichter/in:"]
[]
[]
[]
[]
["Rückstufungsstatistik"]
[]
[]
[]
["Ausdrucken der Seite 2 nur,\nwenn zurückgestufte Hunde teilgenommen haben"]
[]
[]
[null,null,"Gestartet in:"]
[null,"bish. AK","Beginner","Klasse 1","Klasse 2"]
[null,1,{"$f":"COUNTIF('Daten Beg'!Q5:Q45,\"1\")","v":0},{"$f":"COUNTIF('Daten K1'!Q5:Q35,\"1\")","v":0},{"$f":"COUNTIF('Daten K2'!Q5:Q35,\"1\")","v":0}]
[null,2,{"$f":"COUNTIF('Daten Beg'!Q5:Q45,\"2\")","v":0},{"$f":"COUNTIF('Daten K1'!Q5:Q35,\"2\")","v":0},{"$f":"COUNTIF('Daten K2'!Q5:Q35,\"2\")","v":0}]
[null,3,{"$f":"COUNTIF('Daten Beg'!Q5:Q45,\"3\")","v":0},{"$f":"COUNTIF('Daten K1'!Q5:Q35,\"3\")","v":0},{"$f":"COUNTIF('Daten K2'!Q5:Q35,\"3\")","v":0}]

{"sheet":"Richterblatt","index":9,"n_rows":29,"n_cols":12,"rows_kept":29,"cut":false,"hidden":false,"merged":[[0,7,0,9],[0,0,0,6],[7,0,7,9],[8,3,8,6],[1,3,1,6],[2,3,2,6],[3,3,3,6],[4,3,4,6],[2,0,4,1],[5,7,5,9],[6,7,6,9],[1,7,1,9],[2,7,2,9],[3,7,3,9],[1,0,1,1],[4,7,4,9],[6,0,6,1],[5,0,5,1],[8,1,8,2],[9,1,9,2],[6,4,6,6],[5,4,5,6],[2,11,4,11],[10,1,10,2],[29,0,29,9],[23,7,23,9],[17,1,17,2],[18,1,18,2],[19,1,19,2],[21,0,21,1],[21,7,21,9],[27,0,28,1],[13,1,13,2],[14,1,14,2],[15,1,15,2],[16,1,16,2],[12,1,12,2],[11,1,11,2]]}
["swhv Richterblatt Obedience:",null,null,null,null,null,null,"Beginner",null,null,null,"<------ Zuerst Klasse auswählen"]
["Start-Nr.",null,"HF",{"$f":"VLOOKUP($A$3,IF(H1=\"Beginner\",'Daten Beg'!A5:Q45,IF(H1=\"Klasse 1\",'Daten K1'!A5:Q35,IF(H1=\"Klasse 2\",'Daten K2'!A5:Q35,IF(H1=\"Klasse 3\",'Daten K3'!A5:Q65,IF(H1=\"Senioren\",'Daten Sen'!A5:Q35,\"\"))))),5,FALSE)","v":{"$error":"#N/A"}},null,null,null,{"$f":"Stammdaten!C5","v":"z.B. Vereinsprf."}]
[null,null,"Verein",{"$f":"VLOOKUP($A$3,IF(H1=\"Beginner\",'Daten Beg'!A5:Q45,IF(H1=\"Klasse 1\",'Daten K1'!A5:Q35,IF(H1=\"Klasse 2\",'Daten K2'!A5:Q35,IF(H1=\"Klasse 3\",'Daten K3'!A5:Q65,IF(H1=\"Senioren\",'Daten Sen'!A5:Q35,\"\"))))),6,FALSE)","v":{"$error":"#N/A"}},null,null,null,{"$f":"Stammdaten!C4","v":0},null,null,null,"<------ nur die Startnummer eintragen !!!"]
[null,null,"Hundename",{"$f":"VLOOKUP($A$3,IF(H1=\"Beginner\",'Daten Beg'!A5:Q45,IF(H1=\"Klasse 1\",'Daten K1'!A5:Q35,IF(H1=\"Klasse 2\",'Daten K2'!A5:Q35,IF(H1=\"Klasse 3\",'Daten K3'!A5:Q65,IF(H1=\"Senioren\",'Daten Sen'!A5:Q35,\"\"))))),8,FALSE)","v":{"$error":"#N/A"}},null,null,null,"Veranstaltungstag:"]
[null,null,"Rasse",{"$f":"VLOOKUP($A$3,IF(H1=\"Beginner\",'Daten Beg'!A5:Q45,IF(H1=\"Klasse 1\",'Daten K1'!A5:Q35,IF(H1=\"Klasse 2\",'Daten K2'!A5:Q35,IF(H1=\"Klasse 3\",'Daten K3'!A5:Q65,IF(H1=\"Senioren\",'Daten Sen'!A5:Q35,\"\"))))),9,FALSE)","v":{"$error":"#N/A"}},null,null,null,{"$f":"Stammdaten!C6","v":"00:00:00"}]
[{"$f":"VLOOKUP($A$3,IF(H1=\"Beginner\",'Daten Beg'!A5:Q45,IF(H1=\"Klasse 1\",'Daten K1'!A5:Q35,IF(H1=\"Klasse 2\",'Daten K2'!A5:Q35,IF(H1=\"Klasse 3\",'Daten K3'!A5:Q65,IF(H1=\"Senioren\",'Daten Sen'!A5:Q35,\"\"))))),2,FALSE)","v":{"$error":"#N/A"}},null,"SH / Täto",{"$f":"VLOOKUP($A$3,IF(H1=\"Beginner\",'Daten Beg'!A5:Q45,IF(H1=\"Klasse 1\",'Daten K1'!A5:Q35,IF(H1=\"Klasse 2\",'Daten K2'!A5:Q35,IF(H1=\"Klasse 3\",'Daten K3'!A5:Q65,IF(H1=\"Senioren\",'Daten Sen'!A5:Q35,\"\"))))),11,FALSE)","v":{"$error":"#N/A"}},{"$f":"VLOOKUP($A$3,IF(H1=\"Beginner\",'Daten Beg'!A5:Q45,IF(H1=\"Klasse 1\",'Daten K1'!A5:Q35,IF(H1=\"Klasse 2\",'Daten K2'!A5:Q35,IF(H1=\"Klasse 3\",'Daten K3'!A5:Q65,IF(H1=\"Senioren\",'Daten Sen'!A5:Q35,\"\"))))),14,FALSE)","v":{"$error":"#N/A"}},null,null,"Leistungsrichter:"]
[{"$f":"\"Gruppe: \"&VLOOKUP($A$3,IF(H1=\"Beginner\",'Daten Beg'!A5:Q45,IF(H1=\"Klasse 1\",'Daten K1'!A5:Q35,IF(H1=\"Klasse 2\",'Daten K2'!A5:Q35,IF(H1=\"Klasse 3\",'Daten K3'!A5:Q65,IF(H1=\"Senioren\",'Daten Sen'!A5:Q35,\"\"))))),3,FALSE)","v":{"$error":"#N/A"}},null,"WT / Chip",{"$f":"VLOOKUP($A$3,IF(H1=\"Beginner\",'Daten Beg'!A5:Q45,IF(H1=\"Klasse 1\",'Daten K1'!A5:Q35,IF(H1=\"Klasse 2\",'Daten K2'!A5:Q35,IF(H1=\"Klasse 3\",'Daten K3'!A5:Q65,IF(H1=\"Senioren\",'Daten Sen'!A5:Q35,\"\"))))),12,FALSE)","v":{"$error":"#N/A"}},{"$f":"VLOOKUP($A$3,IF(H1=\"Beginner\",'Daten Beg'!A5:Q45,IF(H1=\"Klasse 1\",'Daten K1'!A5:Q35,IF(H1=\"Klasse 2\",'Daten K2'!A5:Q35,IF(H1=\"Klasse 3\",'Daten K3'!A5:Q65,IF(H1=\"Senioren\",'Daten Sen'!A5:Q35,\"\"))))),15,FALSE)","v":{"$error":"#N/A"}},null,null,{"$f":"Stammdaten!H3","v":0}]
[{"$f":"VLOOKUP($A$3,IF(H1=\"Beginner\",'Daten Beg'!A5:Q45,IF(H1=\"Klasse 1\",'Daten K1'!A5:Q35,IF(H1=\"Klasse 2\",'Daten K2'!A5:Q35,IF(H1=\"Klasse 3\",'Daten K3'!A5:Q65,IF(H1=\"Senioren\",'Daten Sen'!A5:Q35,\"\"))))),4,FALSE)","v":{"$error":"#N/A"}}]
["Nr.","Übung",null,"Bewertung",null,null,null,"Punkte","Koef.","Ergebnis"]
[{"$f":"INDEX(IF($H$1=\"Beginner\",UebBeginner,IF($H$1=\"Klasse 1\",UebKlasse1,IF($H$1=\"Klasse 2\",UebKlasse2,IF($H$1=\"Klasse 3\",UebKlasse3,IF($H$1=\"Senioren\",UebSenioren,\"\"))))),1,1)","v":1},{"$f":"VLOOKUP(INDEX(IF($H$1=\"Beginner\",UebBeginner,IF($H$1=\"Klasse 1\",UebKlasse1,IF($H$1=\"Klasse 2\",UebKlasse2,IF($H$1=\"Klasse 3\",UebKlasse3,IF($H$1=\"Senioren\",UebSenioren,\"\"))))),1,1),IF($H$1=\"Beginner\",UebBeginner,IF($H$1=\"Klasse 1\",UebKlasse1,IF($H$1=\"Klasse 2\",UebKlasse2,IF($H$1=\"Klasse 3\",UebKlasse3,IF($H$1=\"Senioren\",UebSenioren,\"\"))))),5,FALSE)","v":"Verhalten gegenüber anderen Hunden"},null,null,null,null,null,null,{"$f":"VLOOKUP(INDEX(IF($H$1=\"Beginner\",UebBeginner,IF($H$1=\"Klasse 1\",UebKlasse1,IF($H$1=\"Klasse 2\",UebKlasse2,IF($H$1=\"Klasse 3\",UebKlasse3,IF($H$1=\"Senioren\",UebSenioren,\"\"))))),1,1),IF($H$1=\"Beginner\",UebBeginner,IF($H$1=\"Klasse 1\",UebKlasse1,IF($H$1=\"Klasse 2\",UebKlasse2,IF($H$1=\"Klasse 3\",UebKlasse3,IF($H$1=\"Senioren\",UebSenioren,\"\"))))),3,FALSE)","v":4},null,null,"Achtung:\nZuvor die Reihenfolge der Übungen festlegen\n(falls geändert)"]
[{"$f":"INDEX(IF($H$1=\"Beginner\",UebBeginner,IF($H$1=\"Klasse 1\",UebKlasse1,IF($H$1=\"Klasse 2\",UebKlasse2,IF($H$1=\"Klasse 3\",UebKlasse3,IF($H$1=\"Senioren\",UebSenioren,\"\"))))),2,1)","v":2},{"$f":"VLOOKUP(INDEX(IF($H$1=\"Beginner\",UebBeginner,IF($H$1=\"Klasse 1\",UebKlasse1,IF($H$1=\"Klasse 2\",UebKlasse2,IF($H$1=\"Klasse 3\",UebKlasse3,IF($H$1=\"Senioren\",UebSenioren,\"\"))))),2,1),IF($H$1=\"Beginner\",UebBeginner,IF($H$1=\"Klasse 1\",UebKlasse1,IF($H$1=\"Klasse 2\",UebKlasse2,IF($H$1=\"Klasse 3\",UebKlasse3,IF($H$1=\"Senioren\",UebSenioren,\"\"))))),5,FALSE)","v":"Stehen und Betasten"},null,null,null,null,null,null,{"$f":"VLOOKUP(INDEX(IF($H$1=\"Beginner\",UebBeginner,IF($H$1=\"Klasse 1\",UebKlasse1,IF($H$1=\"Klasse 2\",UebKlasse2,IF($H$1=\"Klasse 3\",UebKlasse3,IF($H$1=\"Senioren\",UebSenioren,\"\"))))),2,1),IF($H$1=\"Beginner\",UebBeginner,IF($H$1=\"Klasse 1\",UebKlasse1,IF($H$1=\"Klasse 2\",UebKlasse2,IF($H$1=\"Klasse 3\",UebKlasse3,IF($H$1=\"Senioren\",UebSenioren,\"\"))))),3,FALSE)","v":3}]
[{"$f":"INDEX(IF($H$1=\"Beginner\",UebBeginner,IF($H$1=\"Klasse 1\",UebKlasse1,IF($H$1=\"Klasse 2\",UebKlasse2,IF($H$1=\"Klasse 3\",UebKlasse3,IF($H$1=\"Senioren\",UebSenioren,\"\"))))),3,1)","v":3},{"$f":"VLOOKUP(INDEX(IF($H$1=\"Beginner\",UebBeginner,IF($H$1=\"Klasse 1\",UebKlasse1,IF($H$1=\"Klasse 2\",UebKlasse2,IF($H$1=\"Klasse 3\",UebKlasse3,IF($H$1=\"Senioren\",UebSenioren,\"\"))))),3,1),IF($H$1=\"Beginner\",UebBeginner,IF($H$1=\"Klasse 1\",UebKlasse1,IF($H$1=\"Klasse 2\",UebKlasse2,IF($H$1=\"Klasse 3\",UebKlasse3,IF($H$1=\"Senioren\",UebSenioren,\"\"))))),5,FALSE)","v":"2 Minuten Liegen mit Sichtkontakt"},null,null,null,null,null,null,{"$f":"VLOOKUP(INDEX(IF($H$1=\"Beginner\",UebBeginner,IF($H$1=\"Klasse 1\",UebKlasse1,IF($H$1=\"Klasse 2\",UebKlasse2,IF($H$1=\"Klasse 3\",UebKlasse3,IF($H$1=\"Senioren\",UebSenioren,\"\"))))),3,1),IF($H$1=\"Beginner\",UebBeginner,IF($H$1=\"Klasse 1\",UebKlasse1,IF($H$1=\"Klasse 2\",UebKlasse2,IF($H$1=\"Klasse 3\",UebKlasse3,IF($H$1=\"Senioren\",UebSenioren,\"\"))))),3,FALSE)","v":3}]
[{"$f":"INDEX(IF($H$1=\"Beginner\",UebBeginner,IF($H$1=\"Klasse 1\",UebKlasse1,IF($H$1=\"Klasse 2\",UebKlasse2,IF($H$1=\"Klasse 3\",UebKlasse3,IF($H$1=\"Senioren\",UebSenioren,\"\"))))),4,1)","v":4},{"$f":"VLOOKUP(INDEX(IF($H$1=\"Beginner\",UebBeginner,IF($H$1=\"Klasse 1\",UebKlasse1,IF($H$1=\"Klasse 2\",UebKlasse2,IF($H$1=\"Klasse 3\",UebKlasse3,IF($H$1=\"Senioren\",UebSenioren,\"\"))))),4,1),IF($H$1=\"Beginner\",UebBeginner,IF($H$1=\"Klasse 1\",UebKlasse1,IF($H$1=\"Klasse 2\",UebKlasse2,IF($H$1=\"Klasse 3\",UebKlasse3,IF($H$1=\"Senioren\",UebSenioren,\"\"))))),5,FALSE)","v":"Freifolge"},null,null,null,null,null,null,{"$f":"VLOOKUP(INDEX(IF($H$1=\"Beginner\",UebBeginner,IF($H$1=\"Klasse 1\",UebKlasse1,IF($H$1=\"Klasse 2\",UebKlasse2,IF($H$1=\"Klasse 3\",UebKlasse3,IF($H$1=\"Senioren\",UebSenioren,\"\"))))),4,1),IF($H$1=\"Beginner\",UebBeginner,IF($H$1=\"Klasse 1\",UebKlasse1,IF($H$1=\"Klasse 2\",UebKlasse2,IF($H$1=\"Klasse 3\",UebKlasse3,IF($H$1=\"Senioren\",UebSenioren,\"\"))))),3,FALSE)","v":3}]
[{"$f":"INDEX(IF($H$1=\"Beginner\",UebBeginner,IF($H$1=\"Klasse 1\",UebKlasse1,IF($H$1=\"Klasse 2\",UebKlasse2,IF($H$1=\"Klasse 3\",UebKlasse3,IF($H$1=\"Senioren\",UebSenioren,\"\"))))),5,1)","v":5},{"$f":"VLOOKUP(INDEX(IF($H$1=\"Beginner\",UebBeginner,IF($H$1=\"Klasse 1\",UebKlasse1,IF($H$1=\"Klasse 2\",UebKlasse2,IF($H$1=\"Klasse 3\",UebKlasse3,IF($H$1=\"Senioren\",UebSenioren,\"\"))))),5,1),IF($H$1=\"Beginner\",UebBeginner,IF($H$1=\"Klasse 1\",UebKlasse1,IF($H$1=\"Klasse 2\",UebKlasse2,IF($H$1=\"Klasse 3\",UebKlasse3,IF($H$1=\"Senioren\",UebSenioren,\"\"))))),5,FALSE)","v":"Sitz oder Platz aus der Bewegung"},null,null,null,null,null,null,{"$f":"VLOOKUP(INDEX(IF($H$1=\"Beginner\",UebBeginner,IF($H$1=\"Klasse 1\",UebKlasse1,IF($H$1=\"Klasse 2\",UebKlasse2,IF($H$1=\"Klasse 3\",UebKlasse3,IF($H$1=\"Senioren\",UebSenioren,\"\"))))),5,1),IF($H$1=\"Beginner\",UebBeginner,IF($H$1=\"Klasse 1\",UebKlasse1,IF($H$1=\"Klasse 2\",UebKlasse2,IF($H$1=\"Klasse 3\",UebKlasse3,IF($H$1=\"Senioren\",UebSenioren,\"\"))))),3,FALSE)","v":2}]
[{"$f":"INDEX(IF($H$1=\"Beginner\",UebBeginner,IF($H$1=\"Klasse 1\",UebKlasse1,IF($H$1=\"Klasse 2\",UebKlasse2,IF($H$1=\"Klasse 3\",UebKlasse3,IF($H$1=\"Senioren\",UebSenioren,\"\"))))),6,1)","v":6},{"$f":"VLOOKUP(INDEX(IF($H$1=\"Beginner\",UebBeginner,IF($H$1=\"Klasse 1\",UebKlasse1,IF($H$1=\"Klasse 2\",UebKlasse2,IF($H$1=\"Klasse 3\",UebKlasse3,IF($H$1=\"Senioren\",UebSenioren,\"\"))))),6,1),IF($H$1=\"Beginner\",UebBeginner,IF($H$1=\"Klasse 1\",UebKlasse1,IF($H$1=\"Klasse 2\",UebKlasse2,IF($H$1=\"Klasse 3\",UebKlasse3,IF($H$1=\"Senioren\",UebSenioren,\"\"))))),5,FALSE)","v":"Voraussenden in ein Quadrat (10m) mit Platz"},null,null,null,null,null,null,{"$f":"VLOOKUP(INDEX(IF($H$1=\"Beginner\",UebBeginner,IF($H$1=\"Klasse 1\",UebKlasse1,IF($H$1=\"Klasse 2\",UebKlasse2,IF($H$1=\"Klasse 3\",UebKlasse3,IF($H$1=\"Senioren\",UebSenioren,\"\"))))),6,1),IF($H$1=\"Beginner\",UebBeginner,IF($H$1=\"Klasse 1\",UebKlasse1,IF($H$1=\"Klasse 2\",UebKlasse2,IF($H$1=\"Klasse 3\",UebKlasse3,IF($H$1=\"Senioren\",UebSenioren,\"\"))))),3,FALSE)","v":3}]
[{"$f":"INDEX(IF($H$1=\"Beginner\",UebBeginner,IF($H$1=\"Klasse 1\",UebKlasse1,IF($H$1=\"Klasse 2\",UebKlasse2,IF($H$1=\"Klasse 3\",UebKlasse3,IF($H$1=\"Senioren\",UebSenioren,\"\"))))),7,1)","v":7},{"$f":"VLOOKUP(INDEX(IF($H$1=\"Beginner\",UebBeginner,IF($H$1=\"Klasse 1\",UebKlasse1,IF($H$1=\"Klasse 2\",UebKlasse2,IF($H$1=\"Klasse 3\",UebKlasse3,IF($H$1=\"Senioren\",UebSenioren,\"\"))))),7,1),IF($H$1=\"Beginner\",UebBeginner,IF($H$1=\"Klasse 1\",UebKlasse1,IF($H$1=\"Klasse 2\",UebKlasse2,IF($H$1=\"Klasse 3\",UebKlasse3,IF($H$1=\"Senioren\",UebSenioren,\"\"))))),5,FALSE)","v":"Abrufen"},null,null,null,null,null,null,{"$f":"VLOOKUP(INDEX(IF($H$1=\"Beginner\",UebBeginner,IF($H$1=\"Klasse 1\",UebKlasse1,IF($H$1=\"Klasse 2\",UebKlasse2,IF($H$1=\"Klasse 3\",UebKlasse3,IF($H$1=\"Senioren\",UebSenioren,\"\"))))),7,1),IF($H$1=\"Beginner\",UebBeginner,IF($H$1=\"Klasse 1\",UebKlasse1,IF($H$1=\"Klasse 2\",UebKlasse2,IF($H$1=\"Klasse 3\",UebKlasse3,IF($H$1=\"Senioren\",UebSenioren,\"\"))))),3,FALSE)","v":3}]
[{"$f":"INDEX(IF($H$1=\"Beginner\",UebBeginner,IF($H$1=\"Klasse 1\",UebKlasse1,IF($H$1=\"Klasse 2\",UebKlasse2,IF($H$1=\"Klasse 3\",UebKlasse3,IF($H$1=\"Senioren\",UebSenioren,\"\"))))),8,1)","v":8},{"$f":"VLOOKUP(INDEX(IF($H$1=\"Beginner\",UebBeginner,IF($H$1=\"Klasse 1\",UebKlasse1,IF($H$1=\"Klasse 2\",UebKlasse2,IF($H$1=\"Klasse 3\",UebKlasse3,IF($H$1=\"Senioren\",UebSenioren,\"\"))))),8,1),IF($H$1=\"Beginner\",UebBeginner,IF($H$1=\"Klasse 1\",UebKlasse1,IF($H$1=\"Klasse 2\",UebKlasse2,IF($H$1=\"Klasse 3\",UebKlasse3,IF($H$1=\"Senioren\",UebSenioren,\"\"))))),5,FALSE)","v":"Apport auf ebener Erde"},null,null,null,null,null,null,{"$f":"VLOOKUP(INDEX(IF($H$1=\"Beginner\",UebBeginner,IF($H$1=\"Klasse 1\",UebKlasse1,IF($H$1=\"Klasse 2\",UebKlasse2,IF($H$1=\"Klasse 3\",UebKlasse3,IF($H$1=\"Senioren\",UebSenioren,\"\"))))),8,1),IF($H$1=\"Beginner\",UebBeginner,IF($H$1=\"Klasse 1\",UebKlasse1,IF($H$1=\"Klasse 2\",UebKlasse2,IF($H$1=\"Klasse 3\",UebKlasse3,IF($H$1=\"Senioren\",UebSenioren,\"\"))))),3,FALSE)","v":3}]
[{"$f":"INDEX(IF($H$1=\"Beginner\",UebBeginner,IF($H$1=\"Klasse 1\",UebKlasse1,IF($H$1=\"Klasse 2\",UebKlasse2,IF($H$1=\"Klasse 3\",UebKlasse3,IF($H$1=\"Senioren\",UebSenioren,\"\"))))),9,1)","v":9},{"$f":"VLOOKUP(INDEX(IF($H$1=\"Beginner\",UebBeginner,IF($H$1=\"Klasse 1\",UebKlasse1,IF($H$1=\"Klasse 2\",UebKlasse2,IF($H$1=\"Klasse 3\",UebKlasse3,IF($H$1=\"Senioren\",UebSenioren,\"\"))))),9,1),IF($H$1=\"Beginner\",UebBeginner,IF($H$1=\"Klasse 1\",UebKlasse1,IF($H$1=\"Klasse 2\",UebKlasse2,IF($H$1=\"Klasse 3\",UebKlasse3,IF($H$1=\"Senioren\",UebSenioren,\"\"))))),5,FALSE)","v":"Distanzkontrolle, 3m, 2 Wechsel"},null,null,null,null,null,null,{"$f":"VLOOKUP(INDEX(IF($H$1=\"Beginner\",UebBeginner,IF($H$1=\"Klasse 1\",UebKlasse1,IF($H$1=\"Klasse 2\",UebKlasse2,IF($H$1=\"Klasse 3\",UebKlasse3,IF($H$1=\"Senioren\",UebSenioren,\"\"))))),9,1),IF($H$1=\"Beginner\",UebBeginner,IF($H$1=\"Klasse 1\",UebKlasse1,IF($H$1=\"Klasse 2\",UebKlasse2,IF($H$1=\"Klasse 3\",UebKlasse3,IF($H$1=\"Senioren\",UebSenioren,\"\"))))),3,FALSE)","v":3}]
[{"$f":"INDEX(IF($H$1=\"Beginner\",UebBeginner,IF($H$1=\"Klasse 1\",UebKlasse1,IF($H$1=\"Klasse 2\",UebKlasse2,IF($H$1=\"Klasse 3\",UebKlasse3,IF($H$1=\"Senioren\",UebSenioren,\"\"))))),10,1)","v":10},{"$f":"VLOOKUP(INDEX(IF($H$1=\"Beginner\",UebBeginner,IF($H$1=\"Klasse 1\",UebKlasse1,IF($H$1=\"Klasse 2\",UebKlasse2,IF($H$1=\"Klasse 3\",UebKlasse3,IF($H$1=\"Senioren\",UebSenioren,\"\"))))),10,1),IF($H$1=\"Beginner\",UebBeginner,IF($H$1=\"Klasse 1\",UebKlasse1,IF($H$1=\"Klasse 2\",UebKlasse2,IF($H$1=\"Klasse 3\",UebKlasse3,IF($H$1=\"Senioren\",UebSenioren,\"\"))))),5,FALSE)","v":"Um eine Pylonengruppe/Tonne (5m) schicken"},null,null,null,null,null,null,{"$f":"VLOOKUP(INDEX(IF($H$1=\"Beginner\",UebBeginner,IF($H$1=\"Klasse 1\",UebKlasse1,IF($H$1=\"Klasse 2\",UebKlasse2,IF($H$1=\"Klasse 3\",UebKlasse3,IF($H$1=\"Senioren\",UebSenioren,\"\"))))),10,1),IF($H$1=\"Beginner\",UebBeginner,IF($H$1=\"Klasse 1\",UebKlasse1,IF($H$1=\"Klasse 2\",UebKlasse2,IF($H$1=\"Klasse 3\",UebKlasse3,IF($H$1=\"Senioren\",UebSenioren,\"\"))))),3,FALSE)","v":3}]
[{"$f":"INDEX(IF($H$1=\"Beginner\",UebBeginner,IF($H$1=\"Klasse 1\",UebKlasse1,IF($H$1=\"Klasse 2\",UebKlasse2,IF($H$1=\"Klasse 3\",UebKlasse3,IF($H$1=\"Senioren\",UebSenioren,\"\"))))),11,1)","v":11},{"$f":"VLOOKUP(INDEX(IF($H$1=\"Beginner\",UebBeginner,IF($H$1=\"Klasse 1\",UebKlasse1,IF($H$1=\"Klasse 2\",UebKlasse2,IF($H$1=\"Klasse 3\",UebKlasse3,IF($H$1=\"Senioren\",UebSenioren,\"\"))))),11,1),IF($H$1=\"Beginner\",UebBeginner,IF($H$1=\"Klasse 1\",UebKlasse1,IF($H$1=\"Klasse 2\",UebKlasse2,IF($H$1=\"Klasse 3\",UebKlasse3,IF($H$1=\"Senioren\",UebSenioren,\"\"))))),5,FALSE)","v":"Gesamteindruck"},null,null,null,null,null,null,{"$f":"VLOOKUP(INDEX(IF($H$1=\"Beginner\",UebBeginner,IF($H$1=\"Klasse 1\",UebKlasse1,IF($H$1=\"Klasse 2\",UebKlasse2,IF($H$1=\"Klasse 3\",UebKlasse3,IF($H$1=\"Senioren\",UebSenioren,\"\"))))),11,1),IF($H$1=\"Beginner\",UebBeginner,IF($H$1=\"Klasse 1\",UebKlasse1,IF($H$1=\"Klasse 2\",UebKlasse2,IF($H$1=\"Klasse 3\",UebKlasse3,IF($H$1=\"Senioren\",UebSenioren,\"\"))))),3,FALSE)","v":2},{"$f":"IF(H20=-10,-10,IF(H20=\"\",\"\",H20*I20))","v":""}]
[]
["WN:",null,{"$f":"IF(H22=\"\",\"\",IF(H22>J27,\"V\",IF(H22>J28,\"SG\",IF(H22>J29,\"G\",\"NB\"))))","v":""},null,null,null,"Summe:"]
[null,null,null,null,null,null,null,null,null,{"$f":"RIGHT($A$8,8)","v":{"$error":"#N/A"}}]
[null,"1. Gelbe Karte",null,"Unterschrift / Stempel Leistungsrichter Obedience:",null,null,null,"Wertnotenschlüssel"]
[null,"2. Gelbe Karte",null,null,null,null,null,"WN","von","bis"]
[null,"Rote Karte",null,null,null,null,null,"V",{"$f":"IF(OR($J$23=\"Beginner\",$J$23=\"Klasse 1\"),'Übersicht Übungen'!H6,'Übersicht Übungen'!H34)","v":{"$error":"#N/A"}},{"$f":"IF(OR($J$23=\"Beginner\",$J$23=\"Klasse 1\"),'Übersicht Übungen'!I6,'Übersicht Übungen'!I34)","v":{"$error":"#N/A"}}]
[null,"Disqualifikation",null,null,null,null,null,"SG",{"$f":"IF(OR($J$23=\"Beginner\",$J$23=\"Klasse 1\"),'Übersicht Übungen'!H7,'Übersicht Übungen'!H35)","v":{"$error":"#N/A"}},{"$f":"IF(OR($J$23=\"Beginner\",$J$23=\"Klasse 1\"),'Übersicht Übungen'!I7,'Übersicht Übungen'!I35)","v":{"$error":"#N/A"}}]
[null,null,null,null,null,null,null,"G",{"$f":"IF(OR($J$23=\"Beginner\",$J$23=\"Klasse 1\"),'Übersicht Übungen'!H8,'Übersicht Übungen'!H36)","v":{"$error":"#N/A"}},{"$f":"IF(OR($J$23=\"Beginner\",$J$23=\"Klasse 1\"),'Übersicht Übungen'!I8,'Übersicht Übungen'!I36)","v":{"$error":"#N/A"}}]
[null,null,"Punktabzug",null,null,null,null,"ohne AK",{"$f":"IF(OR($J$23=\"Beginner\",$J$23=\"Klasse 1\"),'Übersicht Übungen'!H9,'Übersicht Übungen'!H37)","v":{"$error":"#N/A"}},{"$f":"IF(OR($J$23=\"Beginner\",$J$23=\"Klasse 1\"),'Übersicht Übungen'!I9,'Übersicht Übungen'!I37)","v":{"$error":"#N/A"}}]

{"sheet":"RichterblattGruppe","index":10,"n_rows":40,"n_cols":5,"rows_kept":40,"cut":false,"hidden":false,"merged":[[26,0,27,0],[33,0,34,0],[5,0,6,0],[12,0,13,0],[0,0,0,4],[1,0,1,4],[2,0,2,3],[3,0,3,2],[19,0,20,0]]}
[]
["swhv Gruppen-Richterblatt Obedience"]
[{"$f":"Stammdaten!C5","v":"z.B. Vereinsprf."},null,null,null,"Datum:"]
[{"$f":"\"Veranstalter: \"&Stammdaten!C4","v":"Veranstalter: "},null,null,{"$f":"\"LR: \"&Stammdaten!H3","v":"LR: "},{"$f":"Stammdaten!C6","v":"00:00:00"}]
[]
["BEG",{"$f":"VLOOKUP(B$8,'Daten Beg'!C5:P65,3,FALSE)","v":{"$error":"#N/A"}},{"$f":"VLOOKUP(C$8,'Daten Beg'!C5:P65,3,FALSE)","v":{"$error":"#N/A"}},{"$f":"VLOOKUP(D$8,'Daten Beg'!C5:P65,3,FALSE)","v":{"$error":"#N/A"}},{"$f":"VLOOKUP(E$8,'Daten Beg'!C5:P65,3,FALSE)","v":{"$error":"#N/A"}}]
[null,{"$f":"VLOOKUP(B$8,'Daten Beg'!C5:P65,6,FALSE)","v":{"$error":"#N/A"}},{"$f":"VLOOKUP(C$8,'Daten Beg'!C5:P65,6,FALSE)","v":{"$error":"#N/A"}},{"$f":"VLOOKUP(D$8,'Daten Beg'!C5:P65,6,FALSE)","v":{"$error":"#N/A"}},{"$f":"VLOOKUP(E$8,'Daten Beg'!C5:P65,6,FALSE)","v":{"$error":"#N/A"}}]
["Gruppe","A01","A02","A03","A04"]
["ID (Startnr., Los, Klasse)",{"$f":"VLOOKUP(B$8,'Daten Beg'!C5:P65,2,FALSE)","v":{"$error":"#N/A"}},{"$f":"VLOOKUP(C$8,'Daten Beg'!C5:P65,2,FALSE)","v":{"$error":"#N/A"}},{"$f":"VLOOKUP(D$8,'Daten Beg'!C5:P65,2,FALSE)","v":{"$error":"#N/A"}},{"$f":"VLOOKUP(E$8,'Daten Beg'!C5:P65,2,FALSE)","v":{"$error":"#N/A"}}]
["1.  Übung:\nVerhalten gegenüber anderen Hunden"]
["2.  Übung:\nStehen und Betasten"]
["3.  Übung:\n2 Minuten Liegen mit Sichtkontakt"]
["BEG",{"$f":"VLOOKUP(B$15,'Daten Beg'!C5:P65,3,FALSE)","v":{"$error":"#N/A"}},{"$f":"VLOOKUP(C$15,'Daten Beg'!C5:P65,3,FALSE)","v":{"$error":"#N/A"}}]
[null,{"$f":"VLOOKUP(B$15,'Daten Beg'!C5:P65,6,FALSE)","v":{"$error":"#N/A"}},{"$f":"VLOOKUP(C$15,'Daten Beg'!C5:P65,6,FALSE)","v":{"$error":"#N/A"}}]
["Gruppe","A05","A06"]
["ID (Startnr., Los, Klasse)",{"$f":"VLOOKUP(B$15,'Daten Beg'!C5:P65,2,FALSE)","v":{"$error":"#N/A"}},{"$f":"VLOOKUP(C$15,'Daten Beg'!C5:P65,2,FALSE)","v":{"$error":"#N/A"}}]
["1.  Übung:\nVerhalten gegenüber anderen Hunden"]
["2.  Übung:\nStehen und Betasten"]
["3.  Übung:\n2 Minuten Liegen mit Sichtkontakt"]
["K1",{"$f":"VLOOKUP(B$22,'Daten K1'!C5:P65,3,FALSE)","v":{"$error":"#N/A"}},{"$f":"VLOOKUP(C$22,'Daten K1'!C5:P65,3,FALSE)","v":{"$error":"#N/A"}},{"$f":"VLOOKUP(D$22,'Daten K1'!C5:P65,3,FALSE)","v":{"$error":"#N/A"}},{"$f":"VLOOKUP(E$22,'Daten K1'!C5:P65,3,FALSE)","v":{"$error":"#N/A"}}]
[null,{"$f":"VLOOKUP(B$22,'Daten K1'!C5:P65,6,FALSE)","v":{"$error":"#N/A"}},{"$f":"VLOOKUP(C$22,'Daten K1'!C5:P65,6,FALSE)","v":{"$error":"#N/A"}},{"$f":"VLOOKUP(D$22,'Daten K1'!C5:P65,6,FALSE)","v":{"$error":"#N/A"}},{"$f":"VLOOKUP(E$22,'Daten K1'!C5:P65,6,FALSE)","v":{"$error":"#N/A"}}]
["Gruppe","B01","B02","B03","B04"]
["ID (Startnr., Los, Klasse)",{"$f":"VLOOKUP(B$22,'Daten K1'!C5:P65,2,FALSE)","v":{"$error":"#N/A"}},{"$f":"VLOOKUP(C$22,'Daten K1'!C5:P65,2,FALSE)","v":{"$error":"#N/A"}},{"$f":"VLOOKUP(D$22,'Daten K1'!C5:P65,2,FALSE)","v":{"$error":"#N/A"}},{"$f":"VLOOKUP(E$22,'Daten K1'!C5:P65,2,FALSE)","v":{"$error":"#N/A"}}]
["1.  Übung:\n1 Minute Sitzen in einer Gruppe, Hundeführer in Sicht"]
["--"]
["--"]
["K2",{"$f":"VLOOKUP(B$29,'Daten K2'!C5:P65,3,FALSE)","v":{"$error":"#N/A"}},{"$f":"VLOOKUP(C$29,'Daten K2'!C5:P65,3,FALSE)","v":{"$error":"#N/A"}}]
[null,{"$f":"VLOOKUP(B$29,'Daten K2'!C5:P65,6,FALSE)","v":{"$error":"#N/A"}},{"$f":"VLOOKUP(C$29,'Daten K2'!C5:P65,6,FALSE)","v":{"$error":"#N/A"}}]
["Gruppe","C01","C02"]
["ID (Startnr., Los, Klasse)",{"$f":"VLOOKUP(B$29,'Daten K2'!C5:P65,2,FALSE)","v":{"$error":"#N/A"}},{"$f":"VLOOKUP(C$29,'Daten K2'!C5:P65,2,FALSE)","v":{"$error":"#N/A"}}]
["1.  Übung:\n2 Minuten Liegen in einer Gruppe, HF außer Sicht"]
["--"]
["--"]
["K3",{"$f":"VLOOKUP(B$36,'Daten K3'!C5:P65,3,FALSE)","v":{"$error":"#N/A"}},{"$f":"VLOOKUP(C$36,'Daten K3'!C5:P65,3,FALSE)","v":{"$error":"#N/A"}}]
[null,{"$f":"VLOOKUP(B$36,'Daten K3'!C5:P65,6,FALSE)","v":{"$error":"#N/A"}},{"$f":"VLOOKUP(C$36,'Daten K3'!C5:P65,6,FALSE)","v":{"$error":"#N/A"}}]
["Gruppe","D01","D02"]
["ID (Startnr., Los, Klasse)",{"$f":"VLOOKUP(B$36,'Daten K3'!C5:P65,2,FALSE)","v":{"$error":"#N/A"}},{"$f":"VLOOKUP(C$36,'Daten K3'!C5:P65,2,FALSE)","v":{"$error":"#N/A"}}]
["--"]
["2.  Übung:\n2 Minuten Sitzen in der Gruppe außer Sicht"]
["3.  Übung:\n1 Minute Liegen in der Gruppe mit Abrufen"]

{"sheet":"Liste Beginner","index":11,"n_rows":73,"n_cols":63,"rows_kept":73,"cut":false,"hidden":false,"merged":[[0,0,0,3],[0,4,0,13],[0,14,0,20],[1,0,1,2],[1,3,1,5],[1,7,1,15],[1,18,1,20],[5,40,5,41],[5,42,5,43],[3,0,5,5],[5,22,5,23],[5,24,5,25],[5,26,5,27],[5,28,5,29],[5,30,5,31],[6,7,6,17],[5,32,5,33],[5,34,5,35],[5,36,5,37],[5,38,5,39]]}
["Obedience:  ",null,null,null,{"$f":"Stammdaten!C5&\"\"","v":"z.B. Vereinsprf."},null,null,null,null,null,null,null,null,null,"Beginner"]
["Veranstaltender Verein:",null,null,{"$f":"Stammdaten!C4","v":0},null,null,"Leistungsrichter:",{"$f":"Stammdaten!H3","v":0},null,null,null,null,null,null,null,null,null,"Datum:",{"$f":"Stammdaten!C6","v":"00:00:00"}]
[]
["Ergebnisliste",null,null,null,null,null,"Übung",{"$f":"'Übersicht Übungen'!$A5","v":1},{"$f":"'Übersicht Übungen'!$A6","v":2},{"$f":"'Übersicht Übungen'!$A7","v":3},{"$f":"'Übersicht Übungen'!$A8","v":4},{"$f":"'Übersicht Übungen'!$A9","v":5},{"$f":"'Übersicht Übungen'!$A10","v":6},{"$f":"'Übersicht Übungen'!$A11","v":7},{"$f":"'Übersicht Übungen'!$A12","v":8},{"$f":"'Übersicht Übungen'!$A13","v":9},{"$f":"'Übersicht Übungen'!$A14","v":10},{"$f":"'Übersicht Übungen'!$A15","v":11},null,null,null,null,"Eingabe der Bewertung nach Leistungsrichter:"]
[null,null,null,null,null,null,"Reihenfolge",{"$f":"'Übersicht Übungen'!$B5","v":1},{"$f":"'Übersicht Übungen'!$B6","v":2},{"$f":"'Übersicht Übungen'!$B7","v":3},{"$f":"'Übersicht Übungen'!$B8","v":4},{"$f":"'Übersicht Übungen'!$B9","v":5},{"$f":"'Übersicht Übungen'!$B10","v":6},{"$f":"'Übersicht Übungen'!$B11","v":7},{"$f":"'Übersicht Übungen'!$B12","v":8},{"$f":"'Übersicht Übungen'!$B13","v":9},{"$f":"'Übersicht Übungen'!$B14","v":10},{"$f":"'Übersicht Übungen'!$B15","v":11}]
[null,null,null,null,null,null,"Koeffizient",{"$f":"VLOOKUP(INDEX(UebBeginner,1,1),UebBeginner,3,FALSE)","v":4},{"$f":"VLOOKUP(INDEX(UebBeginner,2,1),UebBeginner,3,FALSE)","v":3},{"$f":"VLOOKUP(INDEX(UebBeginner,3,1),UebBeginner,3,FALSE)","v":3},{"$f":"VLOOKUP(INDEX(UebBeginner,4,1),UebBeginner,3,FALSE)","v":3},{"$f":"VLOOKUP(INDEX(UebBeginner,5,1),UebBeginner,3,FALSE)","v":2},{"$f":"VLOOKUP(INDEX(UebBeginner,6,1),UebBeginner,3,FALSE)","v":3},{"$f":"VLOOKUP(INDEX(UebBeginner,7,1),UebBeginner,3,FALSE)","v":3},{"$f":"VLOOKUP(INDEX(UebBeginner,8,1),UebBeginner,3,FALSE)","v":3},{"$f":"VLOOKUP(INDEX(UebBeginner,9,1),UebBeginner,3,FALSE)","v":3},{"$f":"VLOOKUP(INDEX(UebBeginner,10,1),UebBeginner,3,FALSE)","v":3},{"$f":"VLOOKUP(INDEX(UebBeginner,11,1),UebBeginner,3,FALSE)","v":2},null,null,null,null,{"$f":"\"Übung: \"&H$4","v":"Übung: 1"},null,{"$f":"\"Übung: \"&I$4","v":"Übung: 2"},null,{"$f":"\"Übung: \"&J$4","v":"Übung: 3"},null,{"$f":"\"Übung: \"&K$4","v":"Übung: 4"},null,{"$f":"\"Übung: \"&L$4","v":"Übung: 5"},null,{"$f":"\"Übung: \"&M$4","v":"Übung: 6"},null,{"$f":"\"Übung: \"&N$4","v":"Übung: 7"},null,{"$f":"\"Übung: \"&O$4","v":"Übung: 8"},null,{"$f":"\"Übung: \"&P$4","v":"Übung: 9"},null,{"$f":"\"Übung: \"&Q$4","v":"Übung: 10"},null,{"$f":"\"Übung \"&R4","v":"Übung 11"}]
["Nr.","Los","Hundeführer/-in","Verein","Verband","Hund","Rasse","Auswertung",null,null,null,null,null,null,null,null,null,null,"Gesamt","WN","Platz",null,"LR 1","LR 2","LR 1","LR 2","LR 1","LR 2","LR 1","LR 2","LR 1","LR 2","LR 1","LR 2","LR 1","LR 2","LR 1","LR 2","LR 1","LR 2","LR 1","LR 2","LR 1","LR 2"]
[{"$f":"IF('Daten Beg'!A5=\"\",\"\",'Daten Beg'!A5)","v":""},{"$f":"IF('Daten Beg'!B5=\"\",\"\",'Daten Beg'!B5)","v":""},{"$f":"IF('Daten Beg'!E5=\"\",\"\",'Daten Beg'!E5)","v":""},{"$f":"IF('Daten Beg'!F5=\"\",\"\",'Daten Beg'!F5)","v":""},{"$f":"IF('Daten Beg'!G5=\"\",\"\",'Daten Beg'!G5)","v":""},{"$f":"IF('Daten Beg'!H5=\"\",\"\",'Daten Beg'!H5)","v":""},{"$f":"IF('Daten Beg'!I5=\"\",\"\",'Daten Beg'!I5)","v":""},{"$f":"IF(AND(W8=\"\",X8=\"\"),\"\",IF(X8=\"\",W8,IF(W8=\"\",X8,((W8+X8)/2))))","v":""},{"$f":"IF(AND(Y8=\"\",Z8=\"\"),\"\",IF(Z8=\"\",Y8,IF(Y8=\"\",Z8,((Y8+Z8)/2))))","v":""},{"$f":"IF(AND(AA8=\"\",AB8=\"\"),\"\",IF(AB8=\"\",AA8,IF(AA8=\"\",AB8,((AA8+AB8)/2))))","v":""},{"$f":"IF(AND(AC8=\"\",AD8=\"\"),\"\",IF(AD8=\"\",AC8,IF(AC8=\"\",AD8,((AC8+AD8)/2))))","v":""},{"$f":"IF(AND(AE8=\"\",AF8=\"\"),\"\",IF(AF8=\"\",AE8,IF(AE8=\"\",AF8,((AE8+AF8)/2))))","v":""},{"$f":"IF(AND(AG8=\"\",AH8=\"\"),\"\",IF(AH8=\"\",AG8,IF(AG8=\"\",AH8,((AG8+AH8)/2))))","v":""},{"$f":"IF(AND(AI8=\"\",AJ8=\"\"),\"\",IF(AJ8=\"\",AI8,IF(AI8=\"\",AJ8,((AI8+AJ8)/2))))","v":""},{"$f":"IF(AND(AK8=\"\",AL8=\"\"),\"\",IF(AL8=\"\",AK8,IF(AK8=\"\",AL8,((AK8+AL8)/2))))","v":""},{"$f":"IF(AND(AM8=\"\",AN8=\"\"),\"\",IF(AN8=\"\",AM8,IF(AM8=\"\",AN8,((AM8+AN8)/2))))","v":""},{"$f":"IF(AND(AO8=\"\",AP8=\"\"),\"\",IF(AP8=\"\",AO8,IF(AO8=\"\",AP8,((AO8+AP8)/2))))","v":""},{"$f":"IF(AND(AP8=\"\",AQ8=\"\"),\"\",IF(AQ8=\"\",AP8,IF(AP8=\"\",AQ8,((AP8+AQ8)/2))))","v":""},{"$f":"SUM(BA8*$H$6+BB8*$I$6+BC8*$J$6+BD8*$K$6+BE8*$L$6+BF8*$M$6+BG8*$N$6+BH8*$O$6+BI8*$P$6+BJ8*$Q$6+BK8*$R$6)","v":0},{"$f":"IF(U8=\"DIS\",\"oAK\",IF(S8=0,\"\",IF(S8>$B$52,\"V\",IF(S8>$B$53,\"SG\",IF(S8>$B$54,\"G\",\"oAK\")))))","v":""},null,null,null,null,null,null,null,null,null,null,null,null,null,null,null,null,null,null,null,null,null,null,null,null,null,null,null,null,null,null,null,null,{"$f":"IF(H8=\"\",0,H8)","v":0},{"$f":"IF(I8=\"\",0,I8)","v":0},{"$f":"IF(J8=\"\",0,J8)","v":0},{"$f":"IF(K8=\"\",0,K8)","v":0},{"$f":"IF(L8=\"\",0,L8)","v":0},{"$f":"IF(M8=\"\",0,M8)","v":0},{"$f":"IF(N8=\"\",0,N8)","v":0},{"$f":"IF(O8=\"\",0,O8)","v":0},{"$f":"IF(P8=\"\",0,P8)","v":0},{"$f":"IF(Q8=\"\",0,Q8)","v":0},{"$f":"IF(R8=\"\",0,R8)","v":0}]
[{"$f":"IF('Daten Beg'!A6=\"\",\"\",'Daten Beg'!A6)","v":""},{"$f":"IF('Daten Beg'!B6=\"\",\"\",'Daten Beg'!B6)","v":""},{"$f":"IF('Daten Beg'!E6=\"\",\"\",'Daten Beg'!E6)","v":""},{"$f":"IF('Daten Beg'!F6=\"\",\"\",'Daten Beg'!F6)","v":""},{"$f":"IF('Daten Beg'!G6=\"\",\"\",'Daten Beg'!G6)","v":""},{"$f":"IF('Daten Beg'!H6=\"\",\"\",'Daten Beg'!H6)","v":""},{"$f":"IF('Daten Beg'!I6=\"\",\"\",'Daten Beg'!I6)","v":""},"","","","","","","","","","","",0,"",null,null,null,null,null,null,null,null,null,null,null,null,null,null,null,null,null,null,null,null,null,null,null,null,null,null,null,null,null,null,null,null,0,0,0,0,0,0,0,0,0,0,0]
[{"$f":"IF('Daten Beg'!A7=\"\",\"\",'Daten Beg'!A7)","v":""},{"$f":"IF('Daten Beg'!B7=\"\",\"\",'Daten Beg'!B7)","v":""},{"$f":"IF('Daten Beg'!E7=\"\",\"\",'Daten Beg'!E7)","v":""},{"$f":"IF('Daten Beg'!F7=\"\",\"\",'Daten Beg'!F7)","v":""},{"$f":"IF('Daten Beg'!G7=\"\",\"\",'Daten Beg'!G7)","v":""},{"$f":"IF('Daten Beg'!H7=\"\",\"\",'Daten Beg'!H7)","v":""},{"$f":"IF('Daten Beg'!I7=\"\",\"\",'Daten Beg'!I7)","v":""},"","","","","","","","","","","",0,"",null,null,null,null,null,null,null,null,null,null,null,null,null,null,null,null,null,null,null,null,null,null,null,null,null,null,null,null,null,null,null,null,0,0,0,0,0,0,0,0,0,0,0]
[{"$f":"IF('Daten Beg'!A8=\"\",\"\",'Daten Beg'!A8)","v":""},{"$f":"IF('Daten Beg'!B8=\"\",\"\",'Daten Beg'!B8)","v":""},{"$f":"IF('Daten Beg'!E8=\"\",\"\",'Daten Beg'!E8)","v":""},{"$f":"IF('Daten Beg'!F8=\"\",\"\",'Daten Beg'!F8)","v":""},{"$f":"IF('Daten Beg'!G8=\"\",\"\",'Daten Beg'!G8)","v":""},{"$f":"IF('Daten Beg'!H8=\"\",\"\",'Daten Beg'!H8)","v":""},{"$f":"IF('Daten Beg'!I8=\"\",\"\",'Daten Beg'!I8)","v":""},"","","","","","","","","","","",0,"",null,null,null,null,null,null,null,null,null,null,null,null,null,null,null,null,null,null,null,null,null,null,null,null,null,null,null,null,null,null,null,null,0,0,0,0,0,0,0,0,0,0,0]
[{"$f":"IF('Daten Beg'!A9=\"\",\"\",'Daten Beg'!A9)","v":""},{"$f":"IF('Daten Beg'!B9=\"\",\"\",'Daten Beg'!B9)","v":""},{"$f":"IF('Daten Beg'!E9=\"\",\"\",'Daten Beg'!E9)","v":""},{"$f":"IF('Daten Beg'!F9=\"\",\"\",'Daten Beg'!F9)","v":""},{"$f":"IF('Daten Beg'!G9=\"\",\"\",'Daten Beg'!G9)","v":""},{"$f":"IF('Daten Beg'!H9=\"\",\"\",'Daten Beg'!H9)","v":""},{"$f":"IF('Daten Beg'!I9=\"\",\"\",'Daten Beg'!I9)","v":""},"","","","","","","","","","","",0,"",null,null,null,null,null,null,null,null,null,null,null,null,null,null,null,null,null,null,null,null,null,null,null,null,null,null,null,null,null,null,null,null,0,0,0,0,0,0,0,0,0,0,0]
[{"$f":"IF('Daten Beg'!A10=\"\",\"\",'Daten Beg'!A10)","v":""},{"$f":"IF('Daten Beg'!B10=\"\",\"\",'Daten Beg'!B10)","v":""},{"$f":"IF('Daten Beg'!E10=\"\",\"\",'Daten Beg'!E10)","v":""},{"$f":"IF('Daten Beg'!F10=\"\",\"\",'Daten Beg'!F10)","v":""},{"$f":"IF('Daten Beg'!G10=\"\",\"\",'Daten Beg'!G10)","v":""},{"$f":"IF('Daten Beg'!H10=\"\",\"\",'Daten Beg'!H10)","v":""},{"$f":"IF('Daten Beg'!I10=\"\",\"\",'Daten Beg'!I10)","v":""},"","","","","","","","","","","",0,"",null,null,null,null,null,null,null,null,null,null,null,null,null,null,null,null,null,null,null,null,null,null,null,null,null,null,null,null,null,null,null,null,0,0,0,0,0,0,0,0,0,0,0]
[{"$f":"IF('Daten Beg'!A11=\"\",\"\",'Daten Beg'!A11)","v":""},{"$f":"IF('Daten Beg'!B11=\"\",\"\",'Daten Beg'!B11)","v":""},{"$f":"IF('Daten Beg'!E11=\"\",\"\",'Daten Beg'!E11)","v":""},{"$f":"IF('Daten Beg'!F11=\"\",\"\",'Daten Beg'!F11)","v":""},{"$f":"IF('Daten Beg'!G11=\"\",\"\",'Daten Beg'!G11)","v":""},{"$f":"IF('Daten Beg'!H11=\"\",\"\",'Daten Beg'!H11)","v":""},{"$f":"IF('Daten Beg'!I11=\"\",\"\",'Daten Beg'!I11)","v":""},"","","","","","","","","","","",0,"",null,null,null,null,null,null,null,null,null,null,null,null,null,null,null,null,null,null,null,null,null,null,null,null,null,null,null,null,null,null,null,null,0,0,0,0,0,0,0,0,0,0,0]
[{"$f":"IF('Daten Beg'!A12=\"\",\"\",'Daten Beg'!A12)","v":""},{"$f":"IF('Daten Beg'!B12=\"\",\"\",'Daten Beg'!B12)","v":""},{"$f":"IF('Daten Beg'!E12=\"\",\"\",'Daten Beg'!E12)","v":""},{"$f":"IF('Daten Beg'!F12=\"\",\"\",'Daten Beg'!F12)","v":""},{"$f":"IF('Daten Beg'!G12=\"\",\"\",'Daten Beg'!G12)","v":""},{"$f":"IF('Daten Beg'!H12=\"\",\"\",'Daten Beg'!H12)","v":""},{"$f":"IF('Daten Beg'!I12=\"\",\"\",'Daten Beg'!I12)","v":""},"","","","","","","","","","","",0,"",null,null,null,null,null,null,null,null,null,null,null,null,null,null,null,null,null,null,null,null,null,null,null,null,null,null,null,null,null,null,null,null,0,0,0,0,0,0,0,0,0,0,0]
[{"$f":"IF('Daten Beg'!A13=\"\",\"\",'Daten Beg'!A13)","v":""},{"$f":"IF('Daten Beg'!B13=\"\",\"\",'Daten Beg'!B13)","v":""},{"$f":"IF('Daten Beg'!E13=\"\",\"\",'Daten Beg'!E13)","v":""},{"$f":"IF('Daten Beg'!F13=\"\",\"\",'Daten Beg'!F13)","v":""},{"$f":"IF('Daten Beg'!G13=\"\",\"\",'Daten Beg'!G13)","v":""},{"$f":"IF('Daten Beg'!H13=\"\",\"\",'Daten Beg'!H13)","v":""},{"$f":"IF('Daten Beg'!I13=\"\",\"\",'Daten Beg'!I13)","v":""},"","","","","","","","","","","",0,"",null,null,null,null,null,null,null,null,null,null,null,null,null,null,null,null,null,null,null,null,null,null,null,null,null,null,null,null,null,null,null,null,0,0,0,0,0,0,0,0,0,0,0]
[{"$f":"IF('Daten Beg'!A14=\"\",\"\",'Daten Beg'!A14)","v":""},{"$f":"IF('Daten Beg'!B14=\"\",\"\",'Daten Beg'!B14)","v":""},{"$f":"IF('Daten Beg'!E14=\"\",\"\",'Daten Beg'!E14)","v":""},{"$f":"IF('Daten Beg'!F14=\"\",\"\",'Daten Beg'!F14)","v":""},{"$f":"IF('Daten Beg'!G14=\"\",\"\",'Daten Beg'!G14)","v":""},{"$f":"IF('Daten Beg'!H14=\"\",\"\",'Daten Beg'!H14)","v":""},{"$f":"IF('Daten Beg'!I14=\"\",\"\",'Daten Beg'!I14)","v":""},"","","","","","","","","","","",0,"",null,null,null,null,null,null,null,null,null,null,null,null,null,null,null,null,null,null,null,null,null,null,null,null,null,null,null,null,null,null,null,null,0,0,0,0,0,0,0,0,0,0,0]
[{"$f":"IF('Daten Beg'!A15=\"\",\"\",'Daten Beg'!A15)","v":""},{"$f":"IF('Daten Beg'!B15=\"\",\"\",'Daten Beg'!B15)","v":""},{"$f":"IF('Daten Beg'!E15=\"\",\"\",'Daten Beg'!E15)","v":""},{"$f":"IF('Daten Beg'!F15=\"\",\"\",'Daten Beg'!F15)","v":""},{"$f":"IF('Daten Beg'!G15=\"\",\"\",'Daten Beg'!G15)","v":""},{"$f":"IF('Daten Beg'!H15=\"\",\"\",'Daten Beg'!H15)","v":""},{"$f":"IF('Daten Beg'!I15=\"\",\"\",'Daten Beg'!I15)","v":""},"","","","","","","","","","","",0,"",null,null,null,null,null,null,null,null,null,null,null,null,null,null,null,null,null,null,null,null,null,null,null,null,null,null,null,null,null,null,null,null,0,0,0,0,0,0,0,0,0,0,0]
[{"$f":"IF('Daten Beg'!A16=\"\",\"\",'Daten Beg'!A16)","v":""},{"$f":"IF('Daten Beg'!B16=\"\",\"\",'Daten Beg'!B16)","v":""},{"$f":"IF('Daten Beg'!E16=\"\",\"\",'Daten Beg'!E16)","v":""},{"$f":"IF('Daten Beg'!F16=\"\",\"\",'Daten Beg'!F16)","v":""},{"$f":"IF('Daten Beg'!G16=\"\",\"\",'Daten Beg'!G16)","v":""},{"$f":"IF('Daten Beg'!H16=\"\",\"\",'Daten Beg'!H16)","v":""},{"$f":"IF('Daten Beg'!I16=\"\",\"\",'Daten Beg'!I16)","v":""},"","","","","","","","","","","",0,"",null,null,null,null,null,null,null,null,null,null,null,null,null,null,null,null,null,null,null,null,null,null,null,null,null,null,null,null,null,null,null,null,0,0,0,0,0,0,0,0,0,0,0]
[{"$f":"IF('Daten Beg'!A17=\"\",\"\",'Daten Beg'!A17)","v":""},{"$f":"IF('Daten Beg'!B17=\"\",\"\",'Daten Beg'!B17)","v":""},{"$f":"IF('Daten Beg'!E17=\"\",\"\",'Daten Beg'!E17)","v":""},{"$f":"IF('Daten Beg'!F17=\"\",\"\",'Daten Beg'!F17)","v":""},{"$f":"IF('Daten Beg'!G17=\"\",\"\",'Daten Beg'!G17)","v":""},{"$f":"IF('Daten Beg'!H17=\"\",\"\",'Daten Beg'!H17)","v":""},{"$f":"IF('Daten Beg'!I17=\"\",\"\",'Daten Beg'!I17)","v":""},"","","","","","","","","","","",0,"",null,null,null,null,null,null,null,null,null,null,null,null,null,null,null,null,null,null,null,null,null,null,null,null,null,null,null,null,null,null,null,null,0,0,0,0,0,0,0,0,0,0,0]
[{"$f":"IF('Daten Beg'!A18=\"\",\"\",'Daten Beg'!A18)","v":""},{"$f":"IF('Daten Beg'!B18=\"\",\"\",'Daten Beg'!B18)","v":""},{"$f":"IF('Daten Beg'!E18=\"\",\"\",'Daten Beg'!E18)","v":""},{"$f":"IF('Daten Beg'!F18=\"\",\"\",'Daten Beg'!F18)","v":""},{"$f":"IF('Daten Beg'!G18=\"\",\"\",'Daten Beg'!G18)","v":""},{"$f":"IF('Daten Beg'!H18=\"\",\"\",'Daten Beg'!H18)","v":""},{"$f":"IF('Daten Beg'!I18=\"\",\"\",'Daten Beg'!I18)","v":""},"","","","","","","","","","","",0,"",null,null,null,null,null,null,null,null,null,null,null,null,null,null,null,null,null,null,null,null,null,null,null,null,null,null,null,null,null,null,null,null,0,0,0,0,0,0,0,0,0,0,0]
[{"$f":"IF('Daten Beg'!A19=\"\",\"\",'Daten Beg'!A19)","v":""},{"$f":"IF('Daten Beg'!B19=\"\",\"\",'Daten Beg'!B19)","v":""},{"$f":"IF('Daten Beg'!E19=\"\",\"\",'Daten Beg'!E19)","v":""},{"$f":"IF('Daten Beg'!F19=\"\",\"\",'Daten Beg'!F19)","v":""},{"$f":"IF('Daten Beg'!G19=\"\",\"\",'Daten Beg'!G19)","v":""},{"$f":"IF('Daten Beg'!H19=\"\",\"\",'Daten Beg'!H19)","v":""},{"$f":"IF('Daten Beg'!I19=\"\",\"\",'Daten Beg'!I19)","v":""},"","","","","","","","","","","",0,"",null,null,null,null,null,null,null,null,null,null,null,null,null,null,null,null,null,null,null,null,null,null,null,null,null,null,null,null,null,null,null,null,0,0,0,0,0,0,0,0,0,0,0]
[{"$f":"IF('Daten Beg'!A20=\"\",\"\",'Daten Beg'!A20)","v":""},{"$f":"IF('Daten Beg'!B20=\"\",\"\",'Daten Beg'!B20)","v":""},{"$f":"IF('Daten Beg'!E20=\"\",\"\",'Daten Beg'!E20)","v":""},{"$f":"IF('Daten Beg'!F20=\"\",\"\",'Daten Beg'!F20)","v":""},{"$f":"IF('Daten Beg'!G20=\"\",\"\",'Daten Beg'!G20)","v":""},{"$f":"IF('Daten Beg'!H20=\"\",\"\",'Daten Beg'!H20)","v":""},{"$f":"IF('Daten Beg'!I20=\"\",\"\",'Daten Beg'!I20)","v":""},"","","","","","","","","","","",0,"",null,null,null,null,null,null,null,null,null,null,null,null,null,null,null,null,null,null,null,null,null,null,null,null,null,null,null,null,null,null,null,null,0,0,0,0,0,0,0,0,0,0,0]
[{"$f":"IF('Daten Beg'!A21=\"\",\"\",'Daten Beg'!A21)","v":""},{"$f":"IF('Daten Beg'!B21=\"\",\"\",'Daten Beg'!B21)","v":""},{"$f":"IF('Daten Beg'!E21=\"\",\"\",'Daten Beg'!E21)","v":""},{"$f":"IF('Daten Beg'!F21=\"\",\"\",'Daten Beg'!F21)","v":""},{"$f":"IF('Daten Beg'!G21=\"\",\"\",'Daten Beg'!G21)","v":""},{"$f":"IF('Daten Beg'!H21=\"\",\"\",'Daten Beg'!H21)","v":""},{"$f":"IF('Daten Beg'!I21=\"\",\"\",'Daten Beg'!I21)","v":""},"","","","","","","","","","","",0,"",null,null,null,null,null,null,null,null,null,null,null,null,null,null,null,null,null,null,null,null,null,null,null,null,null,null,null,null,null,null,null,null,0,0,0,0,0,0,0,0,0,0,0]
[{"$f":"IF('Daten Beg'!A22=\"\",\"\",'Daten Beg'!A22)","v":""},{"$f":"IF('Daten Beg'!B22=\"\",\"\",'Daten Beg'!B22)","v":""},{"$f":"IF('Daten Beg'!E22=\"\",\"\",'Daten Beg'!E22)","v":""},{"$f":"IF('Daten Beg'!F22=\"\",\"\",'Daten Beg'!F22)","v":""},{"$f":"IF('Daten Beg'!G22=\"\",\"\",'Daten Beg'!G22)","v":""},{"$f":"IF('Daten Beg'!H22=\"\",\"\",'Daten Beg'!H22)","v":""},{"$f":"IF('Daten Beg'!I22=\"\",\"\",'Daten Beg'!I22)","v":""},"","","","","","","","","","","",0,"",null,null,null,null,null,null,null,null,null,null,null,null,null,null,null,null,null,null,null,null,null,null,null,null,null,null,null,null,null,null,null,null,0,0,0,0,0,0,0,0,0,0,0]
[{"$f":"IF('Daten Beg'!A23=\"\",\"\",'Daten Beg'!A23)","v":""},{"$f":"IF('Daten Beg'!B23=\"\",\"\",'Daten Beg'!B23)","v":""},{"$f":"IF('Daten Beg'!E23=\"\",\"\",'Daten Beg'!E23)","v":""},{"$f":"IF('Daten Beg'!F23=\"\",\"\",'Daten Beg'!F23)","v":""},{"$f":"IF('Daten Beg'!G23=\"\",\"\",'Daten Beg'!G23)","v":""},{"$f":"IF('Daten Beg'!H23=\"\",\"\",'Daten Beg'!H23)","v":""},{"$f":"IF('Daten Beg'!I23=\"\",\"\",'Daten Beg'!I23)","v":""},"","","","","","","","","","","",0,"",null,null,null,null,null,null,null,null,null,null,null,null,null,null,null,null,null,null,null,null,null,null,null,null,null,null,null,null,null,null,null,null,0,0,0,0,0,0,0,0,0,0,0]
[{"$f":"IF('Daten Beg'!A24=\"\",\"\",'Daten Beg'!A24)","v":""},{"$f":"IF('Daten Beg'!B24=\"\",\"\",'Daten Beg'!B24)","v":""},{"$f":"IF('Daten Beg'!E24=\"\",\"\",'Daten Beg'!E24)","v":""},{"$f":"IF('Daten Beg'!F24=\"\",\"\",'Daten Beg'!F24)","v":""},{"$f":"IF('Daten Beg'!G24=\"\",\"\",'Daten Beg'!G24)","v":""},{"$f":"IF('Daten Beg'!H24=\"\",\"\",'Daten Beg'!H24)","v":""},{"$f":"IF('Daten Beg'!I24=\"\",\"\",'Daten Beg'!I24)","v":""},"","","","","","","","","","","",0,"",null,null,null,null,null,null,null,null,null,null,null,null,null,null,null,null,null,null,null,null,null,null,null,null,null,null,null,null,null,null,null,null,0,0,0,0,0,0,0,0,0,0,0]
[{"$f":"IF('Daten Beg'!A25=\"\",\"\",'Daten Beg'!A25)","v":""},{"$f":"IF('Daten Beg'!B25=\"\",\"\",'Daten Beg'!B25)","v":""},{"$f":"IF('Daten Beg'!E25=\"\",\"\",'Daten Beg'!E25)","v":""},{"$f":"IF('Daten Beg'!F25=\"\",\"\",'Daten Beg'!F25)","v":""},{"$f":"IF('Daten Beg'!G25=\"\",\"\",'Daten Beg'!G25)","v":""},{"$f":"IF('Daten Beg'!H25=\"\",\"\",'Daten Beg'!H25)","v":""},{"$f":"IF('Daten Beg'!I25=\"\",\"\",'Daten Beg'!I25)","v":""},"","","","","","","","","","","",0,"",null,null,null,null,null,null,null,null,null,null,null,null,null,null,null,null,null,null,null,null,null,null,null,null,null,null,null,null,null,null,null,null,0,0,0,0,0,0,0,0,0,0,0]
[{"$f":"IF('Daten Beg'!A26=\"\",\"\",'Daten Beg'!A26)","v":""},{"$f":"IF('Daten Beg'!B26=\"\",\"\",'Daten Beg'!B26)","v":""},{"$f":"IF('Daten Beg'!E26=\"\",\"\",'Daten Beg'!E26)","v":""},{"$f":"IF('Daten Beg'!F26=\"\",\"\",'Daten Beg'!F26)","v":""},{"$f":"IF('Daten Beg'!G26=\"\",\"\",'Daten Beg'!G26)","v":""},{"$f":"IF('Daten Beg'!H26=\"\",\"\",'Daten Beg'!H26)","v":""},{"$f":"IF('Daten Beg'!I26=\"\",\"\",'Daten Beg'!I26)","v":""},"","","","","","","","","","","",0,"",null,null,null,null,null,null,null,null,null,null,null,null,null,null,null,null,null,null,null,null,null,null,null,null,null,null,null,null,null,null,null,null,0,0,0,0,0,0,0,0,0,0,0]
[{"$f":"IF('Daten Beg'!A27=\"\",\"\",'Daten Beg'!A27)","v":""},{"$f":"IF('Daten Beg'!B27=\"\",\"\",'Daten Beg'!B27)","v":""},{"$f":"IF('Daten Beg'!E27=\"\",\"\",'Daten Beg'!E27)","v":""},{"$f":"IF('Daten Beg'!F27=\"\",\"\",'Daten Beg'!F27)","v":""},{"$f":"IF('Daten Beg'!G27=\"\",\"\",'Daten Beg'!G27)","v":""},{"$f":"IF('Daten Beg'!H27=\"\",\"\",'Daten Beg'!H27)","v":""},{"$f":"IF('Daten Beg'!I27=\"\",\"\",'Daten Beg'!I27)","v":""},"","","","","","","","","","","",0,"",null,null,null,null,null,null,null,null,null,null,null,null,null,null,null,null,null,null,null,null,null,null,null,null,null,null,null,null,null,null,null,null,0,0,0,0,0,0,0,0,0,0,0]
[{"$f":"IF('Daten Beg'!A28=\"\",\"\",'Daten Beg'!A28)","v":""},{"$f":"IF('Daten Beg'!B28=\"\",\"\",'Daten Beg'!B28)","v":""},{"$f":"IF('Daten Beg'!E28=\"\",\"\",'Daten Beg'!E28)","v":""},{"$f":"IF('Daten Beg'!F28=\"\",\"\",'Daten Beg'!F28)","v":""},{"$f":"IF('Daten Beg'!G28=\"\",\"\",'Daten Beg'!G28)","v":""},{"$f":"IF('Daten Beg'!H28=\"\",\"\",'Daten Beg'!H28)","v":""},{"$f":"IF('Daten Beg'!I28=\"\",\"\",'Daten Beg'!I28)","v":""},"","","","","","","","","","","",0,"",null,null,null,null,null,null,null,null,null,null,null,null,null,null,null,null,null,null,null,null,null,null,null,null,null,null,null,null,null,null,null,null,0,0,0,0,0,0,0,0,0,0,0]
[{"$f":"IF('Daten Beg'!A29=\"\",\"\",'Daten Beg'!A29)","v":""},{"$f":"IF('Daten Beg'!B29=\"\",\"\",'Daten Beg'!B29)","v":""},{"$f":"IF('Daten Beg'!E29=\"\",\"\",'Daten Beg'!E29)","v":""},{"$f":"IF('Daten Beg'!F29=\"\",\"\",'Daten Beg'!F29)","v":""},{"$f":"IF('Daten Beg'!G29=\"\",\"\",'Daten Beg'!G29)","v":""},{"$f":"IF('Daten Beg'!H29=\"\",\"\",'Daten Beg'!H29)","v":""},{"$f":"IF('Daten Beg'!I29=\"\",\"\",'Daten Beg'!I29)","v":""},"","","","","","","","","","","",0,"",null,null,null,null,null,null,null,null,null,null,null,null,null,null,null,null,null,null,null,null,null,null,null,null,null,null,null,null,null,null,null,null,0,0,0,0,0,0,0,0,0,0,0]
[{"$f":"IF('Daten Beg'!A30=\"\",\"\",'Daten Beg'!A30)","v":""},{"$f":"IF('Daten Beg'!B30=\"\",\"\",'Daten Beg'!B30)","v":""},{"$f":"IF('Daten Beg'!E30=\"\",\"\",'Daten Beg'!E30)","v":""},{"$f":"IF('Daten Beg'!F30=\"\",\"\",'Daten Beg'!F30)","v":""},{"$f":"IF('Daten Beg'!G30=\"\",\"\",'Daten Beg'!G30)","v":""},{"$f":"IF('Daten Beg'!H30=\"\",\"\",'Daten Beg'!H30)","v":""},{"$f":"IF('Daten Beg'!I30=\"\",\"\",'Daten Beg'!I30)","v":""},"","","","","","","","","","","",0,"",null,null,null,null,null,null,null,null,null,null,null,null,null,null,null,null,null,null,null,null,null,null,null,null,null,null,null,null,null,null,null,null,0,0,0,0,0,0,0,0,0,0,0]
[{"$f":"IF('Daten Beg'!A31=\"\",\"\",'Daten Beg'!A31)","v":""},{"$f":"IF('Daten Beg'!B31=\"\",\"\",'Daten Beg'!B31)","v":""},{"$f":"IF('Daten Beg'!E31=\"\",\"\",'Daten Beg'!E31)","v":""},{"$f":"IF('Daten Beg'!F31=\"\",\"\",'Daten Beg'!F31)","v":""},{"$f":"IF('Daten Beg'!G31=\"\",\"\",'Daten Beg'!G31)","v":""},{"$f":"IF('Daten Beg'!H31=\"\",\"\",'Daten Beg'!H31)","v":""},{"$f":"IF('Daten Beg'!I31=\"\",\"\",'Daten Beg'!I31)","v":""},"","","","","","","","","","","",0,"",null,null,null,null,null,null,null,null,null,null,null,null,null,null,null,null,null,null,null,null,null,null,null,null,null,null,null,null,null,null,null,null,0,0,0,0,0,0,0,0,0,0,0]
[{"$f":"IF('Daten Beg'!A32=\"\",\"\",'Daten Beg'!A32)","v":""},{"$f":"IF('Daten Beg'!B32=\"\",\"\",'Daten Beg'!B32)","v":""},{"$f":"IF('Daten Beg'!E32=\"\",\"\",'Daten Beg'!E32)","v":""},{"$f":"IF('Daten Beg'!F32=\"\",\"\",'Daten Beg'!F32)","v":""},{"$f":"IF('Daten Beg'!G32=\"\",\"\",'Daten Beg'!G32)","v":""},{"$f":"IF('Daten Beg'!H32=\"\",\"\",'Daten Beg'!H32)","v":""},{"$f":"IF('Daten Beg'!I32=\"\",\"\",'Daten Beg'!I32)","v":""},"","","","","","","","","","","",0,"",null,null,null,null,null,null,null,null,null,null,null,null,null,null,null,null,null,null,null,null,null,null,null,null,null,null,null,null,null,null,null,null,0,0,0,0,0,0,0,0,0,0,0]
[{"$f":"IF('Daten Beg'!A33=\"\",\"\",'Daten Beg'!A33)","v":""},{"$f":"IF('Daten Beg'!B33=\"\",\"\",'Daten Beg'!B33)","v":""},{"$f":"IF('Daten Beg'!E33=\"\",\"\",'Daten Beg'!E33)","v":""},{"$f":"IF('Daten Beg'!F33=\"\",\"\",'Daten Beg'!F33)","v":""},{"$f":"IF('Daten Beg'!G33=\"\",\"\",'Daten Beg'!G33)","v":""},{"$f":"IF('Daten Beg'!H33=\"\",\"\",'Daten Beg'!H33)","v":""},{"$f":"IF('Daten Beg'!I33=\"\",\"\",'Daten Beg'!I33)","v":""},"","","","","","","","","","","",0,"",null,null,null,null,null,null,null,null,null,null,null,null,null,null,null,null,null,null,null,null,null,null,null,null,null,null,null,null,null,null,null,null,0,0,0,0,0,0,0,0,0,0,0]
[{"$f":"IF('Daten Beg'!A34=\"\",\"\",'Daten Beg'!A34)","v":""},{"$f":"IF('Daten Beg'!B34=\"\",\"\",'Daten Beg'!B34)","v":""},{"$f":"IF('Daten Beg'!E34=\"\",\"\",'Daten Beg'!E34)","v":""},{"$f":"IF('Daten Beg'!F34=\"\",\"\",'Daten Beg'!F34)","v":""},{"$f":"IF('Daten Beg'!G34=\"\",\"\",'Daten Beg'!G34)","v":""},{"$f":"IF('Daten Beg'!H34=\"\",\"\",'Daten Beg'!H34)","v":""},{"$f":"IF('Daten Beg'!I34=\"\",\"\",'Daten Beg'!I34)","v":""},"","","","","","","","","","","",0,"",null,null,null,null,null,null,null,null,null,null,null,null,null,null,null,null,null,null,null,null,null,null,null,null,null,null,null,null,null,null,null,null,0,0,0,0,0,0,0,0,0,0,0]
[{"$f":"IF('Daten Beg'!A35=\"\",\"\",'Daten Beg'!A35)","v":""},{"$f":"IF('Daten Beg'!B35=\"\",\"\",'Daten Beg'!B35)","v":""},{"$f":"IF('Daten Beg'!E35=\"\",\"\",'Daten Beg'!E35)","v":""},{"$f":"IF('Daten Beg'!F35=\"\",\"\",'Daten Beg'!F35)","v":""},{"$f":"IF('Daten Beg'!G35=\"\",\"\",'Daten Beg'!G35)","v":""},{"$f":"IF('Daten Beg'!H35=\"\",\"\",'Daten Beg'!H35)","v":""},{"$f":"IF('Daten Beg'!I35=\"\",\"\",'Daten Beg'!I35)","v":""},"","","","","","","","","","","",0,"",null,null,null,null,null,null,null,null,null,null,null,null,null,null,null,null,null,null,null,null,null,null,null,null,null,null,null,null,null,null,null,null,0,0,0,0,0,0,0,0,0,0,0]
[{"$f":"IF('Daten Beg'!A36=\"\",\"\",'Daten Beg'!A36)","v":""},{"$f":"IF('Daten Beg'!B36=\"\",\"\",'Daten Beg'!B36)","v":""},{"$f":"IF('Daten Beg'!E36=\"\",\"\",'Daten Beg'!E36)","v":""},{"$f":"IF('Daten Beg'!F36=\"\",\"\",'Daten Beg'!F36)","v":""},{"$f":"IF('Daten Beg'!G36=\"\",\"\",'Daten Beg'!G36)","v":""},{"$f":"IF('Daten Beg'!H36=\"\",\"\",'Daten Beg'!H36)","v":""},{"$f":"IF('Daten Beg'!I36=\"\",\"\",'Daten Beg'!I36)","v":""},"","","","","","","","","","","",0,"",null,null,null,null,null,null,null,null,null,null,null,null,null,null,null,null,null,null,null,null,null,null,null,null,null,null,null,null,null,null,null,null,0,0,0,0,0,0,0,0,0,0,0]
[{"$f":"IF('Daten Beg'!A37=\"\",\"\",'Daten Beg'!A37)","v":""},{"$f":"IF('Daten Beg'!B37=\"\",\"\",'Daten Beg'!B37)","v":""},{"$f":"IF('Daten Beg'!E37=\"\",\"\",'Daten Beg'!E37)","v":""},{"$f":"IF('Daten Beg'!F37=\"\",\"\",'Daten Beg'!F37)","v":""},{"$f":"IF('Daten Beg'!G37=\"\",\"\",'Daten Beg'!G37)","v":""},{"$f":"IF('Daten Beg'!H37=\"\",\"\",'Daten Beg'!H37)","v":""},{"$f":"IF('Daten Beg'!I37=\"\",\"\",'Daten Beg'!I37)","v":""},"","","","","","","","","","","",0,"",null,null,null,null,null,null,null,null,null,null,null,null,null,null,null,null,null,null,null,null,null,null,null,null,null,null,null,null,null,null,null,null,0,0,0,0,0,0,0,0,0,0,0]
[{"$f":"IF('Daten Beg'!A38=\"\",\"\",'Daten Beg'!A38)","v":""},{"$f":"IF('Daten Beg'!B38=\"\",\"\",'Daten Beg'!B38)","v":""},{"$f":"IF('Daten Beg'!E38=\"\",\"\",'Daten Beg'!E38)","v":""},{"$f":"IF('Daten Beg'!F38=\"\",\"\",'Daten Beg'!F38)","v":""},{"$f":"IF('Daten Beg'!G38=\"\",\"\",'Daten Beg'!G38)","v":""},{"$f":"IF('Daten Beg'!H38=\"\",\"\",'Daten Beg'!H38)","v":""},{"$f":"IF('Daten Beg'!I38=\"\",\"\",'Daten Beg'!I38)","v":""},"","","","","","","","","","","",0,"",null,null,null,null,null,null,null,null,null,null,null,null,null,null,null,null,null,null,null,null,null,null,null,null,null,null,null,null,null,null,null,null,0,0,0,0,0,0,0,0,0,0,0]
[{"$f":"IF('Daten Beg'!A39=\"\",\"\",'Daten Beg'!A39)","v":""},{"$f":"IF('Daten Beg'!B39=\"\",\"\",'Daten Beg'!B39)","v":""},{"$f":"IF('Daten Beg'!E39=\"\",\"\",'Daten Beg'!E39)","v":""},{"$f":"IF('Daten Beg'!F39=\"\",\"\",'Daten Beg'!F39)","v":""},{"$f":"IF('Daten Beg'!G39=\"\",\"\",'Daten Beg'!G39)","v":""},{"$f":"IF('Daten Beg'!H39=\"\",\"\",'Daten Beg'!H39)","v":""},{"$f":"IF('Daten Beg'!I39=\"\",\"\",'Daten Beg'!I39)","v":""},"","","","","","","","","","","",0,"",null,null,null,null,null,null,null,null,null,null,null,null,null,null,null,null,null,null,null,null,null,null,null,null,null,null,null,null,null,null,null,null,0,0,0,0,0,0,0,0,0,0,0]
[{"$f":"IF('Daten Beg'!A40=\"\",\"\",'Daten Beg'!A40)","v":""},{"$f":"IF('Daten Beg'!B40=\"\",\"\",'Daten Beg'!B40)","v":""},{"$f":"IF('Daten Beg'!E40=\"\",\"\",'Daten Beg'!E40)","v":""},{"$f":"IF('Daten Beg'!F40=\"\",\"\",'Daten Beg'!F40)","v":""},{"$f":"IF('Daten Beg'!G40=\"\",\"\",'Daten Beg'!G40)","v":""},{"$f":"IF('Daten Beg'!H40=\"\",\"\",'Daten Beg'!H40)","v":""},{"$f":"IF('Daten Beg'!I40=\"\",\"\",'Daten Beg'!I40)","v":""},"","","","","","","","","","","",0,"",null,null,null,null,null,null,null,null,null,null,null,null,null,null,null,null,null,null,null,null,null,null,null,null,null,null,null,null,null,null,null,null,0,0,0,0,0,0,0,0,0,0,0]
[{"$f":"IF('Daten Beg'!A41=\"\",\"\",'Daten Beg'!A41)","v":""},{"$f":"IF('Daten Beg'!B41=\"\",\"\",'Daten Beg'!B41)","v":""},{"$f":"IF('Daten Beg'!E41=\"\",\"\",'Daten Beg'!E41)","v":""},{"$f":"IF('Daten Beg'!F41=\"\",\"\",'Daten Beg'!F41)","v":""},{"$f":"IF('Daten Beg'!G41=\"\",\"\",'Daten Beg'!G41)","v":""},{"$f":"IF('Daten Beg'!H41=\"\",\"\",'Daten Beg'!H41)","v":""},{"$f":"IF('Daten Beg'!I41=\"\",\"\",'Daten Beg'!I41)","v":""},"","","","","","","","","","","",0,"",null,null,null,null,null,null,null,null,null,null,null,null,null,null,null,null,null,null,null,null,null,null,null,null,null,null,null,null,null,null,null,null,0,0,0,0,0,0,0,0,0,0,0]
[{"$f":"IF('Daten Beg'!A42=\"\",\"\",'Daten Beg'!A42)","v":""},{"$f":"IF('Daten Beg'!B42=\"\",\"\",'Daten Beg'!B42)","v":""},{"$f":"IF('Daten Beg'!E42=\"\",\"\",'Daten Beg'!E42)","v":""},{"$f":"IF('Daten Beg'!F42=\"\",\"\",'Daten Beg'!F42)","v":""},{"$f":"IF('Daten Beg'!G42=\"\",\"\",'Daten Beg'!G42)","v":""},{"$f":"IF('Daten Beg'!H42=\"\",\"\",'Daten Beg'!H42)","v":""},{"$f":"IF('Daten Beg'!I42=\"\",\"\",'Daten Beg'!I42)","v":""},"","","","","","","","","","","",0,"",null,null,null,null,null,null,null,null,null,null,null,null,null,null,null,null,null,null,null,null,null,null,null,null,null,null,null,null,null,null,null,null,0,0,0,0,0,0,0,0,0,0,0]
[{"$f":"IF('Daten Beg'!A43=\"\",\"\",'Daten Beg'!A43)","v":""},{"$f":"IF('Daten Beg'!B43=\"\",\"\",'Daten Beg'!B43)","v":""},{"$f":"IF('Daten Beg'!E43=\"\",\"\",'Daten Beg'!E43)","v":""},{"$f":"IF('Daten Beg'!F43=\"\",\"\",'Daten Beg'!F43)","v":""},{"$f":"IF('Daten Beg'!G43=\"\",\"\",'Daten Beg'!G43)","v":""},{"$f":"IF('Daten Beg'!H43=\"\",\"\",'Daten Beg'!H43)","v":""},{"$f":"IF('Daten Beg'!I43=\"\",\"\",'Daten Beg'!I43)","v":""},"","","","","","","","","","","",0,"",null,null,null,null,null,null,null,null,null,null,null,null,null,null,null,null,null,null,null,null,null,null,null,null,null,null,null,null,null,null,null,null,0,0,0,0,0,0,0,0,0,0,0]
[{"$f":"IF('Daten Beg'!A44=\"\",\"\",'Daten Beg'!A44)","v":""},{"$f":"IF('Daten Beg'!B44=\"\",\"\",'Daten Beg'!B44)","v":""},{"$f":"IF('Daten Beg'!E44=\"\",\"\",'Daten Beg'!E44)","v":""},{"$f":"IF('Daten Beg'!F44=\"\",\"\",'Daten Beg'!F44)","v":""},{"$f":"IF('Daten Beg'!G44=\"\",\"\",'Daten Beg'!G44)","v":""},{"$f":"IF('Daten Beg'!H44=\"\",\"\",'Daten Beg'!H44)","v":""},{"$f":"IF('Daten Beg'!I44=\"\",\"\",'Daten Beg'!I44)","v":""},"","","","","","","","","","","",0,"",null,null,null,null,null,null,null,null,null,null,null,null,null,null,null,null,null,null,null,null,null,null,null,null,null,null,null,null,null,null,null,null,0,0,0,0,0,0,0,0,0,0,0]
[{"$f":"IF('Daten Beg'!A45=\"\",\"\",'Daten Beg'!A45)","v":""},{"$f":"IF('Daten Beg'!B45=\"\",\"\",'Daten Beg'!B45)","v":""},{"$f":"IF('Daten Beg'!E45=\"\",\"\",'Daten Beg'!E45)","v":""},{"$f":"IF('Daten Beg'!F45=\"\",\"\",'Daten Beg'!F45)","v":""},{"$f":"IF('Daten Beg'!G45=\"\",\"\",'Daten Beg'!G45)","v":""},{"$f":"IF('Daten Beg'!H45=\"\",\"\",'Daten Beg'!H45)","v":""},{"$f":"IF('Daten Beg'!I45=\"\",\"\",'Daten Beg'!I45)","v":""},"","","","","","","","","","","",0,"",null,null,null,null,null,null,null,null,null,null,null,null,null,null,null,null,null,null,null,null,null,null,null,null,null,null,null,null,null,null,null,null,0,0,0,0,0,0,0,0,0,0,0]
[]
[]
[{"$f":"'Übersicht Übungen'!H20","v":256},{"$f":"'Übersicht Übungen'!I20","v":320},"Punkte","Punkte"]
[{"$f":"'Übersicht Übungen'!H21","v":224},{"$f":"'Übersicht Übungen'!I21","v":255.5},0,0]
[{"$f":"'Übersicht Übungen'!H22","v":192},{"$f":"'Übersicht Übungen'!I22","v":223.5},5,5]
[{"$f":"'Übersicht Übungen'!H23","v":0},{"$f":"'Übersicht Übungen'!I23","v":191.5},5.25,5.5]
[null,null,5.5,6]
[null,null,5.75,6.5]
[null,null,6,7]
[null,null,6.25,7.5]
[null,null,6.5,8]
[null,null,6.75,8.5]
[null,null,7,9]
[null,null,7.25,9.5]
[null,null,7.5,10]
[null,null,7.75]
[null,null,8]
[null,null,8.25]
[null,null,8.5]
[null,null,8.75]
[null,null,9]
[null,null,9.25]
[null,null,9.5]
[null,null,9.75]
[null,null,10]

{"sheet":"Liste Klasse 1","index":12,"n_rows":64,"n_cols":63,"rows_kept":64,"cut":false,"hidden":false,"merged":[[5,42,5,43],[5,32,5,33],[5,34,5,35],[5,36,5,37],[5,38,5,39],[5,40,5,41],[5,22,5,23],[5,24,5,25],[5,26,5,27],[5,28,5,29],[5,30,5,31],[6,7,6,17],[3,0,5,5],[0,0,0,3],[0,4,0,13],[0,14,0,20],[1,0,1,2],[1,3,1,5],[1,7,1,15],[1,18,1,20]]}
["Obedience:  ",null,null,null,{"$f":"Stammdaten!C5&\"\"","v":"z.B. Vereinsprf."},null,null,null,null,null,null,null,null,null,"Klasse 1"]
["Veranstaltender Verein:",null,null,{"$f":"Stammdaten!C4","v":0},null,null,"Leistungsrichter:",{"$f":"Stammdaten!H3","v":0},null,null,null,null,null,null,null,null,null,"Datum:",{"$f":"Stammdaten!C6","v":"00:00:00"}]
[]
["Ergebnisliste",null,null,null,null,null,"Übung",{"$f":"'Übersicht Übungen'!$A19","v":1},{"$f":"'Übersicht Übungen'!$A20","v":2},{"$f":"'Übersicht Übungen'!$A21","v":3},{"$f":"'Übersicht Übungen'!$A22","v":4},{"$f":"'Übersicht Übungen'!$A23","v":5},{"$f":"'Übersicht Übungen'!$A24","v":6},{"$f":"'Übersicht Übungen'!$A25","v":7},{"$f":"'Übersicht Übungen'!$A26","v":8},{"$f":"'Übersicht Übungen'!$A27","v":9},{"$f":"'Übersicht Übungen'!$A28","v":10},{"$f":"'Übersicht Übungen'!$A29","v":11},null,null,null,null,"Eingabe der Bewertung nach Leistungsrichter:"]
[null,null,null,null,null,null,"Reihenfolge",{"$f":"'Übersicht Übungen'!$B19","v":1},{"$f":"'Übersicht Übungen'!$B20","v":2},{"$f":"'Übersicht Übungen'!$B21","v":3},{"$f":"'Übersicht Übungen'!$B22","v":4},{"$f":"'Übersicht Übungen'!$B23","v":5},{"$f":"'Übersicht Übungen'!$B24","v":6},{"$f":"'Übersicht Übungen'!$B25","v":7},{"$f":"'Übersicht Übungen'!$B26","v":8},{"$f":"'Übersicht Übungen'!$B27","v":9},{"$f":"'Übersicht Übungen'!$B28","v":10},{"$f":"'Übersicht Übungen'!$B29","v":11}]
[null,null,null,null,null,null,"Koeffizient",{"$f":"VLOOKUP(INDEX(UebKlasse1,1,1),UebKlasse1,3,FALSE)","v":3},{"$f":"VLOOKUP(INDEX(UebKlasse1,2,1),UebKlasse1,3,FALSE)","v":4},{"$f":"VLOOKUP(INDEX(UebKlasse1,3,1),UebKlasse1,3,FALSE)","v":3},{"$f":"VLOOKUP(INDEX(UebKlasse1,4,1),UebKlasse1,3,FALSE)","v":4},{"$f":"VLOOKUP(INDEX(UebKlasse1,5,1),UebKlasse1,3,FALSE)","v":4},{"$f":"VLOOKUP(INDEX(UebKlasse1,6,1),UebKlasse1,3,FALSE)","v":4},{"$f":"VLOOKUP(INDEX(UebKlasse1,7,1),UebKlasse1,3,FALSE)","v":4},{"$f":"VLOOKUP(INDEX(UebKlasse1,8,1),UebKlasse1,3,FALSE)","v":4},{"$f":"VLOOKUP(INDEX(UebKlasse1,9,1),UebKlasse1,3,FALSE)","v":2},{"$f":"'Übersicht Übungen'!$C28","v":0},{"$f":"'Übersicht Übungen'!$C29","v":0},null,null,null,null,{"$f":"\"Übung: \"&H$4","v":"Übung: 1"},null,{"$f":"\"Übung: \"&I$4","v":"Übung: 2"},null,{"$f":"\"Übung: \"&J$4","v":"Übung: 3"},null,{"$f":"\"Übung: \"&K$4","v":"Übung: 4"},null,{"$f":"\"Übung: \"&L$4","v":"Übung: 5"},null,{"$f":"\"Übung: \"&M$4","v":"Übung: 6"},null,{"$f":"\"Übung: \"&N$4","v":"Übung: 7"},null,{"$f":"\"Übung: \"&O$4","v":"Übung: 8"},null,{"$f":"IF(\"&P$4\"=\"0\",\"\",\"Übung: \"&P$4)","v":"Übung: 9"},null,{"$f":"IF(\"&QS4\"=\"0\",\"Übung: \"&Q$4,\"\")","v":""},null,{"$f":"IF(\"&RS4\"=\"0\",\"Übung: \"&R$4,\"\")","v":""}]
["Nr.","Los","Hundeführer/-in","Verein","Verband","Hund","Rasse","Auswertung",null,null,null,null,null,null,null,null,null,null,"Gesamt","WN","Platz",null,"LR 1","LR 2","LR 1","LR 2","LR 1","LR 2","LR 1","LR 2","LR 1","LR 2","LR 1","LR 2","LR 1","LR 2","LR 1","LR 2",{"$f":"IF(\"&P$4\"=\"0\",\"\",\"LR 1\")","v":"LR 1"},"LR 2",{"$f":"IF(\"&Q$4\"=\"0\",\"LR 1\",\"\")","v":""},{"$f":"IF(\"&Q$4\"=\"0\",\"LR 2\",\"\")","v":""},{"$f":"IF(\"&RS4\"=\"0\",\"LR 1\",\"\")","v":""},{"$f":"IF(\"&RS4\"=\"0\",\"LR 2\",\"\")","v":""}]
[{"$f":"IF('Daten K1'!A5=\"\",\"\",'Daten K1'!A5)","v":""},{"$f":"IF('Daten K1'!B5=\"\",\"\",'Daten K1'!B5)","v":""},{"$f":"IF('Daten K1'!E5=\"\",\"\",'Daten K1'!E5)","v":""},{"$f":"IF('Daten K1'!F5=\"\",\"\",'Daten K1'!F5)","v":""},{"$f":"IF('Daten K1'!G5=\"\",\"\",'Daten K1'!G5)","v":""},{"$f":"IF('Daten K1'!H5=\"\",\"\",'Daten K1'!H5)","v":""},{"$f":"IF('Daten K1'!I5=\"\",\"\",'Daten K1'!I5)","v":""},{"$f":"IF(AND(W8=\"\",X8=\"\"),\"\",IF(X8=\"\",W8,IF(W8=\"\",X8,((W8+X8)/2))))","v":""},{"$f":"IF(AND(Y8=\"\",Z8=\"\"),\"\",IF(Z8=\"\",Y8,IF(Y8=\"\",Z8,((Y8+Z8)/2))))","v":""},{"$f":"IF(AND(AA8=\"\",AB8=\"\"),\"\",IF(AB8=\"\",AA8,IF(AA8=\"\",AB8,((AA8+AB8)/2))))","v":""},{"$f":"IF(AND(AC8=\"\",AD8=\"\"),\"\",IF(AD8=\"\",AC8,IF(AC8=\"\",AD8,((AC8+AD8)/2))))","v":""},{"$f":"IF(AND(AE8=\"\",AF8=\"\"),\"\",IF(AF8=\"\",AE8,IF(AE8=\"\",AF8,((AE8+AF8)/2))))","v":""},{"$f":"IF(AND(AG8=\"\",AH8=\"\"),\"\",IF(AH8=\"\",AG8,IF(AG8=\"\",AH8,((AG8+AH8)/2))))","v":""},{"$f":"IF(AND(AI8=\"\",AJ8=\"\"),\"\",IF(AJ8=\"\",AI8,IF(AI8=\"\",AJ8,((AI8+AJ8)/2))))","v":""},{"$f":"IF(AND(AK8=\"\",AL8=\"\"),\"\",IF(AL8=\"\",AK8,IF(AK8=\"\",AL8,((AK8+AL8)/2))))","v":""},{"$f":"IF(AND(AM8=\"\",AN8=\"\"),\"\",IF(AN8=\"\",AM8,IF(AM8=\"\",AN8,((AM8+AN8)/2))))","v":""},{"$f":"IF(AND(AO8=\"\",AP8=\"\"),\"\",IF(AP8=\"\",AO8,IF(AO8=\"\",AP8,((AO8+AP8)/2))))","v":""},{"$f":"IF(AND(AP8=\"\",AQ8=\"\"),\"\",IF(AQ8=\"\",AP8,IF(AP8=\"\",AQ8,((AP8+AQ8)/2))))","v":""},{"$f":"SUM(BA8*$H$6+BB8*$I$6+BC8*$J$6+BD8*$K$6+BE8*$L$6+BF8*$M$6+BG8*$N$6+BH8*$O$6+BI8*$P$6+BJ8*$Q$6+BK8*$R$6)","v":0},{"$f":"IF(U8=\"DIS\",\"oAK\",IF(S8=0,\"\",IF(S8>$B$43,\"V\",IF(S8>$B$44,\"SG\",IF(S8>$B$45,\"G\",\"oAK\")))))","v":""},null,null,null,null,null,null,null,null,null,null,null,null,null,null,null,null,null,null,null,null,null,null,null,null,null,null,null,null,null,null,null,null,{"$f":"IF(H8=\"\",0,H8)","v":0},{"$f":"IF(I8=\"\",0,I8)","v":0},{"$f":"IF(J8=\"\",0,J8)","v":0},{"$f":"IF(K8=\"\",0,K8)","v":0},{"$f":"IF(L8=\"\",0,L8)","v":0},{"$f":"IF(M8=\"\",0,M8)","v":0},{"$f":"IF(N8=\"\",0,N8)","v":0},{"$f":"IF(O8=\"\",0,O8)","v":0},{"$f":"IF(P8=\"\",0,P8)","v":0},{"$f":"IF(Q8=\"\",0,Q8)","v":0},{"$f":"IF(R8=\"\",0,R8)","v":0}]
[{"$f":"IF('Daten K1'!A6=\"\",\"\",'Daten K1'!A6)","v":""},{"$f":"IF('Daten K1'!B6=\"\",\"\",'Daten K1'!B6)","v":""},{"$f":"IF('Daten K1'!E6=\"\",\"\",'Daten K1'!E6)","v":""},{"$f":"IF('Daten K1'!F6=\"\",\"\",'Daten K1'!F6)","v":""},{"$f":"IF('Daten K1'!G6=\"\",\"\",'Daten K1'!G6)","v":""},{"$f":"IF('Daten K1'!H6=\"\",\"\",'Daten K1'!H6)","v":""},{"$f":"IF('Daten K1'!I6=\"\",\"\",'Daten K1'!I6)","v":""},{"$f":"IF(AND(W9=\"\",X9=\"\"),\"\",IF(X9=\"\",W9,IF(W9=\"\",X9,((W9+X9)/2))))","v":""},{"$f":"IF(AND(Y9=\"\",Z9=\"\"),\"\",IF(Z9=\"\",Y9,IF(Y9=\"\",Z9,((Y9+Z9)/2))))","v":""},{"$f":"IF(AND(AA9=\"\",AB9=\"\"),\"\",IF(AB9=\"\",AA9,IF(AA9=\"\",AB9,((AA9+AB9)/2))))","v":""},{"$f":"IF(AND(AC9=\"\",AD9=\"\"),\"\",IF(AD9=\"\",AC9,IF(AC9=\"\",AD9,((AC9+AD9)/2))))","v":""},{"$f":"IF(AND(AE9=\"\",AF9=\"\"),\"\",IF(AF9=\"\",AE9,IF(AE9=\"\",AF9,((AE9+AF9)/2))))","v":""},{"$f":"IF(AND(AG9=\"\",AH9=\"\"),\"\",IF(AH9=\"\",AG9,IF(AG9=\"\",AH9,((AG9+AH9)/2))))","v":""},{"$f":"IF(AND(AI9=\"\",AJ9=\"\"),\"\",IF(AJ9=\"\",AI9,IF(AI9=\"\",AJ9,((AI9+AJ9)/2))))","v":""},{"$f":"IF(AND(AK9=\"\",AL9=\"\"),\"\",IF(AL9=\"\",AK9,IF(AK9=\"\",AL9,((AK9+AL9)/2))))","v":""},{"$f":"IF(AND(AM9=\"\",AN9=\"\"),\"\",IF(AN9=\"\",AM9,IF(AM9=\"\",AN9,((AM9+AN9)/2))))","v":""},{"$f":"IF(AND(AO9=\"\",AP9=\"\"),\"\",IF(AP9=\"\",AO9,IF(AO9=\"\",AP9,((AO9+AP9)/2))))","v":""},{"$f":"IF(AND(AP9=\"\",AQ9=\"\"),\"\",IF(AQ9=\"\",AP9,IF(AP9=\"\",AQ9,((AP9+AQ9)/2))))","v":""},0,"",null,null,null,null,null,null,null,null,null,null,null,null,null,null,null,null,null,null,null,null,null,null,null,null,null,null,null,null,null,null,null,null,0,0,0,0,0,0,0,0,0,0,0]
[{"$f":"IF('Daten K1'!A7=\"\",\"\",'Daten K1'!A7)","v":""},{"$f":"IF('Daten K1'!B7=\"\",\"\",'Daten K1'!B7)","v":""},{"$f":"IF('Daten K1'!E7=\"\",\"\",'Daten K1'!E7)","v":""},{"$f":"IF('Daten K1'!F7=\"\",\"\",'Daten K1'!F7)","v":""},{"$f":"IF('Daten K1'!G7=\"\",\"\",'Daten K1'!G7)","v":""},{"$f":"IF('Daten K1'!H7=\"\",\"\",'Daten K1'!H7)","v":""},{"$f":"IF('Daten K1'!I7=\"\",\"\",'Daten K1'!I7)","v":""},"","","","","","","","","","","",0,"",null,null,null,null,null,null,null,null,null,null,null,null,null,null,null,null,null,null,null,null,null,null,null,null,null,null,null,null,null,null,null,null,0,0,0,0,0,0,0,0,0,0,0]
[{"$f":"IF('Daten K1'!A8=\"\",\"\",'Daten K1'!A8)","v":""},{"$f":"IF('Daten K1'!B8=\"\",\"\",'Daten K1'!B8)","v":""},{"$f":"IF('Daten K1'!E8=\"\",\"\",'Daten K1'!E8)","v":""},{"$f":"IF('Daten K1'!F8=\"\",\"\",'Daten K1'!F8)","v":""},{"$f":"IF('Daten K1'!G8=\"\",\"\",'Daten K1'!G8)","v":""},{"$f":"IF('Daten K1'!H8=\"\",\"\",'Daten K1'!H8)","v":""},{"$f":"IF('Daten K1'!I8=\"\",\"\",'Daten K1'!I8)","v":""},"","","","","","","","","","","",0,"",null,null,null,null,null,null,null,null,null,null,null,null,null,null,null,null,null,null,null,null,null,null,null,null,null,null,null,null,null,null,null,null,0,0,0,0,0,0,0,0,0,0,0]
[{"$f":"IF('Daten K1'!A9=\"\",\"\",'Daten K1'!A9)","v":""},{"$f":"IF('Daten K1'!B9=\"\",\"\",'Daten K1'!B9)","v":""},{"$f":"IF('Daten K1'!E9=\"\",\"\",'Daten K1'!E9)","v":""},{"$f":"IF('Daten K1'!F9=\"\",\"\",'Daten K1'!F9)","v":""},{"$f":"IF('Daten K1'!G9=\"\",\"\",'Daten K1'!G9)","v":""},{"$f":"IF('Daten K1'!H9=\"\",\"\",'Daten K1'!H9)","v":""},{"$f":"IF('Daten K1'!I9=\"\",\"\",'Daten K1'!I9)","v":""},"","","","","","","","","","","",0,"",null,null,null,null,null,null,null,null,null,null,null,null,null,null,null,null,null,null,null,null,null,null,null,null,null,null,null,null,null,null,null,null,0,0,0,0,0,0,0,0,0,0,0]
[{"$f":"IF('Daten K1'!A10=\"\",\"\",'Daten K1'!A10)","v":""},{"$f":"IF('Daten K1'!B10=\"\",\"\",'Daten K1'!B10)","v":""},{"$f":"IF('Daten K1'!E10=\"\",\"\",'Daten K1'!E10)","v":""},{"$f":"IF('Daten K1'!F10=\"\",\"\",'Daten K1'!F10)","v":""},{"$f":"IF('Daten K1'!G10=\"\",\"\",'Daten K1'!G10)","v":""},{"$f":"IF('Daten K1'!H10=\"\",\"\",'Daten K1'!H10)","v":""},{"$f":"IF('Daten K1'!I10=\"\",\"\",'Daten K1'!I10)","v":""},"","","","","","","","","","","",0,"",null,null,null,null,null,null,null,null,null,null,null,null,null,null,null,null,null,null,null,null,null,null,null,null,null,null,null,null,null,null,null,null,0,0,0,0,0,0,0,0,0,0,0]
[{"$f":"IF('Daten K1'!A11=\"\",\"\",'Daten K1'!A11)","v":""},{"$f":"IF('Daten K1'!B11=\"\",\"\",'Daten K1'!B11)","v":""},{"$f":"IF('Daten K1'!E11=\"\",\"\",'Daten K1'!E11)","v":""},{"$f":"IF('Daten K1'!F11=\"\",\"\",'Daten K1'!F11)","v":""},{"$f":"IF('Daten K1'!G11=\"\",\"\",'Daten K1'!G11)","v":""},{"$f":"IF('Daten K1'!H11=\"\",\"\",'Daten K1'!H11)","v":""},{"$f":"IF('Daten K1'!I11=\"\",\"\",'Daten K1'!I11)","v":""},"","","","","","","","","","","",0,"",null,null,null,null,null,null,null,null,null,null,null,null,null,null,null,null,null,null,null,null,null,null,null,null,null,null,null,null,null,null,null,null,0,0,0,0,0,0,0,0,0,0,0]
[{"$f":"IF('Daten K1'!A12=\"\",\"\",'Daten K1'!A12)","v":""},{"$f":"IF('Daten K1'!B12=\"\",\"\",'Daten K1'!B12)","v":""},{"$f":"IF('Daten K1'!E12=\"\",\"\",'Daten K1'!E12)","v":""},{"$f":"IF('Daten K1'!F12=\"\",\"\",'Daten K1'!F12)","v":""},{"$f":"IF('Daten K1'!G12=\"\",\"\",'Daten K1'!G12)","v":""},{"$f":"IF('Daten K1'!H12=\"\",\"\",'Daten K1'!H12)","v":""},{"$f":"IF('Daten K1'!I12=\"\",\"\",'Daten K1'!I12)","v":""},{"$f":"IF(AND(W15=\"\",X15=\"\"),\"\",IF(X15=\"\",W15,IF(W15=\"\",X15,((W15+X15)/2))))","v":""},{"$f":"IF(AND(Y15=\"\",Z15=\"\"),\"\",IF(Z15=\"\",Y15,IF(Y15=\"\",Z15,((Y15+Z15)/2))))","v":""},{"$f":"IF(AND(AA15=\"\",AB15=\"\"),\"\",IF(AB15=\"\",AA15,IF(AA15=\"\",AB15,((AA15+AB15)/2))))","v":""},{"$f":"IF(AND(AC15=\"\",AD15=\"\"),\"\",IF(AD15=\"\",AC15,IF(AC15=\"\",AD15,((AC15+AD15)/2))))","v":""},{"$f":"IF(AND(AE15=\"\",AF15=\"\"),\"\",IF(AF15=\"\",AE15,IF(AE15=\"\",AF15,((AE15+AF15)/2))))","v":""},{"$f":"IF(AND(AG15=\"\",AH15=\"\"),\"\",IF(AH15=\"\",AG15,IF(AG15=\"\",AH15,((AG15+AH15)/2))))","v":""},{"$f":"IF(AND(AI15=\"\",AJ15=\"\"),\"\",IF(AJ15=\"\",AI15,IF(AI15=\"\",AJ15,((AI15+AJ15)/2))))","v":""},{"$f":"IF(AND(AK15=\"\",AL15=\"\"),\"\",IF(AL15=\"\",AK15,IF(AK15=\"\",AL15,((AK15+AL15)/2))))","v":""},{"$f":"IF(AND(AM15=\"\",AN15=\"\"),\"\",IF(AN15=\"\",AM15,IF(AM15=\"\",AN15,((AM15+AN15)/2))))","v":""},{"$f":"IF(AND(AO15=\"\",AP15=\"\"),\"\",IF(AP15=\"\",AO15,IF(AO15=\"\",AP15,((AO15+AP15)/2))))","v":""},{"$f":"IF(AND(AP15=\"\",AQ15=\"\"),\"\",IF(AQ15=\"\",AP15,IF(AP15=\"\",AQ15,((AP15+AQ15)/2))))","v":""},0,"",null,null,null,null,null,null,null,null,null,null,null,null,null,null,null,null,null,null,null,null,null,null,null,null,null,null,null,null,null,null,null,null,0,0,0,0,0,0,0,0,0,0,0]
[{"$f":"IF('Daten K1'!A13=\"\",\"\",'Daten K1'!A13)","v":""},{"$f":"IF('Daten K1'!B13=\"\",\"\",'Daten K1'!B13)","v":""},{"$f":"IF('Daten K1'!E13=\"\",\"\",'Daten K1'!E13)","v":""},{"$f":"IF('Daten K1'!F13=\"\",\"\",'Daten K1'!F13)","v":""},{"$f":"IF('Daten K1'!G13=\"\",\"\",'Daten K1'!G13)","v":""},{"$f":"IF('Daten K1'!H13=\"\",\"\",'Daten K1'!H13)","v":""},{"$f":"IF('Daten K1'!I13=\"\",\"\",'Daten K1'!I13)","v":""},"","","","","","","","","","","",0,"",null,null,null,null,null,null,null,null,null,null,null,null,null,null,null,null,null,null,null,null,null,null,null,null,null,null,null,null,null,null,null,null,0,0,0,0,0,0,0,0,0,0,0]
[{"$f":"IF('Daten K1'!A14=\"\",\"\",'Daten K1'!A14)","v":""},{"$f":"IF('Daten K1'!B14=\"\",\"\",'Daten K1'!B14)","v":""},{"$f":"IF('Daten K1'!E14=\"\",\"\",'Daten K1'!E14)","v":""},{"$f":"IF('Daten K1'!F14=\"\",\"\",'Daten K1'!F14)","v":""},{"$f":"IF('Daten K1'!G14=\"\",\"\",'Daten K1'!G14)","v":""},{"$f":"IF('Daten K1'!H14=\"\",\"\",'Daten K1'!H14)","v":""},{"$f":"IF('Daten K1'!I14=\"\",\"\",'Daten K1'!I14)","v":""},"","","","","","","","","","","",0,"",null,null,null,null,null,null,null,null,null,null,null,null,null,null,null,null,null,null,null,null,null,null,null,null,null,null,null,null,null,null,null,null,0,0,0,0,0,0,0,0,0,0,0]
[{"$f":"IF('Daten K1'!A15=\"\",\"\",'Daten K1'!A15)","v":""},{"$f":"IF('Daten K1'!B15=\"\",\"\",'Daten K1'!B15)","v":""},{"$f":"IF('Daten K1'!E15=\"\",\"\",'Daten K1'!E15)","v":""},{"$f":"IF('Daten K1'!F15=\"\",\"\",'Daten K1'!F15)","v":""},{"$f":"IF('Daten K1'!G15=\"\",\"\",'Daten K1'!G15)","v":""},{"$f":"IF('Daten K1'!H15=\"\",\"\",'Daten K1'!H15)","v":""},{"$f":"IF('Daten K1'!I15=\"\",\"\",'Daten K1'!I15)","v":""},"","","","","","","","","","","",0,"",null,null,null,null,null,null,null,null,null,null,null,null,null,null,null,null,null,null,null,null,null,null,null,null,null,null,null,null,null,null,null,null,0,0,0,0,0,0,0,0,0,0,0]
[{"$f":"IF('Daten K1'!A16=\"\",\"\",'Daten K1'!A16)","v":""},{"$f":"IF('Daten K1'!B16=\"\",\"\",'Daten K1'!B16)","v":""},{"$f":"IF('Daten K1'!E16=\"\",\"\",'Daten K1'!E16)","v":""},{"$f":"IF('Daten K1'!F16=\"\",\"\",'Daten K1'!F16)","v":""},{"$f":"IF('Daten K1'!G16=\"\",\"\",'Daten K1'!G16)","v":""},{"$f":"IF('Daten K1'!H16=\"\",\"\",'Daten K1'!H16)","v":""},{"$f":"IF('Daten K1'!I16=\"\",\"\",'Daten K1'!I16)","v":""},"","","","","","","","","","","",0,"",null,null,null,null,null,null,null,null,null,null,null,null,null,null,null,null,null,null,null,null,null,null,null,null,null,null,null,null,null,null,null,null,0,0,0,0,0,0,0,0,0,0,0]
[{"$f":"IF('Daten K1'!A17=\"\",\"\",'Daten K1'!A17)","v":""},{"$f":"IF('Daten K1'!B17=\"\",\"\",'Daten K1'!B17)","v":""},{"$f":"IF('Daten K1'!E17=\"\",\"\",'Daten K1'!E17)","v":""},{"$f":"IF('Daten K1'!F17=\"\",\"\",'Daten K1'!F17)","v":""},{"$f":"IF('Daten K1'!G17=\"\",\"\",'Daten K1'!G17)","v":""},{"$f":"IF('Daten K1'!H17=\"\",\"\",'Daten K1'!H17)","v":""},{"$f":"IF('Daten K1'!I17=\"\",\"\",'Daten K1'!I17)","v":""},"","","","","","","","","","","",0,"",null,null,null,null,null,null,null,null,null,null,null,null,null,null,null,null,null,null,null,null,null,null,null,null,null,null,null,null,null,null,null,null,0,0,0,0,0,0,0,0,0,0,0]
[{"$f":"IF('Daten K1'!A18=\"\",\"\",'Daten K1'!A18)","v":""},{"$f":"IF('Daten K1'!B18=\"\",\"\",'Daten K1'!B18)","v":""},{"$f":"IF('Daten K1'!E18=\"\",\"\",'Daten K1'!E18)","v":""},{"$f":"IF('Daten K1'!F18=\"\",\"\",'Daten K1'!F18)","v":""},{"$f":"IF('Daten K1'!G18=\"\",\"\",'Daten K1'!G18)","v":""},{"$f":"IF('Daten K1'!H18=\"\",\"\",'Daten K1'!H18)","v":""},{"$f":"IF('Daten K1'!I18=\"\",\"\",'Daten K1'!I18)","v":""},"","","","","","","","","","","",0,"",null,null,null,null,null,null,null,null,null,null,null,null,null,null,null,null,null,null,null,null,null,null,null,null,null,null,null,null,null,null,null,null,0,0,0,0,0,0,0,0,0,0,0]
[{"$f":"IF('Daten K1'!A19=\"\",\"\",'Daten K1'!A19)","v":""},{"$f":"IF('Daten K1'!B19=\"\",\"\",'Daten K1'!B19)","v":""},{"$f":"IF('Daten K1'!E19=\"\",\"\",'Daten K1'!E19)","v":""},{"$f":"IF('Daten K1'!F19=\"\",\"\",'Daten K1'!F19)","v":""},{"$f":"IF('Daten K1'!G19=\"\",\"\",'Daten K1'!G19)","v":""},{"$f":"IF('Daten K1'!H19=\"\",\"\",'Daten K1'!H19)","v":""},{"$f":"IF('Daten K1'!I19=\"\",\"\",'Daten K1'!I19)","v":""},"","","","","","","","","","","",0,"",null,null,null,null,null,null,null,null,null,null,null,null,null,null,null,null,null,null,null,null,null,null,null,null,null,null,null,null,null,null,null,null,0,0,0,0,0,0,0,0,0,0,0]
[{"$f":"IF('Daten K1'!A20=\"\",\"\",'Daten K1'!A20)","v":""},{"$f":"IF('Daten K1'!B20=\"\",\"\",'Daten K1'!B20)","v":""},{"$f":"IF('Daten K1'!E20=\"\",\"\",'Daten K1'!E20)","v":""},{"$f":"IF('Daten K1'!F20=\"\",\"\",'Daten K1'!F20)","v":""},{"$f":"IF('Daten K1'!G20=\"\",\"\",'Daten K1'!G20)","v":""},{"$f":"IF('Daten K1'!H20=\"\",\"\",'Daten K1'!H20)","v":""},{"$f":"IF('Daten K1'!I20=\"\",\"\",'Daten K1'!I20)","v":""},"","","","","","","","","","","",0,"",null,null,null,null,null,null,null,null,null,null,null,null,null,null,null,null,null,null,null,null,null,null,null,null,null,null,null,null,null,null,null,null,0,0,0,0,0,0,0,0,0,0,0]
[{"$f":"IF('Daten K1'!A21=\"\",\"\",'Daten K1'!A21)","v":""},{"$f":"IF('Daten K1'!B21=\"\",\"\",'Daten K1'!B21)","v":""},{"$f":"IF('Daten K1'!E21=\"\",\"\",'Daten K1'!E21)","v":""},{"$f":"IF('Daten K1'!F21=\"\",\"\",'Daten K1'!F21)","v":""},{"$f":"IF('Daten K1'!G21=\"\",\"\",'Daten K1'!G21)","v":""},{"$f":"IF('Daten K1'!H21=\"\",\"\",'Daten K1'!H21)","v":""},{"$f":"IF('Daten K1'!I21=\"\",\"\",'Daten K1'!I21)","v":""},"","","","","","","","","","","",0,"",null,null,null,null,null,null,null,null,null,null,null,null,null,null,null,null,null,null,null,null,null,null,null,null,null,null,null,null,null,null,null,null,0,0,0,0,0,0,0,0,0,0,0]
[{"$f":"IF('Daten K1'!A22=\"\",\"\",'Daten K1'!A22)","v":""},{"$f":"IF('Daten K1'!B22=\"\",\"\",'Daten K1'!B22)","v":""},{"$f":"IF('Daten K1'!E22=\"\",\"\",'Daten K1'!E22)","v":""},{"$f":"IF('Daten K1'!F22=\"\",\"\",'Daten K1'!F22)","v":""},{"$f":"IF('Daten K1'!G22=\"\",\"\",'Daten K1'!G22)","v":""},{"$f":"IF('Daten K1'!H22=\"\",\"\",'Daten K1'!H22)","v":""},{"$f":"IF('Daten K1'!I22=\"\",\"\",'Daten K1'!I22)","v":""},"","","","","","","","","","","",0,"",null,null,null,null,null,null,null,null,null,null,null,null,null,null,null,null,null,null,null,null,null,null,null,null,null,null,null,null,null,null,null,null,0,0,0,0,0,0,0,0,0,0,0]
[{"$f":"IF('Daten K1'!A23=\"\",\"\",'Daten K1'!A23)","v":""},{"$f":"IF('Daten K1'!B23=\"\",\"\",'Daten K1'!B23)","v":""},{"$f":"IF('Daten K1'!E23=\"\",\"\",'Daten K1'!E23)","v":""},{"$f":"IF('Daten K1'!F23=\"\",\"\",'Daten K1'!F23)","v":""},{"$f":"IF('Daten K1'!G23=\"\",\"\",'Daten K1'!G23)","v":""},{"$f":"IF('Daten K1'!H23=\"\",\"\",'Daten K1'!H23)","v":""},{"$f":"IF('Daten K1'!I23=\"\",\"\",'Daten K1'!I23)","v":""},"","","","","","","","","","","",0,"",null,null,null,null,null,null,null,null,null,null,null,null,null,null,null,null,null,null,null,null,null,null,null,null,null,null,null,null,null,null,null,null,0,0,0,0,0,0,0,0,0,0,0]
[{"$f":"IF('Daten K1'!A24=\"\",\"\",'Daten K1'!A24)","v":""},{"$f":"IF('Daten K1'!B24=\"\",\"\",'Daten K1'!B24)","v":""},{"$f":"IF('Daten K1'!E24=\"\",\"\",'Daten K1'!E24)","v":""},{"$f":"IF('Daten K1'!F24=\"\",\"\",'Daten K1'!F24)","v":""},{"$f":"IF('Daten K1'!G24=\"\",\"\",'Daten K1'!G24)","v":""},{"$f":"IF('Daten K1'!H24=\"\",\"\",'Daten K1'!H24)","v":""},{"$f":"IF('Daten K1'!I24=\"\",\"\",'Daten K1'!I24)","v":""},{"$f":"IF(AND(W27=\"\",X27=\"\"),\"\",IF(X27=\"\",W27,IF(W27=\"\",X27,((W27+X27)/2))))","v":""},{"$f":"IF(AND(Y27=\"\",Z27=\"\"),\"\",IF(Z27=\"\",Y27,IF(Y27=\"\",Z27,((Y27+Z27)/2))))","v":""},{"$f":"IF(AND(AA27=\"\",AB27=\"\"),\"\",IF(AB27=\"\",AA27,IF(AA27=\"\",AB27,((AA27+AB27)/2))))","v":""},{"$f":"IF(AND(AC27=\"\",AD27=\"\"),\"\",IF(AD27=\"\",AC27,IF(AC27=\"\",AD27,((AC27+AD27)/2))))","v":""},{"$f":"IF(AND(AE27=\"\",AF27=\"\"),\"\",IF(AF27=\"\",AE27,IF(AE27=\"\",AF27,((AE27+AF27)/2))))","v":""},{"$f":"IF(AND(AG27=\"\",AH27=\"\"),\"\",IF(AH27=\"\",AG27,IF(AG27=\"\",AH27,((AG27+AH27)/2))))","v":""},{"$f":"IF(AND(AI27=\"\",AJ27=\"\"),\"\",IF(AJ27=\"\",AI27,IF(AI27=\"\",AJ27,((AI27+AJ27)/2))))","v":""},{"$f":"IF(AND(AK27=\"\",AL27=\"\"),\"\",IF(AL27=\"\",AK27,IF(AK27=\"\",AL27,((AK27+AL27)/2))))","v":""},{"$f":"IF(AND(AM27=\"\",AN27=\"\"),\"\",IF(AN27=\"\",AM27,IF(AM27=\"\",AN27,((AM27+AN27)/2))))","v":""},{"$f":"IF(AND(AO27=\"\",AP27=\"\"),\"\",IF(AP27=\"\",AO27,IF(AO27=\"\",AP27,((AO27+AP27)/2))))","v":""},{"$f":"IF(AND(AP27=\"\",AQ27=\"\"),\"\",IF(AQ27=\"\",AP27,IF(AP27=\"\",AQ27,((AP27+AQ27)/2))))","v":""},0,"",null,null,null,null,null,null,null,null,null,null,null,null,null,null,null,null,null,null,null,null,null,null,null,null,null,null,null,null,null,null,null,null,0,0,0,0,0,0,0,0,0,0,0]
[{"$f":"IF('Daten K1'!A25=\"\",\"\",'Daten K1'!A25)","v":""},{"$f":"IF('Daten K1'!B25=\"\",\"\",'Daten K1'!B25)","v":""},{"$f":"IF('Daten K1'!E25=\"\",\"\",'Daten K1'!E25)","v":""},{"$f":"IF('Daten K1'!F25=\"\",\"\",'Daten K1'!F25)","v":""},{"$f":"IF('Daten K1'!G25=\"\",\"\",'Daten K1'!G25)","v":""},{"$f":"IF('Daten K1'!H25=\"\",\"\",'Daten K1'!H25)","v":""},{"$f":"IF('Daten K1'!I25=\"\",\"\",'Daten K1'!I25)","v":""},"","","","","","","","","","","",0,"",null,null,null,null,null,null,null,null,null,null,null,null,null,null,null,null,null,null,null,null,null,null,null,null,null,null,null,null,null,null,null,null,0,0,0,0,0,0,0,0,0,0,0]
[{"$f":"IF('Daten K1'!A26=\"\",\"\",'Daten K1'!A26)","v":""},{"$f":"IF('Daten K1'!B26=\"\",\"\",'Daten K1'!B26)","v":""},{"$f":"IF('Daten K1'!E26=\"\",\"\",'Daten K1'!E26)","v":""},{"$f":"IF('Daten K1'!F26=\"\",\"\",'Daten K1'!F26)","v":""},{"$f":"IF('Daten K1'!G26=\"\",\"\",'Daten K1'!G26)","v":""},{"$f":"IF('Daten K1'!H26=\"\",\"\",'Daten K1'!H26)","v":""},{"$f":"IF('Daten K1'!I26=\"\",\"\",'Daten K1'!I26)","v":""},"","","","","","","","","","","",0,"",null,null,null,null,null,null,null,null,null,null,null,null,null,null,null,null,null,null,null,null,null,null,null,null,null,null,null,null,null,null,null,null,0,0,0,0,0,0,0,0,0,0,0]
[{"$f":"IF('Daten K1'!A27=\"\",\"\",'Daten K1'!A27)","v":""},{"$f":"IF('Daten K1'!B27=\"\",\"\",'Daten K1'!B27)","v":""},{"$f":"IF('Daten K1'!E27=\"\",\"\",'Daten K1'!E27)","v":""},{"$f":"IF('Daten K1'!F27=\"\",\"\",'Daten K1'!F27)","v":""},{"$f":"IF('Daten K1'!G27=\"\",\"\",'Daten K1'!G27)","v":""},{"$f":"IF('Daten K1'!H27=\"\",\"\",'Daten K1'!H27)","v":""},{"$f":"IF('Daten K1'!I27=\"\",\"\",'Daten K1'!I27)","v":""},"","","","","","","","","","","",0,"",null,null,null,null,null,null,null,null,null,null,null,null,null,null,null,null,null,null,null,null,null,null,null,null,null,null,null,null,null,null,null,null,0,0,0,0,0,0,0,0,0,0,0]
[{"$f":"IF('Daten K1'!A28=\"\",\"\",'Daten K1'!A28)","v":""},{"$f":"IF('Daten K1'!B28=\"\",\"\",'Daten K1'!B28)","v":""},{"$f":"IF('Daten K1'!E28=\"\",\"\",'Daten K1'!E28)","v":""},{"$f":"IF('Daten K1'!F28=\"\",\"\",'Daten K1'!F28)","v":""},{"$f":"IF('Daten K1'!G28=\"\",\"\",'Daten K1'!G28)","v":""},{"$f":"IF('Daten K1'!H28=\"\",\"\",'Daten K1'!H28)","v":""},{"$f":"IF('Daten K1'!I28=\"\",\"\",'Daten K1'!I28)","v":""},"","","","","","","","","","","",0,"",null,null,null,null,null,null,null,null,null,null,null,null,null,null,null,null,null,null,null,null,null,null,null,null,null,null,null,null,null,null,null,null,0,0,0,0,0,0,0,0,0,0,0]
[{"$f":"IF('Daten K1'!A29=\"\",\"\",'Daten K1'!A29)","v":""},{"$f":"IF('Daten K1'!B29=\"\",\"\",'Daten K1'!B29)","v":""},{"$f":"IF('Daten K1'!E29=\"\",\"\",'Daten K1'!E29)","v":""},{"$f":"IF('Daten K1'!F29=\"\",\"\",'Daten K1'!F29)","v":""},{"$f":"IF('Daten K1'!G29=\"\",\"\",'Daten K1'!G29)","v":""},{"$f":"IF('Daten K1'!H29=\"\",\"\",'Daten K1'!H29)","v":""},{"$f":"IF('Daten K1'!I29=\"\",\"\",'Daten K1'!I29)","v":""},"","","","","","","","","","","",0,"",null,null,null,null,null,null,null,null,null,null,null,null,null,null,null,null,null,null,null,null,null,null,null,null,null,null,null,null,null,null,null,null,0,0,0,0,0,0,0,0,0,0,0]
[{"$f":"IF('Daten K1'!A30=\"\",\"\",'Daten K1'!A30)","v":""},{"$f":"IF('Daten K1'!B30=\"\",\"\",'Daten K1'!B30)","v":""},{"$f":"IF('Daten K1'!E30=\"\",\"\",'Daten K1'!E30)","v":""},{"$f":"IF('Daten K1'!F30=\"\",\"\",'Daten K1'!F30)","v":""},{"$f":"IF('Daten K1'!G30=\"\",\"\",'Daten K1'!G30)","v":""},{"$f":"IF('Daten K1'!H30=\"\",\"\",'Daten K1'!H30)","v":""},{"$f":"IF('Daten K1'!I30=\"\",\"\",'Daten K1'!I30)","v":""},"","","","","","","","","","","",0,"",null,null,null,null,null,null,null,null,null,null,null,null,null,null,null,null,null,null,null,null,null,null,null,null,null,null,null,null,null,null,null,null,0,0,0,0,0,0,0,0,0,0,0]
[{"$f":"IF('Daten K1'!A31=\"\",\"\",'Daten K1'!A31)","v":""},{"$f":"IF('Daten K1'!B31=\"\",\"\",'Daten K1'!B31)","v":""},{"$f":"IF('Daten K1'!E31=\"\",\"\",'Daten K1'!E31)","v":""},{"$f":"IF('Daten K1'!F31=\"\",\"\",'Daten K1'!F31)","v":""},{"$f":"IF('Daten K1'!G31=\"\",\"\",'Daten K1'!G31)","v":""},{"$f":"IF('Daten K1'!H31=\"\",\"\",'Daten K1'!H31)","v":""},{"$f":"IF('Daten K1'!I31=\"\",\"\",'Daten K1'!I31)","v":""},"","","","","","","","","","","",0,"",null,null,null,null,null,null,null,null,null,null,null,null,null,null,null,null,null,null,null,null,null,null,null,null,null,null,null,null,null,null,null,null,0,0,0,0,0,0,0,0,0,0,0]
[{"$f":"IF('Daten K1'!A32=\"\",\"\",'Daten K1'!A32)","v":""},{"$f":"IF('Daten K1'!B32=\"\",\"\",'Daten K1'!B32)","v":""},{"$f":"IF('Daten K1'!E32=\"\",\"\",'Daten K1'!E32)","v":""},{"$f":"IF('Daten K1'!F32=\"\",\"\",'Daten K1'!F32)","v":""},{"$f":"IF('Daten K1'!G32=\"\",\"\",'Daten K1'!G32)","v":""},{"$f":"IF('Daten K1'!H32=\"\",\"\",'Daten K1'!H32)","v":""},{"$f":"IF('Daten K1'!I32=\"\",\"\",'Daten K1'!I32)","v":""},"","","","","","","","","","","",0,"",null,null,null,null,null,null,null,null,null,null,null,null,null,null,null,null,null,null,null,null,null,null,null,null,null,null,null,null,null,null,null,null,0,0,0,0,0,0,0,0,0,0,0]
[{"$f":"IF('Daten K1'!A33=\"\",\"\",'Daten K1'!A33)","v":""},{"$f":"IF('Daten K1'!B33=\"\",\"\",'Daten K1'!B33)","v":""},{"$f":"IF('Daten K1'!E33=\"\",\"\",'Daten K1'!E33)","v":""},{"$f":"IF('Daten K1'!F33=\"\",\"\",'Daten K1'!F33)","v":""},{"$f":"IF('Daten K1'!G33=\"\",\"\",'Daten K1'!G33)","v":""},{"$f":"IF('Daten K1'!H33=\"\",\"\",'Daten K1'!H33)","v":""},{"$f":"IF('Daten K1'!I33=\"\",\"\",'Daten K1'!I33)","v":""},"","","","","","","","","","","",0,"",null,null,null,null,null,null,null,null,null,null,null,null,null,null,null,null,null,null,null,null,null,null,null,null,null,null,null,null,null,null,null,null,0,0,0,0,0,0,0,0,0,0,0]
[{"$f":"IF('Daten K1'!A34=\"\",\"\",'Daten K1'!A34)","v":""},{"$f":"IF('Daten K1'!B34=\"\",\"\",'Daten K1'!B34)","v":""},{"$f":"IF('Daten K1'!E34=\"\",\"\",'Daten K1'!E34)","v":""},{"$f":"IF('Daten K1'!F34=\"\",\"\",'Daten K1'!F34)","v":""},{"$f":"IF('Daten K1'!G34=\"\",\"\",'Daten K1'!G34)","v":""},{"$f":"IF('Daten K1'!H34=\"\",\"\",'Daten K1'!H34)","v":""},{"$f":"IF('Daten K1'!I34=\"\",\"\",'Daten K1'!I34)","v":""},"","","","","","","","","","","",0,"",null,null,null,null,null,null,null,null,null,null,null,null,null,null,null,null,null,null,null,null,null,null,null,null,null,null,null,null,null,null,null,null,0,0,0,0,0,0,0,0,0,0,0]
[{"$f":"IF('Daten K1'!A35=\"\",\"\",'Daten K1'!A35)","v":""},{"$f":"IF('Daten K1'!B35=\"\",\"\",'Daten K1'!B35)","v":""},{"$f":"IF('Daten K1'!E35=\"\",\"\",'Daten K1'!E35)","v":""},{"$f":"IF('Daten K1'!F35=\"\",\"\",'Daten K1'!F35)","v":""},{"$f":"IF('Daten K1'!G35=\"\",\"\",'Daten K1'!G35)","v":""},{"$f":"IF('Daten K1'!H35=\"\",\"\",'Daten K1'!H35)","v":""},{"$f":"IF('Daten K1'!I35=\"\",\"\",'Daten K1'!I35)","v":""},"","","","","","","","","","","",0,"",null,null,null,null,null,null,null,null,null,null,null,null,null,null,null,null,null,null,null,null,null,null,null,null,null,null,null,null,null,null,null,null,0,0,0,0,0,0,0,0,0,0,0]
[]
[]
[]
[{"$f":"'Übersicht Übungen'!H20","v":256},{"$f":"'Übersicht Übungen'!I20","v":320},"Punkte","Punkte"]
[{"$f":"'Übersicht Übungen'!H21","v":224},{"$f":"'Übersicht Übungen'!I21","v":255.5},0,0]
[{"$f":"'Übersicht Übungen'!H22","v":192},{"$f":"'Übersicht Übungen'!I22","v":223.5},5,5]
[{"$f":"'Übersicht Übungen'!H23","v":0},{"$f":"'Übersicht Übungen'!I23","v":191.5},5.25,5.5]
[null,null,5.5,6]
[null,null,5.75,6.5]
[null,null,6,7]
[null,null,6.25,7.5]
[null,null,6.5,8]
[null,null,6.75,8.5]
[null,null,7,9]
[null,null,7.25,9.5]
[null,null,7.5,10]
[null,null,7.75]
[null,null,8]
[null,null,8.25]
[null,null,8.5]
[null,null,8.75]
[null,null,9]
[null,null,9.25]
[null,null,9.5]
[null,null,9.75]
[null,null,10]

{"sheet":"Liste Klasse 2","index":13,"n_rows":64,"n_cols":63,"rows_kept":64,"cut":false,"hidden":false,"merged":[[0,0,0,3],[0,4,0,13],[0,14,0,20],[1,0,1,2],[1,3,1,5],[1,7,1,15],[1,18,1,20],[5,40,5,41],[5,42,5,43],[3,0,5,5],[5,22,5,23],[5,24,5,25],[5,26,5,27],[5,28,5,29],[5,30,5,31],[6,7,6,17],[5,32,5,33],[5,34,5,35],[5,36,5,37],[5,38,5,39]]}
["Obedience:  ",null,null,null,{"$f":"Stammdaten!C5&\"\"","v":"z.B. Vereinsprf."},null,null,null,null,null,null,null,null,null,"Klasse 2"]
["Veranstaltender Verein:",null,null,{"$f":"Stammdaten!C4","v":0},null,null,"Leistungsrichter:",{"$f":"Stammdaten!H3","v":0},null,null,null,null,null,null,null,null,null,"Datum:",{"$f":"Stammdaten!C6","v":"00:00:00"}]
[]
["Ergebnisliste",null,null,null,null,null,"Übung",{"$f":"'Übersicht Übungen'!$A33","v":1},{"$f":"'Übersicht Übungen'!$A34","v":2},{"$f":"'Übersicht Übungen'!$A35","v":3},{"$f":"'Übersicht Übungen'!$A36","v":4},{"$f":"'Übersicht Übungen'!$A37","v":5},{"$f":"'Übersicht Übungen'!$A38","v":6},{"$f":"'Übersicht Übungen'!$A39","v":7},{"$f":"'Übersicht Übungen'!$A40","v":8},{"$f":"'Übersicht Übungen'!$A41","v":9},{"$f":"'Übersicht Übungen'!$A42","v":10},{"$f":"'Übersicht Übungen'!$A44","v":0},null,null,null,null,"Eingabe der Bewertung nach Leistungsrichter:"]
[null,null,null,null,null,null,"Reihenfolge",{"$f":"'Übersicht Übungen'!$B33","v":1},{"$f":"'Übersicht Übungen'!$B34","v":2},{"$f":"'Übersicht Übungen'!$B35","v":3},{"$f":"'Übersicht Übungen'!$B36","v":4},{"$f":"'Übersicht Übungen'!$B37","v":5},{"$f":"'Übersicht Übungen'!$B38","v":6},{"$f":"'Übersicht Übungen'!$B39","v":7},{"$f":"'Übersicht Übungen'!$B40","v":8},{"$f":"'Übersicht Übungen'!$B41","v":9},{"$f":"'Übersicht Übungen'!$B42","v":10},{"$f":"'Übersicht Übungen'!$B44","v":0}]
[null,null,null,null,null,null,"Koeffizient",{"$f":"VLOOKUP(INDEX(UebKlasse2,1,1),UebKlasse2,3,FALSE)","v":3},{"$f":"VLOOKUP(INDEX(UebKlasse2,2,1),UebKlasse2,3,FALSE)","v":4},{"$f":"VLOOKUP(INDEX(UebKlasse2,3,1),UebKlasse2,3,FALSE)","v":3},{"$f":"VLOOKUP(INDEX(UebKlasse2,4,1),UebKlasse2,3,FALSE)","v":3},{"$f":"VLOOKUP(INDEX(UebKlasse2,5,1),UebKlasse2,3,FALSE)","v":4},{"$f":"VLOOKUP(INDEX(UebKlasse2,6,1),UebKlasse2,3,FALSE)","v":3},{"$f":"VLOOKUP(INDEX(UebKlasse2,7,1),UebKlasse2,3,FALSE)","v":3},{"$f":"VLOOKUP(INDEX(UebKlasse2,8,1),UebKlasse2,3,FALSE)","v":4},{"$f":"VLOOKUP(INDEX(UebKlasse2,9,1),UebKlasse2,3,FALSE)","v":3},{"$f":"VLOOKUP(INDEX(UebKlasse2,10,1),UebKlasse2,3,FALSE)","v":2},{"$f":"'Übersicht Übungen'!$C44","v":0},null,null,null,null,{"$f":"\"Übung: \"&H$4","v":"Übung: 1"},null,{"$f":"\"Übung: \"&I$4","v":"Übung: 2"},null,{"$f":"\"Übung: \"&J$4","v":"Übung: 3"},null,{"$f":"\"Übung: \"&K$4","v":"Übung: 4"},null,{"$f":"\"Übung: \"&L$4","v":"Übung: 5"},null,{"$f":"\"Übung: \"&M$4","v":"Übung: 6"},null,{"$f":"\"Übung: \"&N$4","v":"Übung: 7"},null,{"$f":"\"Übung: \"&O$4","v":"Übung: 8"},null,{"$f":"\"Übung: \"&P$4","v":"Übung: 9"},null,{"$f":"\"Übung: \"&Q$4","v":"Übung: 10"}]
["Nr.","Los","Hundeführer/-in","Verein","Verband","Hund","Rasse","Auswertung",null,null,null,null,null,null,null,null,null,null,"Gesamt","WN","Platz",null,"LR 1","LR 2","LR 1","LR 2","LR 1","LR 2","LR 1","LR 2","LR 1","LR 2","LR 1","LR 2","LR 1","LR 2","LR 1","LR 2","LR 1","LR 2","LR 1","LR 2"]
[{"$f":"IF('Daten K2'!A5=\"\",\"\",'Daten K2'!A5)","v":""},{"$f":"IF('Daten K2'!B5=\"\",\"\",'Daten K2'!B5)","v":""},{"$f":"IF('Daten K2'!E5=\"\",\"\",'Daten K2'!E5)","v":""},{"$f":"IF('Daten K2'!F5=\"\",\"\",'Daten K2'!F5)","v":""},{"$f":"IF('Daten K2'!G5=\"\",\"\",'Daten K2'!G5)","v":""},{"$f":"IF('Daten K2'!H5=\"\",\"\",'Daten K2'!H5)","v":""},{"$f":"IF('Daten K2'!I5=\"\",\"\",'Daten K2'!I5)","v":""},{"$f":"IF(AND(W8=\"\",X8=\"\"),\"\",IF(X8=\"\",W8,IF(W8=\"\",X8,((W8+X8)/2))))","v":""},{"$f":"IF(AND(Y8=\"\",Z8=\"\"),\"\",IF(Z8=\"\",Y8,IF(Y8=\"\",Z8,((Y8+Z8)/2))))","v":""},{"$f":"IF(AND(AA8=\"\",AB8=\"\"),\"\",IF(AB8=\"\",AA8,IF(AA8=\"\",AB8,((AA8+AB8)/2))))","v":""},{"$f":"IF(AND(AC8=\"\",AD8=\"\"),\"\",IF(AD8=\"\",AC8,IF(AC8=\"\",AD8,((AC8+AD8)/2))))","v":""},{"$f":"IF(AND(AE8=\"\",AF8=\"\"),\"\",IF(AF8=\"\",AE8,IF(AE8=\"\",AF8,((AE8+AF8)/2))))","v":""},{"$f":"IF(AND(AG8=\"\",AH8=\"\"),\"\",IF(AH8=\"\",AG8,IF(AG8=\"\",AH8,((AG8+AH8)/2))))","v":""},{"$f":"IF(AND(AI8=\"\",AJ8=\"\"),\"\",IF(AJ8=\"\",AI8,IF(AI8=\"\",AJ8,((AI8+AJ8)/2))))","v":""},{"$f":"IF(AND(AK8=\"\",AL8=\"\"),\"\",IF(AL8=\"\",AK8,IF(AK8=\"\",AL8,((AK8+AL8)/2))))","v":""},{"$f":"IF(AND(AM8=\"\",AN8=\"\"),\"\",IF(AN8=\"\",AM8,IF(AM8=\"\",AN8,((AM8+AN8)/2))))","v":""},{"$f":"IF(AND(AO8=\"\",AP8=\"\"),\"\",IF(AP8=\"\",AO8,IF(AO8=\"\",AP8,((AO8+AP8)/2))))","v":""},{"$f":"IF(AND(AP8=\"\",AQ8=\"\"),\"\",IF(AQ8=\"\",AP8,IF(AP8=\"\",AQ8,((AP8+AQ8)/2))))","v":""},{"$f":"SUM(BA8*$H$6+BB8*$I$6+BC8*$J$6+BD8*$K$6+BE8*$L$6+BF8*$M$6+BG8*$N$6+BH8*$O$6+BI8*$P$6+BJ8*$Q$6+BK8*$R$6)","v":0},{"$f":"IF(U8=\"DIS\",\"oAK\",IF(S8=0,\"\",IF(S8>$B$43,\"V\",IF(S8>$B$44,\"SG\",IF(S8>$B$45,\"G\",\"oAK\")))))","v":""},null,null,null,null,null,null,null,null,null,null,null,null,null,null,null,null,null,null,null,null,null,null,null,null,null,null,null,null,null,null,null,null,{"$f":"IF(H8=\"\",0,H8)","v":0},{"$f":"IF(I8=\"\",0,I8)","v":0},{"$f":"IF(J8=\"\",0,J8)","v":0},{"$f":"IF(K8=\"\",0,K8)","v":0},{"$f":"IF(L8=\"\",0,L8)","v":0},{"$f":"IF(M8=\"\",0,M8)","v":0},{"$f":"IF(N8=\"\",0,N8)","v":0},{"$f":"IF(O8=\"\",0,O8)","v":0},{"$f":"IF(P8=\"\",0,P8)","v":0},{"$f":"IF(Q8=\"\",0,Q8)","v":0},{"$f":"IF(R8=\"\",0,R8)","v":0}]
[{"$f":"IF('Daten K2'!A6=\"\",\"\",'Daten K2'!A6)","v":""},{"$f":"IF('Daten K2'!B6=\"\",\"\",'Daten K2'!B6)","v":""},{"$f":"IF('Daten K2'!E6=\"\",\"\",'Daten K2'!E6)","v":""},{"$f":"IF('Daten K2'!F6=\"\",\"\",'Daten K2'!F6)","v":""},{"$f":"IF('Daten K2'!G6=\"\",\"\",'Daten K2'!G6)","v":""},{"$f":"IF('Daten K2'!H6=\"\",\"\",'Daten K2'!H6)","v":""},{"$f":"IF('Daten K2'!I6=\"\",\"\",'Daten K2'!I6)","v":""},"","","","","","","","","","","",0,"",null,null,null,null,null,null,null,null,null,null,null,null,null,null,null,null,null,null,null,null,null,null,null,null,null,null,null,null,null,null,null,null,0,0,0,0,0,0,0,0,0,0,0]
[{"$f":"IF('Daten K2'!A7=\"\",\"\",'Daten K2'!A7)","v":""},{"$f":"IF('Daten K2'!B7=\"\",\"\",'Daten K2'!B7)","v":""},{"$f":"IF('Daten K2'!E7=\"\",\"\",'Daten K2'!E7)","v":""},{"$f":"IF('Daten K2'!F7=\"\",\"\",'Daten K2'!F7)","v":""},{"$f":"IF('Daten K2'!G7=\"\",\"\",'Daten K2'!G7)","v":""},{"$f":"IF('Daten K2'!H7=\"\",\"\",'Daten K2'!H7)","v":""},{"$f":"IF('Daten K2'!I7=\"\",\"\",'Daten K2'!I7)","v":""},"","","","","","","","","","","",0,"",null,null,null,null,null,null,null,null,null,null,null,null,null,null,null,null,null,null,null,null,null,null,null,null,null,null,null,null,null,null,null,null,0,0,0,0,0,0,0,0,0,0,0]
[{"$f":"IF('Daten K2'!A8=\"\",\"\",'Daten K2'!A8)","v":""},{"$f":"IF('Daten K2'!B8=\"\",\"\",'Daten K2'!B8)","v":""},{"$f":"IF('Daten K2'!E8=\"\",\"\",'Daten K2'!E8)","v":""},{"$f":"IF('Daten K2'!F8=\"\",\"\",'Daten K2'!F8)","v":""},{"$f":"IF('Daten K2'!G8=\"\",\"\",'Daten K2'!G8)","v":""},{"$f":"IF('Daten K2'!H8=\"\",\"\",'Daten K2'!H8)","v":""},{"$f":"IF('Daten K2'!I8=\"\",\"\",'Daten K2'!I8)","v":""},"","","","","","","","","","","",0,"",null,null,null,null,null,null,null,null,null,null,null,null,null,null,null,null,null,null,null,null,null,null,null,null,null,null,null,null,null,null,null,null,0,0,0,0,0,0,0,0,0,0,0]
[{"$f":"IF('Daten K2'!A9=\"\",\"\",'Daten K2'!A9)","v":""},{"$f":"IF('Daten K2'!B9=\"\",\"\",'Daten K2'!B9)","v":""},{"$f":"IF('Daten K2'!E9=\"\",\"\",'Daten K2'!E9)","v":""},{"$f":"IF('Daten K2'!F9=\"\",\"\",'Daten K2'!F9)","v":""},{"$f":"IF('Daten K2'!G9=\"\",\"\",'Daten K2'!G9)","v":""},{"$f":"IF('Daten K2'!H9=\"\",\"\",'Daten K2'!H9)","v":""},{"$f":"IF('Daten K2'!I9=\"\",\"\",'Daten K2'!I9)","v":""},"","","","","","","","","","","",0,"",null,null,null,null,null,null,null,null,null,null,null,null,null,null,null,null,null,null,null,null,null,null,null,null,null,null,null,null,null,null,null,null,0,0,0,0,0,0,0,0,0,0,0]
[{"$f":"IF('Daten K2'!A10=\"\",\"\",'Daten K2'!A10)","v":""},{"$f":"IF('Daten K2'!B10=\"\",\"\",'Daten K2'!B10)","v":""},{"$f":"IF('Daten K2'!E10=\"\",\"\",'Daten K2'!E10)","v":""},{"$f":"IF('Daten K2'!F10=\"\",\"\",'Daten K2'!F10)","v":""},{"$f":"IF('Daten K2'!G10=\"\",\"\",'Daten K2'!G10)","v":""},{"$f":"IF('Daten K2'!H10=\"\",\"\",'Daten K2'!H10)","v":""},{"$f":"IF('Daten K2'!I10=\"\",\"\",'Daten K2'!I10)","v":""},"","","","","","","","","","","",0,"",null,null,null,null,null,null,null,null,null,null,null,null,null,null,null,null,null,null,null,null,null,null,null,null,null,null,null,null,null,null,null,null,0,0,0,0,0,0,0,0,0,0,0]
[{"$f":"IF('Daten K2'!A11=\"\",\"\",'Daten K2'!A11)","v":""},{"$f":"IF('Daten K2'!B11=\"\",\"\",'Daten K2'!B11)","v":""},{"$f":"IF('Daten K2'!E11=\"\",\"\",'Daten K2'!E11)","v":""},{"$f":"IF('Daten K2'!F11=\"\",\"\",'Daten K2'!F11)","v":""},{"$f":"IF('Daten K2'!G11=\"\",\"\",'Daten K2'!G11)","v":""},{"$f":"IF('Daten K2'!H11=\"\",\"\",'Daten K2'!H11)","v":""},{"$f":"IF('Daten K2'!I11=\"\",\"\",'Daten K2'!I11)","v":""},"","","","","","","","","","","",0,"",null,null,null,null,null,null,null,null,null,null,null,null,null,null,null,null,null,null,null,null,null,null,null,null,null,null,null,null,null,null,null,null,0,0,0,0,0,0,0,0,0,0,0]
[{"$f":"IF('Daten K2'!A12=\"\",\"\",'Daten K2'!A12)","v":""},{"$f":"IF('Daten K2'!B12=\"\",\"\",'Daten K2'!B12)","v":""},{"$f":"IF('Daten K2'!E12=\"\",\"\",'Daten K2'!E12)","v":""},{"$f":"IF('Daten K2'!F12=\"\",\"\",'Daten K2'!F12)","v":""},{"$f":"IF('Daten K2'!G12=\"\",\"\",'Daten K2'!G12)","v":""},{"$f":"IF('Daten K2'!H12=\"\",\"\",'Daten K2'!H12)","v":""},{"$f":"IF('Daten K2'!I12=\"\",\"\",'Daten K2'!I12)","v":""},"","","","","","","","","","","",0,"",null,null,null,null,null,null,null,null,null,null,null,null,null,null,null,null,null,null,null,null,null,null,null,null,null,null,null,null,null,null,null,null,0,0,0,0,0,0,0,0,0,0,0]
[{"$f":"IF('Daten K2'!A13=\"\",\"\",'Daten K2'!A13)","v":""},{"$f":"IF('Daten K2'!B13=\"\",\"\",'Daten K2'!B13)","v":""},{"$f":"IF('Daten K2'!E13=\"\",\"\",'Daten K2'!E13)","v":""},{"$f":"IF('Daten K2'!F13=\"\",\"\",'Daten K2'!F13)","v":""},{"$f":"IF('Daten K2'!G13=\"\",\"\",'Daten K2'!G13)","v":""},{"$f":"IF('Daten K2'!H13=\"\",\"\",'Daten K2'!H13)","v":""},{"$f":"IF('Daten K2'!I13=\"\",\"\",'Daten K2'!I13)","v":""},"","","","","","","","","","","",0,"",null,null,null,null,null,null,null,null,null,null,null,null,null,null,null,null,null,null,null,null,null,null,null,null,null,null,null,null,null,null,null,null,0,0,0,0,0,0,0,0,0,0,0]
[{"$f":"IF('Daten K2'!A14=\"\",\"\",'Daten K2'!A14)","v":""},{"$f":"IF('Daten K2'!B14=\"\",\"\",'Daten K2'!B14)","v":""},{"$f":"IF('Daten K2'!E14=\"\",\"\",'Daten K2'!E14)","v":""},{"$f":"IF('Daten K2'!F14=\"\",\"\",'Daten K2'!F14)","v":""},{"$f":"IF('Daten K2'!G14=\"\",\"\",'Daten K2'!G14)","v":""},{"$f":"IF('Daten K2'!H14=\"\",\"\",'Daten K2'!H14)","v":""},{"$f":"IF('Daten K2'!I14=\"\",\"\",'Daten K2'!I14)","v":""},"","","","","","","","","","","",0,"",null,null,null,null,null,null,null,null,null,null,null,null,null,null,null,null,null,null,null,null,null,null,null,null,null,null,null,null,null,null,null,null,0,0,0,0,0,0,0,0,0,0,0]
[{"$f":"IF('Daten K2'!A15=\"\",\"\",'Daten K2'!A15)","v":""},{"$f":"IF('Daten K2'!B15=\"\",\"\",'Daten K2'!B15)","v":""},{"$f":"IF('Daten K2'!E15=\"\",\"\",'Daten K2'!E15)","v":""},{"$f":"IF('Daten K2'!F15=\"\",\"\",'Daten K2'!F15)","v":""},{"$f":"IF('Daten K2'!G15=\"\",\"\",'Daten K2'!G15)","v":""},{"$f":"IF('Daten K2'!H15=\"\",\"\",'Daten K2'!H15)","v":""},{"$f":"IF('Daten K2'!I15=\"\",\"\",'Daten K2'!I15)","v":""},"","","","","","","","","","","",0,"",null,null,null,null,null,null,null,null,null,null,null,null,null,null,null,null,null,null,null,null,null,null,null,null,null,null,null,null,null,null,null,null,0,0,0,0,0,0,0,0,0,0,0]
[{"$f":"IF('Daten K2'!A16=\"\",\"\",'Daten K2'!A16)","v":""},{"$f":"IF('Daten K2'!B16=\"\",\"\",'Daten K2'!B16)","v":""},{"$f":"IF('Daten K2'!E16=\"\",\"\",'Daten K2'!E16)","v":""},{"$f":"IF('Daten K2'!F16=\"\",\"\",'Daten K2'!F16)","v":""},{"$f":"IF('Daten K2'!G16=\"\",\"\",'Daten K2'!G16)","v":""},{"$f":"IF('Daten K2'!H16=\"\",\"\",'Daten K2'!H16)","v":""},{"$f":"IF('Daten K2'!I16=\"\",\"\",'Daten K2'!I16)","v":""},"","","","","","","","","","","",0,"",null,null,null,null,null,null,null,null,null,null,null,null,null,null,null,null,null,null,null,null,null,null,null,null,null,null,null,null,null,null,null,null,0,0,0,0,0,0,0,0,0,0,0]
[{"$f":"IF('Daten K2'!A17=\"\",\"\",'Daten K2'!A17)","v":""},{"$f":"IF('Daten K2'!B17=\"\",\"\",'Daten K2'!B17)","v":""},{"$f":"IF('Daten K2'!E17=\"\",\"\",'Daten K2'!E17)","v":""},{"$f":"IF('Daten K2'!F17=\"\",\"\",'Daten K2'!F17)","v":""},{"$f":"IF('Daten K2'!G17=\"\",\"\",'Daten K2'!G17)","v":""},{"$f":"IF('Daten K2'!H17=\"\",\"\",'Daten K2'!H17)","v":""},{"$f":"IF('Daten K2'!I17=\"\",\"\",'Daten K2'!I17)","v":""},"","","","","","","","","","","",0,"",null,null,null,null,null,null,null,null,null,null,null,null,null,null,null,null,null,null,null,null,null,null,null,null,null,null,null,null,null,null,null,null,0,0,0,0,0,0,0,0,0,0,0]
[{"$f":"IF('Daten K2'!A18=\"\",\"\",'Daten K2'!A18)","v":""},{"$f":"IF('Daten K2'!B18=\"\",\"\",'Daten K2'!B18)","v":""},{"$f":"IF('Daten K2'!E18=\"\",\"\",'Daten K2'!E18)","v":""},{"$f":"IF('Daten K2'!F18=\"\",\"\",'Daten K2'!F18)","v":""},{"$f":"IF('Daten K2'!G18=\"\",\"\",'Daten K2'!G18)","v":""},{"$f":"IF('Daten K2'!H18=\"\",\"\",'Daten K2'!H18)","v":""},{"$f":"IF('Daten K2'!I18=\"\",\"\",'Daten K2'!I18)","v":""},"","","","","","","","","","","",0,"",null,null,null,null,null,null,null,null,null,null,null,null,null,null,null,null,null,null,null,null,null,null,null,null,null,null,null,null,null,null,null,null,0,0,0,0,0,0,0,0,0,0,0]
[{"$f":"IF('Daten K2'!A19=\"\",\"\",'Daten K2'!A19)","v":""},{"$f":"IF('Daten K2'!B19=\"\",\"\",'Daten K2'!B19)","v":""},{"$f":"IF('Daten K2'!E19=\"\",\"\",'Daten K2'!E19)","v":""},{"$f":"IF('Daten K2'!F19=\"\",\"\",'Daten K2'!F19)","v":""},{"$f":"IF('Daten K2'!G19=\"\",\"\",'Daten K2'!G19)","v":""},{"$f":"IF('Daten K2'!H19=\"\",\"\",'Daten K2'!H19)","v":""},{"$f":"IF('Daten K2'!I19=\"\",\"\",'Daten K2'!I19)","v":""},"","","","","","","","","","","",0,"",null,null,null,null,null,null,null,null,null,null,null,null,null,null,null,null,null,null,null,null,null,null,null,null,null,null,null,null,null,null,null,null,0,0,0,0,0,0,0,0,0,0,0]
[{"$f":"IF('Daten K2'!A20=\"\",\"\",'Daten K2'!A20)","v":""},{"$f":"IF('Daten K2'!B20=\"\",\"\",'Daten K2'!B20)","v":""},{"$f":"IF('Daten K2'!E20=\"\",\"\",'Daten K2'!E20)","v":""},{"$f":"IF('Daten K2'!F20=\"\",\"\",'Daten K2'!F20)","v":""},{"$f":"IF('Daten K2'!G20=\"\",\"\",'Daten K2'!G20)","v":""},{"$f":"IF('Daten K2'!H20=\"\",\"\",'Daten K2'!H20)","v":""},{"$f":"IF('Daten K2'!I20=\"\",\"\",'Daten K2'!I20)","v":""},"","","","","","","","","","","",0,"",null,null,null,null,null,null,null,null,null,null,null,null,null,null,null,null,null,null,null,null,null,null,null,null,null,null,null,null,null,null,null,null,0,0,0,0,0,0,0,0,0,0,0]
[{"$f":"IF('Daten K2'!A21=\"\",\"\",'Daten K2'!A21)","v":""},{"$f":"IF('Daten K2'!B21=\"\",\"\",'Daten K2'!B21)","v":""},{"$f":"IF('Daten K2'!E21=\"\",\"\",'Daten K2'!E21)","v":""},{"$f":"IF('Daten K2'!F21=\"\",\"\",'Daten K2'!F21)","v":""},{"$f":"IF('Daten K2'!G21=\"\",\"\",'Daten K2'!G21)","v":""},{"$f":"IF('Daten K2'!H21=\"\",\"\",'Daten K2'!H21)","v":""},{"$f":"IF('Daten K2'!I21=\"\",\"\",'Daten K2'!I21)","v":""},"","","","","","","","","","","",0,"",null,null,null,null,null,null,null,null,null,null,null,null,null,null,null,null,null,null,null,null,null,null,null,null,null,null,null,null,null,null,null,null,0,0,0,0,0,0,0,0,0,0,0]
[{"$f":"IF('Daten K2'!A22=\"\",\"\",'Daten K2'!A22)","v":""},{"$f":"IF('Daten K2'!B22=\"\",\"\",'Daten K2'!B22)","v":""},{"$f":"IF('Daten K2'!E22=\"\",\"\",'Daten K2'!E22)","v":""},{"$f":"IF('Daten K2'!F22=\"\",\"\",'Daten K2'!F22)","v":""},{"$f":"IF('Daten K2'!G22=\"\",\"\",'Daten K2'!G22)","v":""},{"$f":"IF('Daten K2'!H22=\"\",\"\",'Daten K2'!H22)","v":""},{"$f":"IF('Daten K2'!I22=\"\",\"\",'Daten K2'!I22)","v":""},"","","","","","","","","","","",0,"",null,null,null,null,null,null,null,null,null,null,null,null,null,null,null,null,null,null,null,null,null,null,null,null,null,null,null,null,null,null,null,null,0,0,0,0,0,0,0,0,0,0,0]
[{"$f":"IF('Daten K2'!A23=\"\",\"\",'Daten K2'!A23)","v":""},{"$f":"IF('Daten K2'!B23=\"\",\"\",'Daten K2'!B23)","v":""},{"$f":"IF('Daten K2'!E23=\"\",\"\",'Daten K2'!E23)","v":""},{"$f":"IF('Daten K2'!F23=\"\",\"\",'Daten K2'!F23)","v":""},{"$f":"IF('Daten K2'!G23=\"\",\"\",'Daten K2'!G23)","v":""},{"$f":"IF('Daten K2'!H23=\"\",\"\",'Daten K2'!H23)","v":""},{"$f":"IF('Daten K2'!I23=\"\",\"\",'Daten K2'!I23)","v":""},"","","","","","","","","","","",0,"",null,null,null,null,null,null,null,null,null,null,null,null,null,null,null,null,null,null,null,null,null,null,null,null,null,null,null,null,null,null,null,null,0,0,0,0,0,0,0,0,0,0,0]
[{"$f":"IF('Daten K2'!A24=\"\",\"\",'Daten K2'!A24)","v":""},{"$f":"IF('Daten K2'!B24=\"\",\"\",'Daten K2'!B24)","v":""},{"$f":"IF('Daten K2'!E24=\"\",\"\",'Daten K2'!E24)","v":""},{"$f":"IF('Daten K2'!F24=\"\",\"\",'Daten K2'!F24)","v":""},{"$f":"IF('Daten K2'!G24=\"\",\"\",'Daten K2'!G24)","v":""},{"$f":"IF('Daten K2'!H24=\"\",\"\",'Daten K2'!H24)","v":""},{"$f":"IF('Daten K2'!I24=\"\",\"\",'Daten K2'!I24)","v":""},"","","","","","","","","","","",0,"",null,null,null,null,null,null,null,null,null,null,null,null,null,null,null,null,null,null,null,null,null,null,null,null,null,null,null,null,null,null,null,null,0,0,0,0,0,0,0,0,0,0,0]
[{"$f":"IF('Daten K2'!A25=\"\",\"\",'Daten K2'!A25)","v":""},{"$f":"IF('Daten K2'!B25=\"\",\"\",'Daten K2'!B25)","v":""},{"$f":"IF('Daten K2'!E25=\"\",\"\",'Daten K2'!E25)","v":""},{"$f":"IF('Daten K2'!F25=\"\",\"\",'Daten K2'!F25)","v":""},{"$f":"IF('Daten K2'!G25=\"\",\"\",'Daten K2'!G25)","v":""},{"$f":"IF('Daten K2'!H25=\"\",\"\",'Daten K2'!H25)","v":""},{"$f":"IF('Daten K2'!I25=\"\",\"\",'Daten K2'!I25)","v":""},"","","","","","","","","","","",0,"",null,null,null,null,null,null,null,null,null,null,null,null,null,null,null,null,null,null,null,null,null,null,null,null,null,null,null,null,null,null,null,null,0,0,0,0,0,0,0,0,0,0,0]
[{"$f":"IF('Daten K2'!A26=\"\",\"\",'Daten K2'!A26)","v":""},{"$f":"IF('Daten K2'!B26=\"\",\"\",'Daten K2'!B26)","v":""},{"$f":"IF('Daten K2'!E26=\"\",\"\",'Daten K2'!E26)","v":""},{"$f":"IF('Daten K2'!F26=\"\",\"\",'Daten K2'!F26)","v":""},{"$f":"IF('Daten K2'!G26=\"\",\"\",'Daten K2'!G26)","v":""},{"$f":"IF('Daten K2'!H26=\"\",\"\",'Daten K2'!H26)","v":""},{"$f":"IF('Daten K2'!I26=\"\",\"\",'Daten K2'!I26)","v":""},"","","","","","","","","","","",0,"",null,null,null,null,null,null,null,null,null,null,null,null,null,null,null,null,null,null,null,null,null,null,null,null,null,null,null,null,null,null,null,null,0,0,0,0,0,0,0,0,0,0,0]
[{"$f":"IF('Daten K2'!A27=\"\",\"\",'Daten K2'!A27)","v":""},{"$f":"IF('Daten K2'!B27=\"\",\"\",'Daten K2'!B27)","v":""},{"$f":"IF('Daten K2'!E27=\"\",\"\",'Daten K2'!E27)","v":""},{"$f":"IF('Daten K2'!F27=\"\",\"\",'Daten K2'!F27)","v":""},{"$f":"IF('Daten K2'!G27=\"\",\"\",'Daten K2'!G27)","v":""},{"$f":"IF('Daten K2'!H27=\"\",\"\",'Daten K2'!H27)","v":""},{"$f":"IF('Daten K2'!I27=\"\",\"\",'Daten K2'!I27)","v":""},"","","","","","","","","","","",0,"",null,null,null,null,null,null,null,null,null,null,null,null,null,null,null,null,null,null,null,null,null,null,null,null,null,null,null,null,null,null,null,null,0,0,0,0,0,0,0,0,0,0,0]
[{"$f":"IF('Daten K2'!A28=\"\",\"\",'Daten K2'!A28)","v":""},{"$f":"IF('Daten K2'!B28=\"\",\"\",'Daten K2'!B28)","v":""},{"$f":"IF('Daten K2'!E28=\"\",\"\",'Daten K2'!E28)","v":""},{"$f":"IF('Daten K2'!F28=\"\",\"\",'Daten K2'!F28)","v":""},{"$f":"IF('Daten K2'!G28=\"\",\"\",'Daten K2'!G28)","v":""},{"$f":"IF('Daten K2'!H28=\"\",\"\",'Daten K2'!H28)","v":""},{"$f":"IF('Daten K2'!I28=\"\",\"\",'Daten K2'!I28)","v":""},"","","","","","","","","","","",0,"",null,null,null,null,null,null,null,null,null,null,null,null,null,null,null,null,null,null,null,null,null,null,null,null,null,null,null,null,null,null,null,null,0,0,0,0,0,0,0,0,0,0,0]
[{"$f":"IF('Daten K2'!A29=\"\",\"\",'Daten K2'!A29)","v":""},{"$f":"IF('Daten K2'!B29=\"\",\"\",'Daten K2'!B29)","v":""},{"$f":"IF('Daten K2'!E29=\"\",\"\",'Daten K2'!E29)","v":""},{"$f":"IF('Daten K2'!F29=\"\",\"\",'Daten K2'!F29)","v":""},{"$f":"IF('Daten K2'!G29=\"\",\"\",'Daten K2'!G29)","v":""},{"$f":"IF('Daten K2'!H29=\"\",\"\",'Daten K2'!H29)","v":""},{"$f":"IF('Daten K2'!I29=\"\",\"\",'Daten K2'!I29)","v":""},"","","","","","","","","","","",0,"",null,null,null,null,null,null,null,null,null,null,null,null,null,null,null,null,null,null,null,null,null,null,null,null,null,null,null,null,null,null,null,null,0,0,0,0,0,0,0,0,0,0,0]
[{"$f":"IF('Daten K2'!A30=\"\",\"\",'Daten K2'!A30)","v":""},{"$f":"IF('Daten K2'!B30=\"\",\"\",'Daten K2'!B30)","v":""},{"$f":"IF('Daten K2'!E30=\"\",\"\",'Daten K2'!E30)","v":""},{"$f":"IF('Daten K2'!F30=\"\",\"\",'Daten K2'!F30)","v":""},{"$f":"IF('Daten K2'!G30=\"\",\"\",'Daten K2'!G30)","v":""},{"$f":"IF('Daten K2'!H30=\"\",\"\",'Daten K2'!H30)","v":""},{"$f":"IF('Daten K2'!I30=\"\",\"\",'Daten K2'!I30)","v":""},"","","","","","","","","","","",0,"",null,null,null,null,null,null,null,null,null,null,null,null,null,null,null,null,null,null,null,null,null,null,null,null,null,null,null,null,null,null,null,null,0,0,0,0,0,0,0,0,0,0,0]
[{"$f":"IF('Daten K2'!A31=\"\",\"\",'Daten K2'!A31)","v":""},{"$f":"IF('Daten K2'!B31=\"\",\"\",'Daten K2'!B31)","v":""},{"$f":"IF('Daten K2'!E31=\"\",\"\",'Daten K2'!E31)","v":""},{"$f":"IF('Daten K2'!F31=\"\",\"\",'Daten K2'!F31)","v":""},{"$f":"IF('Daten K2'!G31=\"\",\"\",'Daten K2'!G31)","v":""},{"$f":"IF('Daten K2'!H31=\"\",\"\",'Daten K2'!H31)","v":""},{"$f":"IF('Daten K2'!I31=\"\",\"\",'Daten K2'!I31)","v":""},"","","","","","","","","","","",0,"",null,null,null,null,null,null,null,null,null,null,null,null,null,null,null,null,null,null,null,null,null,null,null,null,null,null,null,null,null,null,null,null,0,0,0,0,0,0,0,0,0,0,0]
[{"$f":"IF('Daten K2'!A32=\"\",\"\",'Daten K2'!A32)","v":""},{"$f":"IF('Daten K2'!B32=\"\",\"\",'Daten K2'!B32)","v":""},{"$f":"IF('Daten K2'!E32=\"\",\"\",'Daten K2'!E32)","v":""},{"$f":"IF('Daten K2'!F32=\"\",\"\",'Daten K2'!F32)","v":""},{"$f":"IF('Daten K2'!G32=\"\",\"\",'Daten K2'!G32)","v":""},{"$f":"IF('Daten K2'!H32=\"\",\"\",'Daten K2'!H32)","v":""},{"$f":"IF('Daten K2'!I32=\"\",\"\",'Daten K2'!I32)","v":""},"","","","","","","","","","","",0,"",null,null,null,null,null,null,null,null,null,null,null,null,null,null,null,null,null,null,null,null,null,null,null,null,null,null,null,null,null,null,null,null,0,0,0,0,0,0,0,0,0,0,0]
[{"$f":"IF('Daten K2'!A33=\"\",\"\",'Daten K2'!A33)","v":""},{"$f":"IF('Daten K2'!B33=\"\",\"\",'Daten K2'!B33)","v":""},{"$f":"IF('Daten K2'!E33=\"\",\"\",'Daten K2'!E33)","v":""},{"$f":"IF('Daten K2'!F33=\"\",\"\",'Daten K2'!F33)","v":""},{"$f":"IF('Daten K2'!G33=\"\",\"\",'Daten K2'!G33)","v":""},{"$f":"IF('Daten K2'!H33=\"\",\"\",'Daten K2'!H33)","v":""},{"$f":"IF('Daten K2'!I33=\"\",\"\",'Daten K2'!I33)","v":""},"","","","","","","","","","","",0,"",null,null,null,null,null,null,null,null,null,null,null,null,null,null,null,null,null,null,null,null,null,null,null,null,null,null,null,null,null,null,null,null,0,0,0,0,0,0,0,0,0,0,0]
[{"$f":"IF('Daten K2'!A34=\"\",\"\",'Daten K2'!A34)","v":""},{"$f":"IF('Daten K2'!B34=\"\",\"\",'Daten K2'!B34)","v":""},{"$f":"IF('Daten K2'!E34=\"\",\"\",'Daten K2'!E34)","v":""},{"$f":"IF('Daten K2'!F34=\"\",\"\",'Daten K2'!F34)","v":""},{"$f":"IF('Daten K2'!G34=\"\",\"\",'Daten K2'!G34)","v":""},{"$f":"IF('Daten K2'!H34=\"\",\"\",'Daten K2'!H34)","v":""},{"$f":"IF('Daten K2'!I34=\"\",\"\",'Daten K2'!I34)","v":""},"","","","","","","","","","","",0,"",null,null,null,null,null,null,null,null,null,null,null,null,null,null,null,null,null,null,null,null,null,null,null,null,null,null,null,null,null,null,null,null,0,0,0,0,0,0,0,0,0,0,0]
[{"$f":"IF('Daten K2'!A35=\"\",\"\",'Daten K2'!A35)","v":""},{"$f":"IF('Daten K2'!B35=\"\",\"\",'Daten K2'!B35)","v":""},{"$f":"IF('Daten K2'!E35=\"\",\"\",'Daten K2'!E35)","v":""},{"$f":"IF('Daten K2'!F35=\"\",\"\",'Daten K2'!F35)","v":""},{"$f":"IF('Daten K2'!G35=\"\",\"\",'Daten K2'!G35)","v":""},{"$f":"IF('Daten K2'!H35=\"\",\"\",'Daten K2'!H35)","v":""},{"$f":"IF('Daten K2'!I35=\"\",\"\",'Daten K2'!I35)","v":""},"","","","","","","","","","","",0,"",null,null,null,null,null,null,null,null,null,null,null,null,null,null,null,null,null,null,null,null,null,null,null,null,null,null,null,null,null,null,null,null,0,0,0,0,0,0,0,0,0,0,0]
[]
[]
[]
[{"$f":"'Übersicht Übungen'!H20","v":256},{"$f":"'Übersicht Übungen'!I20","v":320},"Punkte","Punkte"]
[{"$f":"'Übersicht Übungen'!H21","v":224},{"$f":"'Übersicht Übungen'!I21","v":255.5},0,0]
[{"$f":"'Übersicht Übungen'!H22","v":192},{"$f":"'Übersicht Übungen'!I22","v":223.5},5,5]
[{"$f":"'Übersicht Übungen'!H23","v":0},{"$f":"'Übersicht Übungen'!I23","v":191.5},5.25,5.5]
[null,null,5.5,6]
[null,null,5.75,6.5]
[null,null,6,7]
[null,null,6.25,7.5]
[null,null,6.5,8]
[null,null,6.75,8.5]
[null,null,7,9]
[null,null,7.25,9.5]
[null,null,7.5,10]
[null,null,7.75]
[null,null,8]
[null,null,8.25]
[null,null,8.5]
[null,null,8.75]
[null,null,9]
[null,null,9.25]
[null,null,9.5]
[null,null,9.75]
[null,null,10]

{"sheet":"Liste Klasse 3","index":14,"n_rows":93,"n_cols":63,"rows_kept":93,"cut":false,"hidden":false,"merged":[[6,7,6,17],[5,32,5,33],[5,34,5,35],[5,36,5,37],[5,38,5,39],[5,40,5,41],[5,42,5,43],[3,0,5,5],[5,22,5,23],[5,24,5,25],[5,26,5,27],[5,28,5,29],[5,30,5,31],[0,0,0,3],[0,4,0,13],[0,14,0,20],[1,0,1,2],[1,3,1,5],[1,7,1,15],[1,18,1,20]]}
["Obedience:  ",null,null,null,{"$f":"Stammdaten!C5&\"\"","v":"z.B. Vereinsprf."},null,null,null,null,null,null,null,null,null,"Klasse 3"]
["Veranstaltender Verein:",null,null,{"$f":"Stammdaten!C4","v":0},null,null,"Leistungsrichter:",{"$f":"Stammdaten!H3","v":0},null,null,null,null,null,null,null,null,null,"Datum:",{"$f":"Stammdaten!C6","v":"00:00:00"}]
[]
["Ergebnisliste",null,null,null,null,null,"Übung",{"$f":"'Übersicht Übungen'!$A48","v":1},{"$f":"'Übersicht Übungen'!$A49","v":2},{"$f":"'Übersicht Übungen'!$A50","v":3},{"$f":"'Übersicht Übungen'!$A51","v":4},{"$f":"'Übersicht Übungen'!$A52","v":5},{"$f":"'Übersicht Übungen'!$A53","v":6},{"$f":"'Übersicht Übungen'!$A54","v":7},{"$f":"'Übersicht Übungen'!$A55","v":8},{"$f":"'Übersicht Übungen'!$A56","v":9},{"$f":"'Übersicht Übungen'!$A57","v":10},{"$f":"'Übersicht Übungen'!$A44","v":0},null,null,null,null,"Eingabe der Bewertung nach Leistungsrichter:"]
[null,null,null,null,null,null,"Reihenfolge",{"$f":"'Übersicht Übungen'!$B48","v":1},{"$f":"'Übersicht Übungen'!$B49","v":2},{"$f":"'Übersicht Übungen'!$B50","v":3},{"$f":"'Übersicht Übungen'!$B51","v":4},{"$f":"'Übersicht Übungen'!$B52","v":5},{"$f":"'Übersicht Übungen'!$B53","v":6},{"$f":"'Übersicht Übungen'!$B54","v":7},{"$f":"'Übersicht Übungen'!$B55","v":8},{"$f":"'Übersicht Übungen'!$B56","v":9},{"$f":"'Übersicht Übungen'!$B57","v":10},{"$f":"'Übersicht Übungen'!$B44","v":0}]
[null,null,null,null,null,null,"Koeffizient",{"$f":"VLOOKUP(INDEX(UebKlasse3,1,1),UebKlasse3,3,FALSE)","v":2},{"$f":"VLOOKUP(INDEX(UebKlasse3,2,1),UebKlasse3,3,FALSE)","v":2},{"$f":"VLOOKUP(INDEX(UebKlasse3,3,1),UebKlasse3,3,FALSE)","v":4},{"$f":"VLOOKUP(INDEX(UebKlasse3,4,1),UebKlasse3,3,FALSE)","v":3},{"$f":"VLOOKUP(INDEX(UebKlasse3,5,1),UebKlasse3,3,FALSE)","v":3},{"$f":"VLOOKUP(INDEX(UebKlasse3,6,1),UebKlasse3,3,FALSE)","v":4},{"$f":"VLOOKUP(INDEX(UebKlasse3,7,1),UebKlasse3,3,FALSE)","v":3},{"$f":"VLOOKUP(INDEX(UebKlasse3,8,1),UebKlasse3,3,FALSE)","v":4},{"$f":"VLOOKUP(INDEX(UebKlasse3,9,1),UebKlasse3,3,FALSE)","v":3},{"$f":"VLOOKUP(INDEX(UebKlasse3,10,1),UebKlasse3,3,FALSE)","v":4},{"$f":"'Übersicht Übungen'!$C44","v":0},null,null,null,null,{"$f":"\"Übung: \"&H$4","v":"Übung: 1"},null,{"$f":"\"Übung: \"&I$4","v":"Übung: 2"},null,{"$f":"\"Übung: \"&J$4","v":"Übung: 3"},null,{"$f":"\"Übung: \"&K$4","v":"Übung: 4"},null,{"$f":"\"Übung: \"&L$4","v":"Übung: 5"},null,{"$f":"\"Übung: \"&M$4","v":"Übung: 6"},null,{"$f":"\"Übung: \"&N$4","v":"Übung: 7"},null,{"$f":"\"Übung: \"&O$4","v":"Übung: 8"},null,{"$f":"\"Übung: \"&P$4","v":"Übung: 9"},null,{"$f":"\"Übung: \"&Q$4","v":"Übung: 10"}]
["Nr.","Los","Hundeführer/-in","Verein","Verband","Hund","Rasse","Auswertung",null,null,null,null,null,null,null,null,null,null,"Gesamt","WN","Platz",null,"LR 1","LR 2","LR 1","LR 2","LR 1","LR 2","LR 1","LR 2","LR 1","LR 2","LR 1","LR 2","LR 1","LR 2","LR 1","LR 2","LR 1","LR 2","LR 1","LR 2"]
[{"$f":"IF('Daten K3'!A5=\"\",\"\",'Daten K3'!A5)","v":""},{"$f":"IF('Daten K3'!B5=\"\",\"\",'Daten K3'!B5)","v":""},{"$f":"IF('Daten K3'!E5=\"\",\"\",'Daten K3'!E5)","v":""},{"$f":"IF('Daten K3'!F5=\"\",\"\",'Daten K3'!F5)","v":""},{"$f":"IF('Daten K3'!G5=\"\",\"\",'Daten K3'!G5)","v":""},{"$f":"IF('Daten K3'!H5=\"\",\"\",'Daten K3'!H5)","v":""},{"$f":"IF('Daten K3'!I5=\"\",\"\",'Daten K3'!I5)","v":""},{"$f":"IF(AND(W8=\"\",X8=\"\"),\"\",IF(X8=\"\",W8,IF(W8=\"\",X8,((W8+X8)/2))))","v":""},{"$f":"IF(AND(Y8=\"\",Z8=\"\"),\"\",IF(Z8=\"\",Y8,IF(Y8=\"\",Z8,((Y8+Z8)/2))))","v":""},{"$f":"IF(AND(AA8=\"\",AB8=\"\"),\"\",IF(AB8=\"\",AA8,IF(AA8=\"\",AB8,((AA8+AB8)/2))))","v":""},{"$f":"IF(AND(AC8=\"\",AD8=\"\"),\"\",IF(AD8=\"\",AC8,IF(AC8=\"\",AD8,((AC8+AD8)/2))))","v":""},{"$f":"IF(AND(AE8=\"\",AF8=\"\"),\"\",IF(AF8=\"\",AE8,IF(AE8=\"\",AF8,((AE8+AF8)/2))))","v":""},{"$f":"IF(AND(AG8=\"\",AH8=\"\"),\"\",IF(AH8=\"\",AG8,IF(AG8=\"\",AH8,((AG8+AH8)/2))))","v":""},{"$f":"IF(AND(AI8=\"\",AJ8=\"\"),\"\",IF(AJ8=\"\",AI8,IF(AI8=\"\",AJ8,((AI8+AJ8)/2))))","v":""},{"$f":"IF(AND(AK8=\"\",AL8=\"\"),\"\",IF(AL8=\"\",AK8,IF(AK8=\"\",AL8,((AK8+AL8)/2))))","v":""},{"$f":"IF(AND(AM8=\"\",AN8=\"\"),\"\",IF(AN8=\"\",AM8,IF(AM8=\"\",AN8,((AM8+AN8)/2))))","v":""},{"$f":"IF(AND(AO8=\"\",AP8=\"\"),\"\",IF(AP8=\"\",AO8,IF(AO8=\"\",AP8,((AO8+AP8)/2))))","v":""},{"$f":"IF(AND(AP8=\"\",AQ8=\"\"),\"\",IF(AQ8=\"\",AP8,IF(AP8=\"\",AQ8,((AP8+AQ8)/2))))","v":""},{"$f":"SUM(BA8*$H$6+BB8*$I$6+BC8*$J$6+BD8*$K$6+BE8*$L$6+BF8*$M$6+BG8*$N$6+BH8*$O$6+BI8*$P$6+BJ8*$Q$6+BK8*$R$6)","v":0},{"$f":"IF(U8=\"DIS\",\"oAK\",IF(S8=0,\"\",IF(S8>$B$72,\"V\",IF(S8>$B$73,\"SG\",IF(S8>$B$74,\"G\",\"oAK\")))))","v":""},null,null,null,null,null,null,null,null,null,null,null,null,null,null,null,null,null,null,null,null,null,null,null,null,null,null,null,null,null,null,null,null,{"$f":"IF(H8=\"\",0,H8)","v":0},{"$f":"IF(I8=\"\",0,I8)","v":0},{"$f":"IF(J8=\"\",0,J8)","v":0},{"$f":"IF(K8=\"\",0,K8)","v":0},{"$f":"IF(L8=\"\",0,L8)","v":0},{"$f":"IF(M8=\"\",0,M8)","v":0},{"$f":"IF(N8=\"\",0,N8)","v":0},{"$f":"IF(O8=\"\",0,O8)","v":0},{"$f":"IF(P8=\"\",0,P8)","v":0},{"$f":"IF(Q8=\"\",0,Q8)","v":0},{"$f":"IF(R8=\"\",0,R8)","v":0}]
[{"$f":"IF('Daten K3'!A6=\"\",\"\",'Daten K3'!A6)","v":""},{"$f":"IF('Daten K3'!B6=\"\",\"\",'Daten K3'!B6)","v":""},{"$f":"IF('Daten K3'!E6=\"\",\"\",'Daten K3'!E6)","v":""},{"$f":"IF('Daten K3'!F6=\"\",\"\",'Daten K3'!F6)","v":""},{"$f":"IF('Daten K3'!G6=\"\",\"\",'Daten K3'!G6)","v":""},{"$f":"IF('Daten K3'!H6=\"\",\"\",'Daten K3'!H6)","v":""},{"$f":"IF('Daten K3'!I6=\"\",\"\",'Daten K3'!I6)","v":""},"","","","","","","","","","","",0,"",null,null,null,null,null,null,null,null,null,null,null,null,null,null,null,null,null,null,null,null,null,null,null,null,null,null,null,null,null,null,null,null,0,0,0,0,0,0,0,0,0,0,0]
[{"$f":"IF('Daten K3'!A7=\"\",\"\",'Daten K3'!A7)","v":""},{"$f":"IF('Daten K3'!B7=\"\",\"\",'Daten K3'!B7)","v":""},{"$f":"IF('Daten K3'!E7=\"\",\"\",'Daten K3'!E7)","v":""},{"$f":"IF('Daten K3'!F7=\"\",\"\",'Daten K3'!F7)","v":""},{"$f":"IF('Daten K3'!G7=\"\",\"\",'Daten K3'!G7)","v":""},{"$f":"IF('Daten K3'!H7=\"\",\"\",'Daten K3'!H7)","v":""},{"$f":"IF('Daten K3'!I7=\"\",\"\",'Daten K3'!I7)","v":""},"","","","","","","","","","","",0,"",null,null,null,null,null,null,null,null,null,null,null,null,null,null,null,null,null,null,null,null,null,null,null,null,null,null,null,null,null,null,null,null,0,0,0,0,0,0,0,0,0,0,0]
[{"$f":"IF('Daten K3'!A8=\"\",\"\",'Daten K3'!A8)","v":""},{"$f":"IF('Daten K3'!B8=\"\",\"\",'Daten K3'!B8)","v":""},{"$f":"IF('Daten K3'!E8=\"\",\"\",'Daten K3'!E8)","v":""},{"$f":"IF('Daten K3'!F8=\"\",\"\",'Daten K3'!F8)","v":""},{"$f":"IF('Daten K3'!G8=\"\",\"\",'Daten K3'!G8)","v":""},{"$f":"IF('Daten K3'!H8=\"\",\"\",'Daten K3'!H8)","v":""},{"$f":"IF('Daten K3'!I8=\"\",\"\",'Daten K3'!I8)","v":""},"","","","","","","","","","","",0,"",null,null,null,null,null,null,null,null,null,null,null,null,null,null,null,null,null,null,null,null,null,null,null,null,null,null,null,null,null,null,null,null,0,0,0,0,0,0,0,0,0,0,0]
[{"$f":"IF('Daten K3'!A9=\"\",\"\",'Daten K3'!A9)","v":""},{"$f":"IF('Daten K3'!B9=\"\",\"\",'Daten K3'!B9)","v":""},{"$f":"IF('Daten K3'!E9=\"\",\"\",'Daten K3'!E9)","v":""},{"$f":"IF('Daten K3'!F9=\"\",\"\",'Daten K3'!F9)","v":""},{"$f":"IF('Daten K3'!G9=\"\",\"\",'Daten K3'!G9)","v":""},{"$f":"IF('Daten K3'!H9=\"\",\"\",'Daten K3'!H9)","v":""},{"$f":"IF('Daten K3'!I9=\"\",\"\",'Daten K3'!I9)","v":""},"","","","","","","","","","","",0,"",null,null,null,null,null,null,null,null,null,null,null,null,null,null,null,null,null,null,null,null,null,null,null,null,null,null,null,null,null,null,null,null,0,0,0,0,0,0,0,0,0,0,0]
[{"$f":"IF('Daten K3'!A10=\"\",\"\",'Daten K3'!A10)","v":""},{"$f":"IF('Daten K3'!B10=\"\",\"\",'Daten K3'!B10)","v":""},{"$f":"IF('Daten K3'!E10=\"\",\"\",'Daten K3'!E10)","v":""},{"$f":"IF('Daten K3'!F10=\"\",\"\",'Daten K3'!F10)","v":""},{"$f":"IF('Daten K3'!G10=\"\",\"\",'Daten K3'!G10)","v":""},{"$f":"IF('Daten K3'!H10=\"\",\"\",'Daten K3'!H10)","v":""},{"$f":"IF('Daten K3'!I10=\"\",\"\",'Daten K3'!I10)","v":""},"","","","","","","","","","","",0,"",null,null,null,null,null,null,null,null,null,null,null,null,null,null,null,null,null,null,null,null,null,null,null,null,null,null,null,null,null,null,null,null,0,0,0,0,0,0,0,0,0,0,0]
[{"$f":"IF('Daten K3'!A11=\"\",\"\",'Daten K3'!A11)","v":""},{"$f":"IF('Daten K3'!B11=\"\",\"\",'Daten K3'!B11)","v":""},{"$f":"IF('Daten K3'!E11=\"\",\"\",'Daten K3'!E11)","v":""},{"$f":"IF('Daten K3'!F11=\"\",\"\",'Daten K3'!F11)","v":""},{"$f":"IF('Daten K3'!G11=\"\",\"\",'Daten K3'!G11)","v":""},{"$f":"IF('Daten K3'!H11=\"\",\"\",'Daten K3'!H11)","v":""},{"$f":"IF('Daten K3'!I11=\"\",\"\",'Daten K3'!I11)","v":""},"","","","","","","","","","","",0,"",null,null,null,null,null,null,null,null,null,null,null,null,null,null,null,null,null,null,null,null,null,null,null,null,null,null,null,null,null,null,null,null,0,0,0,0,0,0,0,0,0,0,0]
[{"$f":"IF('Daten K3'!A12=\"\",\"\",'Daten K3'!A12)","v":""},{"$f":"IF('Daten K3'!B12=\"\",\"\",'Daten K3'!B12)","v":""},{"$f":"IF('Daten K3'!E12=\"\",\"\",'Daten K3'!E12)","v":""},{"$f":"IF('Daten K3'!F12=\"\",\"\",'Daten K3'!F12)","v":""},{"$f":"IF('Daten K3'!G12=\"\",\"\",'Daten K3'!G12)","v":""},{"$f":"IF('Daten K3'!H12=\"\",\"\",'Daten K3'!H12)","v":""},{"$f":"IF('Daten K3'!I12=\"\",\"\",'Daten K3'!I12)","v":""},"","","","","","","","","","","",0,"",null,null,null,null,null,null,null,null,null,null,null,null,null,null,null,null,null,null,null,null,null,null,null,null,null,null,null,null,null,null,null,null,0,0,0,0,0,0,0,0,0,0,0]
[{"$f":"IF('Daten K3'!A13=\"\",\"\",'Daten K3'!A13)","v":""},{"$f":"IF('Daten K3'!B13=\"\",\"\",'Daten K3'!B13)","v":""},{"$f":"IF('Daten K3'!E13=\"\",\"\",'Daten K3'!E13)","v":""},{"$f":"IF('Daten K3'!F13=\"\",\"\",'Daten K3'!F13)","v":""},{"$f":"IF('Daten K3'!G13=\"\",\"\",'Daten K3'!G13)","v":""},{"$f":"IF('Daten K3'!H13=\"\",\"\",'Daten K3'!H13)","v":""},{"$f":"IF('Daten K3'!I13=\"\",\"\",'Daten K3'!I13)","v":""},"","","","","","","","","","","",0,"",null,null,null,null,null,null,null,null,null,null,null,null,null,null,null,null,null,null,null,null,null,null,null,null,null,null,null,null,null,null,null,null,0,0,0,0,0,0,0,0,0,0,0]
[{"$f":"IF('Daten K3'!A14=\"\",\"\",'Daten K3'!A14)","v":""},{"$f":"IF('Daten K3'!B14=\"\",\"\",'Daten K3'!B14)","v":""},{"$f":"IF('Daten K3'!E14=\"\",\"\",'Daten K3'!E14)","v":""},{"$f":"IF('Daten K3'!F14=\"\",\"\",'Daten K3'!F14)","v":""},{"$f":"IF('Daten K3'!G14=\"\",\"\",'Daten K3'!G14)","v":""},{"$f":"IF('Daten K3'!H14=\"\",\"\",'Daten K3'!H14)","v":""},{"$f":"IF('Daten K3'!I14=\"\",\"\",'Daten K3'!I14)","v":""},"","","","","","","","","","","",0,"",null,null,null,null,null,null,null,null,null,null,null,null,null,null,null,null,null,null,null,null,null,null,null,null,null,null,null,null,null,null,null,null,0,0,0,0,0,0,0,0,0,0,0]
[{"$f":"IF('Daten K3'!A15=\"\",\"\",'Daten K3'!A15)","v":""},{"$f":"IF('Daten K3'!B15=\"\",\"\",'Daten K3'!B15)","v":""},{"$f":"IF('Daten K3'!E15=\"\",\"\",'Daten K3'!E15)","v":""},{"$f":"IF('Daten K3'!F15=\"\",\"\",'Daten K3'!F15)","v":""},{"$f":"IF('Daten K3'!G15=\"\",\"\",'Daten K3'!G15)","v":""},{"$f":"IF('Daten K3'!H15=\"\",\"\",'Daten K3'!H15)","v":""},{"$f":"IF('Daten K3'!I15=\"\",\"\",'Daten K3'!I15)","v":""},"","","","","","","","","","","",0,"",null,null,null,null,null,null,null,null,null,null,null,null,null,null,null,null,null,null,null,null,null,null,null,null,null,null,null,null,null,null,null,null,0,0,0,0,0,0,0,0,0,0,0]
[{"$f":"IF('Daten K3'!A16=\"\",\"\",'Daten K3'!A16)","v":""},{"$f":"IF('Daten K3'!B16=\"\",\"\",'Daten K3'!B16)","v":""},{"$f":"IF('Daten K3'!E16=\"\",\"\",'Daten K3'!E16)","v":""},{"$f":"IF('Daten K3'!F16=\"\",\"\",'Daten K3'!F16)","v":""},{"$f":"IF('Daten K3'!G16=\"\",\"\",'Daten K3'!G16)","v":""},{"$f":"IF('Daten K3'!H16=\"\",\"\",'Daten K3'!H16)","v":""},{"$f":"IF('Daten K3'!I16=\"\",\"\",'Daten K3'!I16)","v":""},"","","","","","","","","","","",0,"",null,null,null,null,null,null,null,null,null,null,null,null,null,null,null,null,null,null,null,null,null,null,null,null,null,null,null,null,null,null,null,null,0,0,0,0,0,0,0,0,0,0,0]
[{"$f":"IF('Daten K3'!A17=\"\",\"\",'Daten K3'!A17)","v":""},{"$f":"IF('Daten K3'!B17=\"\",\"\",'Daten K3'!B17)","v":""},{"$f":"IF('Daten K3'!E17=\"\",\"\",'Daten K3'!E17)","v":""},{"$f":"IF('Daten K3'!F17=\"\",\"\",'Daten K3'!F17)","v":""},{"$f":"IF('Daten K3'!G17=\"\",\"\",'Daten K3'!G17)","v":""},{"$f":"IF('Daten K3'!H17=\"\",\"\",'Daten K3'!H17)","v":""},{"$f":"IF('Daten K3'!I17=\"\",\"\",'Daten K3'!I17)","v":""},"","","","","","","","","","","",0,"",null,null,null,null,null,null,null,null,null,null,null,null,null,null,null,null,null,null,null,null,null,null,null,null,null,null,null,null,null,null,null,null,0,0,0,0,0,0,0,0,0,0,0]
[{"$f":"IF('Daten K3'!A18=\"\",\"\",'Daten K3'!A18)","v":""},{"$f":"IF('Daten K3'!B18=\"\",\"\",'Daten K3'!B18)","v":""},{"$f":"IF('Daten K3'!E18=\"\",\"\",'Daten K3'!E18)","v":""},{"$f":"IF('Daten K3'!F18=\"\",\"\",'Daten K3'!F18)","v":""},{"$f":"IF('Daten K3'!G18=\"\",\"\",'Daten K3'!G18)","v":""},{"$f":"IF('Daten K3'!H18=\"\",\"\",'Daten K3'!H18)","v":""},{"$f":"IF('Daten K3'!I18=\"\",\"\",'Daten K3'!I18)","v":""},"","","","","","","","","","","",0,"",null,null,null,null,null,null,null,null,null,null,null,null,null,null,null,null,null,null,null,null,null,null,null,null,null,null,null,null,null,null,null,null,0,0,0,0,0,0,0,0,0,0,0]
[{"$f":"IF('Daten K3'!A19=\"\",\"\",'Daten K3'!A19)","v":""},{"$f":"IF('Daten K3'!B19=\"\",\"\",'Daten K3'!B19)","v":""},{"$f":"IF('Daten K3'!E19=\"\",\"\",'Daten K3'!E19)","v":""},{"$f":"IF('Daten K3'!F19=\"\",\"\",'Daten K3'!F19)","v":""},{"$f":"IF('Daten K3'!G19=\"\",\"\",'Daten K3'!G19)","v":""},{"$f":"IF('Daten K3'!H19=\"\",\"\",'Daten K3'!H19)","v":""},{"$f":"IF('Daten K3'!I19=\"\",\"\",'Daten K3'!I19)","v":""},"","","","","","","","","","","",0,"",null,null,null,null,null,null,null,null,null,null,null,null,null,null,null,null,null,null,null,null,null,null,null,null,null,null,null,null,null,null,null,null,0,0,0,0,0,0,0,0,0,0,0]
[{"$f":"IF('Daten K3'!A20=\"\",\"\",'Daten K3'!A20)","v":""},{"$f":"IF('Daten K3'!B20=\"\",\"\",'Daten K3'!B20)","v":""},{"$f":"IF('Daten K3'!E20=\"\",\"\",'Daten K3'!E20)","v":""},{"$f":"IF('Daten K3'!F20=\"\",\"\",'Daten K3'!F20)","v":""},{"$f":"IF('Daten K3'!G20=\"\",\"\",'Daten K3'!G20)","v":""},{"$f":"IF('Daten K3'!H20=\"\",\"\",'Daten K3'!H20)","v":""},{"$f":"IF('Daten K3'!I20=\"\",\"\",'Daten K3'!I20)","v":""},"","","","","","","","","","","",0,"",null,null,null,null,null,null,null,null,null,null,null,null,null,null,null,null,null,null,null,null,null,null,null,null,null,null,null,null,null,null,null,null,0,0,0,0,0,0,0,0,0,0,0]
[{"$f":"IF('Daten K3'!A21=\"\",\"\",'Daten K3'!A21)","v":""},{"$f":"IF('Daten K3'!B21=\"\",\"\",'Daten K3'!B21)","v":""},{"$f":"IF('Daten K3'!E21=\"\",\"\",'Daten K3'!E21)","v":""},{"$f":"IF('Daten K3'!F21=\"\",\"\",'Daten K3'!F21)","v":""},{"$f":"IF('Daten K3'!G21=\"\",\"\",'Daten K3'!G21)","v":""},{"$f":"IF('Daten K3'!H21=\"\",\"\",'Daten K3'!H21)","v":""},{"$f":"IF('Daten K3'!I21=\"\",\"\",'Daten K3'!I21)","v":""},"","","","","","","","","","","",0,"",null,null,null,null,null,null,null,null,null,null,null,null,null,null,null,null,null,null,null,null,null,null,null,null,null,null,null,null,null,null,null,null,0,0,0,0,0,0,0,0,0,0,0]
[{"$f":"IF('Daten K3'!A22=\"\",\"\",'Daten K3'!A22)","v":""},{"$f":"IF('Daten K3'!B22=\"\",\"\",'Daten K3'!B22)","v":""},{"$f":"IF('Daten K3'!E22=\"\",\"\",'Daten K3'!E22)","v":""},{"$f":"IF('Daten K3'!F22=\"\",\"\",'Daten K3'!F22)","v":""},{"$f":"IF('Daten K3'!G22=\"\",\"\",'Daten K3'!G22)","v":""},{"$f":"IF('Daten K3'!H22=\"\",\"\",'Daten K3'!H22)","v":""},{"$f":"IF('Daten K3'!I22=\"\",\"\",'Daten K3'!I22)","v":""},"","","","","","","","","","","",0,"",null,null,null,null,null,null,null,null,null,null,null,null,null,null,null,null,null,null,null,null,null,null,null,null,null,null,null,null,null,null,null,null,0,0,0,0,0,0,0,0,0,0,0]
[{"$f":"IF('Daten K3'!A23=\"\",\"\",'Daten K3'!A23)","v":""},{"$f":"IF('Daten K3'!B23=\"\",\"\",'Daten K3'!B23)","v":""},{"$f":"IF('Daten K3'!E23=\"\",\"\",'Daten K3'!E23)","v":""},{"$f":"IF('Daten K3'!F23=\"\",\"\",'Daten K3'!F23)","v":""},{"$f":"IF('Daten K3'!G23=\"\",\"\",'Daten K3'!G23)","v":""},{"$f":"IF('Daten K3'!H23=\"\",\"\",'Daten K3'!H23)","v":""},{"$f":"IF('Daten K3'!I23=\"\",\"\",'Daten K3'!I23)","v":""},"","","","","","","","","","","",0,"",null,null,null,null,null,null,null,null,null,null,null,null,null,null,null,null,null,null,null,null,null,null,null,null,null,null,null,null,null,null,null,null,0,0,0,0,0,0,0,0,0,0,0]
[{"$f":"IF('Daten K3'!A24=\"\",\"\",'Daten K3'!A24)","v":""},{"$f":"IF('Daten K3'!B24=\"\",\"\",'Daten K3'!B24)","v":""},{"$f":"IF('Daten K3'!E24=\"\",\"\",'Daten K3'!E24)","v":""},{"$f":"IF('Daten K3'!F24=\"\",\"\",'Daten K3'!F24)","v":""},{"$f":"IF('Daten K3'!G24=\"\",\"\",'Daten K3'!G24)","v":""},{"$f":"IF('Daten K3'!H24=\"\",\"\",'Daten K3'!H24)","v":""},{"$f":"IF('Daten K3'!I24=\"\",\"\",'Daten K3'!I24)","v":""},"","","","","","","","","","","",0,"",null,null,null,null,null,null,null,null,null,null,null,null,null,null,null,null,null,null,null,null,null,null,null,null,null,null,null,null,null,null,null,null,0,0,0,0,0,0,0,0,0,0,0]
[{"$f":"IF('Daten K3'!A25=\"\",\"\",'Daten K3'!A25)","v":""},{"$f":"IF('Daten K3'!B25=\"\",\"\",'Daten K3'!B25)","v":""},{"$f":"IF('Daten K3'!E25=\"\",\"\",'Daten K3'!E25)","v":""},{"$f":"IF('Daten K3'!F25=\"\",\"\",'Daten K3'!F25)","v":""},{"$f":"IF('Daten K3'!G25=\"\",\"\",'Daten K3'!G25)","v":""},{"$f":"IF('Daten K3'!H25=\"\",\"\",'Daten K3'!H25)","v":""},{"$f":"IF('Daten K3'!I25=\"\",\"\",'Daten K3'!I25)","v":""},"","","","","","","","","","","",0,"",null,null,null,null,null,null,null,null,null,null,null,null,null,null,null,null,null,null,null,null,null,null,null,null,null,null,null,null,null,null,null,null,0,0,0,0,0,0,0,0,0,0,0]
[{"$f":"IF('Daten K3'!A26=\"\",\"\",'Daten K3'!A26)","v":""},{"$f":"IF('Daten K3'!B26=\"\",\"\",'Daten K3'!B26)","v":""},{"$f":"IF('Daten K3'!E26=\"\",\"\",'Daten K3'!E26)","v":""},{"$f":"IF('Daten K3'!F26=\"\",\"\",'Daten K3'!F26)","v":""},{"$f":"IF('Daten K3'!G26=\"\",\"\",'Daten K3'!G26)","v":""},{"$f":"IF('Daten K3'!H26=\"\",\"\",'Daten K3'!H26)","v":""},{"$f":"IF('Daten K3'!I26=\"\",\"\",'Daten K3'!I26)","v":""},"","","","","","","","","","","",0,"",null,null,null,null,null,null,null,null,null,null,null,null,null,null,null,null,null,null,null,null,null,null,null,null,null,null,null,null,null,null,null,null,0,0,0,0,0,0,0,0,0,0,0]
[{"$f":"IF('Daten K3'!A27=\"\",\"\",'Daten K3'!A27)","v":""},{"$f":"IF('Daten K3'!B27=\"\",\"\",'Daten K3'!B27)","v":""},{"$f":"IF('Daten K3'!E27=\"\",\"\",'Daten K3'!E27)","v":""},{"$f":"IF('Daten K3'!F27=\"\",\"\",'Daten K3'!F27)","v":""},{"$f":"IF('Daten K3'!G27=\"\",\"\",'Daten K3'!G27)","v":""},{"$f":"IF('Daten K3'!H27=\"\",\"\",'Daten K3'!H27)","v":""},{"$f":"IF('Daten K3'!I27=\"\",\"\",'Daten K3'!I27)","v":""},"","","","","","","","","","","",0,"",null,null,null,null,null,null,null,null,null,null,null,null,null,null,null,null,null,null,null,null,null,null,null,null,null,null,null,null,null,null,null,null,0,0,0,0,0,0,0,0,0,0,0]
[{"$f":"IF('Daten K3'!A28=\"\",\"\",'Daten K3'!A28)","v":""},{"$f":"IF('Daten K3'!B28=\"\",\"\",'Daten K3'!B28)","v":""},{"$f":"IF('Daten K3'!E28=\"\",\"\",'Daten K3'!E28)","v":""},{"$f":"IF('Daten K3'!F28=\"\",\"\",'Daten K3'!F28)","v":""},{"$f":"IF('Daten K3'!G28=\"\",\"\",'Daten K3'!G28)","v":""},{"$f":"IF('Daten K3'!H28=\"\",\"\",'Daten K3'!H28)","v":""},{"$f":"IF('Daten K3'!I28=\"\",\"\",'Daten K3'!I28)","v":""},"","","","","","","","","","","",0,"",null,null,null,null,null,null,null,null,null,null,null,null,null,null,null,null,null,null,null,null,null,null,null,null,null,null,null,null,null,null,null,null,0,0,0,0,0,0,0,0,0,0,0]
[{"$f":"IF('Daten K3'!A29=\"\",\"\",'Daten K3'!A29)","v":""},{"$f":"IF('Daten K3'!B29=\"\",\"\",'Daten K3'!B29)","v":""},{"$f":"IF('Daten K3'!E29=\"\",\"\",'Daten K3'!E29)","v":""},{"$f":"IF('Daten K3'!F29=\"\",\"\",'Daten K3'!F29)","v":""},{"$f":"IF('Daten K3'!G29=\"\",\"\",'Daten K3'!G29)","v":""},{"$f":"IF('Daten K3'!H29=\"\",\"\",'Daten K3'!H29)","v":""},{"$f":"IF('Daten K3'!I29=\"\",\"\",'Daten K3'!I29)","v":""},"","","","","","","","","","","",0,"",null,null,null,null,null,null,null,null,null,null,null,null,null,null,null,null,null,null,null,null,null,null,null,null,null,null,null,null,null,null,null,null,0,0,0,0,0,0,0,0,0,0,0]
[{"$f":"IF('Daten K3'!A30=\"\",\"\",'Daten K3'!A30)","v":""},{"$f":"IF('Daten K3'!B30=\"\",\"\",'Daten K3'!B30)","v":""},{"$f":"IF('Daten K3'!E30=\"\",\"\",'Daten K3'!E30)","v":""},{"$f":"IF('Daten K3'!F30=\"\",\"\",'Daten K3'!F30)","v":""},{"$f":"IF('Daten K3'!G30=\"\",\"\",'Daten K3'!G30)","v":""},{"$f":"IF('Daten K3'!H30=\"\",\"\",'Daten K3'!H30)","v":""},{"$f":"IF('Daten K3'!I30=\"\",\"\",'Daten K3'!I30)","v":""},"","","","","","","","","","","",0,"",null,null,null,null,null,null,null,null,null,null,null,null,null,null,null,null,null,null,null,null,null,null,null,null,null,null,null,null,null,null,null,null,0,0,0,0,0,0,0,0,0,0,0]
[{"$f":"IF('Daten K3'!A31=\"\",\"\",'Daten K3'!A31)","v":""},{"$f":"IF('Daten K3'!B31=\"\",\"\",'Daten K3'!B31)","v":""},{"$f":"IF('Daten K3'!E31=\"\",\"\",'Daten K3'!E31)","v":""},{"$f":"IF('Daten K3'!F31=\"\",\"\",'Daten K3'!F31)","v":""},{"$f":"IF('Daten K3'!G31=\"\",\"\",'Daten K3'!G31)","v":""},{"$f":"IF('Daten K3'!H31=\"\",\"\",'Daten K3'!H31)","v":""},{"$f":"IF('Daten K3'!I31=\"\",\"\",'Daten K3'!I31)","v":""},"","","","","","","","","","","",0,"",null,null,null,null,null,null,null,null,null,null,null,null,null,null,null,null,null,null,null,null,null,null,null,null,null,null,null,null,null,null,null,null,0,0,0,0,0,0,0,0,0,0,0]
[{"$f":"IF('Daten K3'!A32=\"\",\"\",'Daten K3'!A32)","v":""},{"$f":"IF('Daten K3'!B32=\"\",\"\",'Daten K3'!B32)","v":""},{"$f":"IF('Daten K3'!E32=\"\",\"\",'Daten K3'!E32)","v":""},{"$f":"IF('Daten K3'!F32=\"\",\"\",'Daten K3'!F32)","v":""},{"$f":"IF('Daten K3'!G32=\"\",\"\",'Daten K3'!G32)","v":""},{"$f":"IF('Daten K3'!H32=\"\",\"\",'Daten K3'!H32)","v":""},{"$f":"IF('Daten K3'!I32=\"\",\"\",'Daten K3'!I32)","v":""},"","","","","","","","","","","",0,"",null,null,null,null,null,null,null,null,null,null,null,null,null,null,null,null,null,null,null,null,null,null,null,null,null,null,null,null,null,null,null,null,0,0,0,0,0,0,0,0,0,0,0]
[{"$f":"IF('Daten K3'!A33=\"\",\"\",'Daten K3'!A33)","v":""},{"$f":"IF('Daten K3'!B33=\"\",\"\",'Daten K3'!B33)","v":""},{"$f":"IF('Daten K3'!E33=\"\",\"\",'Daten K3'!E33)","v":""},{"$f":"IF('Daten K3'!F33=\"\",\"\",'Daten K3'!F33)","v":""},{"$f":"IF('Daten K3'!G33=\"\",\"\",'Daten K3'!G33)","v":""},{"$f":"IF('Daten K3'!H33=\"\",\"\",'Daten K3'!H33)","v":""},{"$f":"IF('Daten K3'!I33=\"\",\"\",'Daten K3'!I33)","v":""},"","","","","","","","","","","",0,"",null,null,null,null,null,null,null,null,null,null,null,null,null,null,null,null,null,null,null,null,null,null,null,null,null,null,null,null,null,null,null,null,0,0,0,0,0,0,0,0,0,0,0]
[{"$f":"IF('Daten K3'!A34=\"\",\"\",'Daten K3'!A34)","v":""},{"$f":"IF('Daten K3'!B34=\"\",\"\",'Daten K3'!B34)","v":""},{"$f":"IF('Daten K3'!E34=\"\",\"\",'Daten K3'!E34)","v":""},{"$f":"IF('Daten K3'!F34=\"\",\"\",'Daten K3'!F34)","v":""},{"$f":"IF('Daten K3'!G34=\"\",\"\",'Daten K3'!G34)","v":""},{"$f":"IF('Daten K3'!H34=\"\",\"\",'Daten K3'!H34)","v":""},{"$f":"IF('Daten K3'!I34=\"\",\"\",'Daten K3'!I34)","v":""},"","","","","","","","","","","",0,"",null,null,null,null,null,null,null,null,null,null,null,null,null,null,null,null,null,null,null,null,null,null,null,null,null,null,null,null,null,null,null,null,0,0,0,0,0,0,0,0,0,0,0]
[{"$f":"IF('Daten K3'!A35=\"\",\"\",'Daten K3'!A35)","v":""},{"$f":"IF('Daten K3'!B35=\"\",\"\",'Daten K3'!B35)","v":""},{"$f":"IF('Daten K3'!E35=\"\",\"\",'Daten K3'!E35)","v":""},{"$f":"IF('Daten K3'!F35=\"\",\"\",'Daten K3'!F35)","v":""},{"$f":"IF('Daten K3'!G35=\"\",\"\",'Daten K3'!G35)","v":""},{"$f":"IF('Daten K3'!H35=\"\",\"\",'Daten K3'!H35)","v":""},{"$f":"IF('Daten K3'!I35=\"\",\"\",'Daten K3'!I35)","v":""},"","","","","","","","","","","",0,"",null,null,null,null,null,null,null,null,null,null,null,null,null,null,null,null,null,null,null,null,null,null,null,null,null,null,null,null,null,null,null,null,0,0,0,0,0,0,0,0,0,0,0]
[{"$f":"IF('Daten K3'!A36=\"\",\"\",'Daten K3'!A36)","v":""},{"$f":"IF('Daten K3'!B36=\"\",\"\",'Daten K3'!B36)","v":""},{"$f":"IF('Daten K3'!E36=\"\",\"\",'Daten K3'!E36)","v":""},{"$f":"IF('Daten K3'!F36=\"\",\"\",'Daten K3'!F36)","v":""},{"$f":"IF('Daten K3'!G36=\"\",\"\",'Daten K3'!G36)","v":""},{"$f":"IF('Daten K3'!H36=\"\",\"\",'Daten K3'!H36)","v":""},{"$f":"IF('Daten K3'!I36=\"\",\"\",'Daten K3'!I36)","v":""},"","","","","","","","","","","",0,"",null,null,null,null,null,null,null,null,null,null,null,null,null,null,null,null,null,null,null,null,null,null,null,null,null,null,null,null,null,null,null,null,0,0,0,0,0,0,0,0,0,0,0]
[{"$f":"IF('Daten K3'!A37=\"\",\"\",'Daten K3'!A37)","v":""},{"$f":"IF('Daten K3'!B37=\"\",\"\",'Daten K3'!B37)","v":""},{"$f":"IF('Daten K3'!E37=\"\",\"\",'Daten K3'!E37)","v":""},{"$f":"IF('Daten K3'!F37=\"\",\"\",'Daten K3'!F37)","v":""},{"$f":"IF('Daten K3'!G37=\"\",\"\",'Daten K3'!G37)","v":""},{"$f":"IF('Daten K3'!H37=\"\",\"\",'Daten K3'!H37)","v":""},{"$f":"IF('Daten K3'!I37=\"\",\"\",'Daten K3'!I37)","v":""},{"$f":"IF(AND(W40=\"\",X40=\"\"),\"\",IF(X40=\"\",W40,IF(W40=\"\",X40,((W40+X40)/2))))","v":""},{"$f":"IF(AND(Y40=\"\",Z40=\"\"),\"\",IF(Z40=\"\",Y40,IF(Y40=\"\",Z40,((Y40+Z40)/2))))","v":""},{"$f":"IF(AND(AA40=\"\",AB40=\"\"),\"\",IF(AB40=\"\",AA40,IF(AA40=\"\",AB40,((AA40+AB40)/2))))","v":""},{"$f":"IF(AND(AC40=\"\",AD40=\"\"),\"\",IF(AD40=\"\",AC40,IF(AC40=\"\",AD40,((AC40+AD40)/2))))","v":""},{"$f":"IF(AND(AE40=\"\",AF40=\"\"),\"\",IF(AF40=\"\",AE40,IF(AE40=\"\",AF40,((AE40+AF40)/2))))","v":""},{"$f":"IF(AND(AG40=\"\",AH40=\"\"),\"\",IF(AH40=\"\",AG40,IF(AG40=\"\",AH40,((AG40+AH40)/2))))","v":""},{"$f":"IF(AND(AI40=\"\",AJ40=\"\"),\"\",IF(AJ40=\"\",AI40,IF(AI40=\"\",AJ40,((AI40+AJ40)/2))))","v":""},{"$f":"IF(AND(AK40=\"\",AL40=\"\"),\"\",IF(AL40=\"\",AK40,IF(AK40=\"\",AL40,((AK40+AL40)/2))))","v":""},{"$f":"IF(AND(AM40=\"\",AN40=\"\"),\"\",IF(AN40=\"\",AM40,IF(AM40=\"\",AN40,((AM40+AN40)/2))))","v":""},{"$f":"IF(AND(AO40=\"\",AP40=\"\"),\"\",IF(AP40=\"\",AO40,IF(AO40=\"\",AP40,((AO40+AP40)/2))))","v":""},{"$f":"IF(AND(AP40=\"\",AQ40=\"\"),\"\",IF(AQ40=\"\",AP40,IF(AP40=\"\",AQ40,((AP40+AQ40)/2))))","v":""},{"$f":"SUM(BA40*$H$6+BB40*$I$6+BC40*$J$6+BD40*$K$6+BE40*$L$6+BF40*$M$6+BG40*$N$6+BH40*$O$6+BI40*$P$6+BJ40*$Q$6+BK40*$R$6)","v":0},{"$f":"IF(U40=\"DIS\",\"oAK\",IF(S40=0,\"\",IF(S40>$B$72,\"V\",IF(S40>$B$73,\"SG\",IF(S40>$B$74,\"G\",\"oAK\")))))","v":""},null,null,null,null,null,null,null,null,null,null,null,null,null,null,null,null,null,null,null,null,null,null,null,null,null,null,null,null,null,null,null,null,{"$f":"IF(H40=\"\",0,H40)","v":0},{"$f":"IF(I40=\"\",0,I40)","v":0},{"$f":"IF(J40=\"\",0,J40)","v":0},{"$f":"IF(K40=\"\",0,K40)","v":0},{"$f":"IF(L40=\"\",0,L40)","v":0},{"$f":"IF(M40=\"\",0,M40)","v":0},{"$f":"IF(N40=\"\",0,N40)","v":0},{"$f":"IF(O40=\"\",0,O40)","v":0},{"$f":"IF(P40=\"\",0,P40)","v":0},{"$f":"IF(Q40=\"\",0,Q40)","v":0},{"$f":"IF(R40=\"\",0,R40)","v":0}]
[{"$f":"IF('Daten K3'!A38=\"\",\"\",'Daten K3'!A38)","v":""},{"$f":"IF('Daten K3'!B38=\"\",\"\",'Daten K3'!B38)","v":""},{"$f":"IF('Daten K3'!E38=\"\",\"\",'Daten K3'!E38)","v":""},{"$f":"IF('Daten K3'!F38=\"\",\"\",'Daten K3'!F38)","v":""},{"$f":"IF('Daten K3'!G38=\"\",\"\",'Daten K3'!G38)","v":""},{"$f":"IF('Daten K3'!H38=\"\",\"\",'Daten K3'!H38)","v":""},{"$f":"IF('Daten K3'!I38=\"\",\"\",'Daten K3'!I38)","v":""},"","","","","","","","","","","",0,"",null,null,null,null,null,null,null,null,null,null,null,null,null,null,null,null,null,null,null,null,null,null,null,null,null,null,null,null,null,null,null,null,0,0,0,0,0,0,0,0,0,0,0]
[{"$f":"IF('Daten K3'!A39=\"\",\"\",'Daten K3'!A39)","v":""},{"$f":"IF('Daten K3'!B39=\"\",\"\",'Daten K3'!B39)","v":""},{"$f":"IF('Daten K3'!E39=\"\",\"\",'Daten K3'!E39)","v":""},{"$f":"IF('Daten K3'!F39=\"\",\"\",'Daten K3'!F39)","v":""},{"$f":"IF('Daten K3'!G39=\"\",\"\",'Daten K3'!G39)","v":""},{"$f":"IF('Daten K3'!H39=\"\",\"\",'Daten K3'!H39)","v":""},{"$f":"IF('Daten K3'!I39=\"\",\"\",'Daten K3'!I39)","v":""},"","","","","","","","","","","",0,"",null,null,null,null,null,null,null,null,null,null,null,null,null,null,null,null,null,null,null,null,null,null,null,null,null,null,null,null,null,null,null,null,0,0,0,0,0,0,0,0,0,0,0]
[{"$f":"IF('Daten K3'!A40=\"\",\"\",'Daten K3'!A40)","v":""},{"$f":"IF('Daten K3'!B40=\"\",\"\",'Daten K3'!B40)","v":""},{"$f":"IF('Daten K3'!E40=\"\",\"\",'Daten K3'!E40)","v":""},{"$f":"IF('Daten K3'!F40=\"\",\"\",'Daten K3'!F40)","v":""},{"$f":"IF('Daten K3'!G40=\"\",\"\",'Daten K3'!G40)","v":""},{"$f":"IF('Daten K3'!H40=\"\",\"\",'Daten K3'!H40)","v":""},{"$f":"IF('Daten K3'!I40=\"\",\"\",'Daten K3'!I40)","v":""},"","","","","","","","","","","",0,"",null,null,null,null,null,null,null,null,null,null,null,null,null,null,null,null,null,null,null,null,null,null,null,null,null,null,null,null,null,null,null,null,0,0,0,0,0,0,0,0,0,0,0]
[{"$f":"IF('Daten K3'!A41=\"\",\"\",'Daten K3'!A41)","v":""},{"$f":"IF('Daten K3'!B41=\"\",\"\",'Daten K3'!B41)","v":""},{"$f":"IF('Daten K3'!E41=\"\",\"\",'Daten K3'!E41)","v":""},{"$f":"IF('Daten K3'!F41=\"\",\"\",'Daten K3'!F41)","v":""},{"$f":"IF('Daten K3'!G41=\"\",\"\",'Daten K3'!G41)","v":""},{"$f":"IF('Daten K3'!H41=\"\",\"\",'Daten K3'!H41)","v":""},{"$f":"IF('Daten K3'!I41=\"\",\"\",'Daten K3'!I41)","v":""},"","","","","","","","","","","",0,"",null,null,null,null,null,null,null,null,null,null,null,null,null,null,null,null,null,null,null,null,null,null,null,null,null,null,null,null,null,null,null,null,0,0,0,0,0,0,0,0,0,0,0]
[{"$f":"IF('Daten K3'!A42=\"\",\"\",'Daten K3'!A42)","v":""},{"$f":"IF('Daten K3'!B42=\"\",\"\",'Daten K3'!B42)","v":""},{"$f":"IF('Daten K3'!E42=\"\",\"\",'Daten K3'!E42)","v":""},{"$f":"IF('Daten K3'!F42=\"\",\"\",'Daten K3'!F42)","v":""},{"$f":"IF('Daten K3'!G42=\"\",\"\",'Daten K3'!G42)","v":""},{"$f":"IF('Daten K3'!H42=\"\",\"\",'Daten K3'!H42)","v":""},{"$f":"IF('Daten K3'!I42=\"\",\"\",'Daten K3'!I42)","v":""},"","","","","","","","","","","",0,"",null,null,null,null,null,null,null,null,null,null,null,null,null,null,null,null,null,null,null,null,null,null,null,null,null,null,null,null,null,null,null,null,0,0,0,0,0,0,0,0,0,0,0]
[{"$f":"IF('Daten K3'!A43=\"\",\"\",'Daten K3'!A43)","v":""},{"$f":"IF('Daten K3'!B43=\"\",\"\",'Daten K3'!B43)","v":""},{"$f":"IF('Daten K3'!E43=\"\",\"\",'Daten K3'!E43)","v":""},{"$f":"IF('Daten K3'!F43=\"\",\"\",'Daten K3'!F43)","v":""},{"$f":"IF('Daten K3'!G43=\"\",\"\",'Daten K3'!G43)","v":""},{"$f":"IF('Daten K3'!H43=\"\",\"\",'Daten K3'!H43)","v":""},{"$f":"IF('Daten K3'!I43=\"\",\"\",'Daten K3'!I43)","v":""},"","","","","","","","","","","",0,"",null,null,null,null,null,null,null,null,null,null,null,null,null,null,null,null,null,null,null,null,null,null,null,null,null,null,null,null,null,null,null,null,0,0,0,0,0,0,0,0,0,0,0]
[{"$f":"IF('Daten K3'!A44=\"\",\"\",'Daten K3'!A44)","v":""},{"$f":"IF('Daten K3'!B44=\"\",\"\",'Daten K3'!B44)","v":""},{"$f":"IF('Daten K3'!E44=\"\",\"\",'Daten K3'!E44)","v":""},{"$f":"IF('Daten K3'!F44=\"\",\"\",'Daten K3'!F44)","v":""},{"$f":"IF('Daten K3'!G44=\"\",\"\",'Daten K3'!G44)","v":""},{"$f":"IF('Daten K3'!H44=\"\",\"\",'Daten K3'!H44)","v":""},{"$f":"IF('Daten K3'!I44=\"\",\"\",'Daten K3'!I44)","v":""},"","","","","","","","","","","",0,"",null,null,null,null,null,null,null,null,null,null,null,null,null,null,null,null,null,null,null,null,null,null,null,null,null,null,null,null,null,null,null,null,0,0,0,0,0,0,0,0,0,0,0]
[{"$f":"IF('Daten K3'!A45=\"\",\"\",'Daten K3'!A45)","v":""},{"$f":"IF('Daten K3'!B45=\"\",\"\",'Daten K3'!B45)","v":""},{"$f":"IF('Daten K3'!E45=\"\",\"\",'Daten K3'!E45)","v":""},{"$f":"IF('Daten K3'!F45=\"\",\"\",'Daten K3'!F45)","v":""},{"$f":"IF('Daten K3'!G45=\"\",\"\",'Daten K3'!G45)","v":""},{"$f":"IF('Daten K3'!H45=\"\",\"\",'Daten K3'!H45)","v":""},{"$f":"IF('Daten K3'!I45=\"\",\"\",'Daten K3'!I45)","v":""},"","","","","","","","","","","",0,"",null,null,null,null,null,null,null,null,null,null,null,null,null,null,null,null,null,null,null,null,null,null,null,null,null,null,null,null,null,null,null,null,0,0,0,0,0,0,0,0,0,0,0]
[{"$f":"IF('Daten K3'!A46=\"\",\"\",'Daten K3'!A46)","v":""},{"$f":"IF('Daten K3'!B46=\"\",\"\",'Daten K3'!B46)","v":""},{"$f":"IF('Daten K3'!E46=\"\",\"\",'Daten K3'!E46)","v":""},{"$f":"IF('Daten K3'!F46=\"\",\"\",'Daten K3'!F46)","v":""},{"$f":"IF('Daten K3'!G46=\"\",\"\",'Daten K3'!G46)","v":""},{"$f":"IF('Daten K3'!H46=\"\",\"\",'Daten K3'!H46)","v":""},{"$f":"IF('Daten K3'!I46=\"\",\"\",'Daten K3'!I46)","v":""},"","","","","","","","","","","",0,"",null,null,null,null,null,null,null,null,null,null,null,null,null,null,null,null,null,null,null,null,null,null,null,null,null,null,null,null,null,null,null,null,0,0,0,0,0,0,0,0,0,0,0]
[{"$f":"IF('Daten K3'!A47=\"\",\"\",'Daten K3'!A47)","v":""},{"$f":"IF('Daten K3'!B47=\"\",\"\",'Daten K3'!B47)","v":""},{"$f":"IF('Daten K3'!E47=\"\",\"\",'Daten K3'!E47)","v":""},{"$f":"IF('Daten K3'!F47=\"\",\"\",'Daten K3'!F47)","v":""},{"$f":"IF('Daten K3'!G47=\"\",\"\",'Daten K3'!G47)","v":""},{"$f":"IF('Daten K3'!H47=\"\",\"\",'Daten K3'!H47)","v":""},{"$f":"IF('Daten K3'!I47=\"\",\"\",'Daten K3'!I47)","v":""},"","","","","","","","","","","",0,"",null,null,null,null,null,null,null,null,null,null,null,null,null,null,null,null,null,null,null,null,null,null,null,null,null,null,null,null,null,null,null,null,0,0,0,0,0,0,0,0,0,0,0]
[{"$f":"IF('Daten K3'!A48=\"\",\"\",'Daten K3'!A48)","v":""},{"$f":"IF('Daten K3'!B48=\"\",\"\",'Daten K3'!B48)","v":""},{"$f":"IF('Daten K3'!E48=\"\",\"\",'Daten K3'!E48)","v":""},{"$f":"IF('Daten K3'!F48=\"\",\"\",'Daten K3'!F48)","v":""},{"$f":"IF('Daten K3'!G48=\"\",\"\",'Daten K3'!G48)","v":""},{"$f":"IF('Daten K3'!H48=\"\",\"\",'Daten K3'!H48)","v":""},{"$f":"IF('Daten K3'!I48=\"\",\"\",'Daten K3'!I48)","v":""},"","","","","","","","","","","",0,"",null,null,null,null,null,null,null,null,null,null,null,null,null,null,null,null,null,null,null,null,null,null,null,null,null,null,null,null,null,null,null,null,0,0,0,0,0,0,0,0,0,0,0]
[{"$f":"IF('Daten K3'!A49=\"\",\"\",'Daten K3'!A49)","v":""},{"$f":"IF('Daten K3'!B49=\"\",\"\",'Daten K3'!B49)","v":""},{"$f":"IF('Daten K3'!E49=\"\",\"\",'Daten K3'!E49)","v":""},{"$f":"IF('Daten K3'!F49=\"\",\"\",'Daten K3'!F49)","v":""},{"$f":"IF('Daten K3'!G49=\"\",\"\",'Daten K3'!G49)","v":""},{"$f":"IF('Daten K3'!H49=\"\",\"\",'Daten K3'!H49)","v":""},{"$f":"IF('Daten K3'!I49=\"\",\"\",'Daten K3'!I49)","v":""},"","","","","","","","","","","",0,"",null,null,null,null,null,null,null,null,null,null,null,null,null,null,null,null,null,null,null,null,null,null,null,null,null,null,null,null,null,null,null,null,0,0,0,0,0,0,0,0,0,0,0]
[{"$f":"IF('Daten K3'!A50=\"\",\"\",'Daten K3'!A50)","v":""},{"$f":"IF('Daten K3'!B50=\"\",\"\",'Daten K3'!B50)","v":""},{"$f":"IF('Daten K3'!E50=\"\",\"\",'Daten K3'!E50)","v":""},{"$f":"IF('Daten K3'!F50=\"\",\"\",'Daten K3'!F50)","v":""},{"$f":"IF('Daten K3'!G50=\"\",\"\",'Daten K3'!G50)","v":""},{"$f":"IF('Daten K3'!H50=\"\",\"\",'Daten K3'!H50)","v":""},{"$f":"IF('Daten K3'!I50=\"\",\"\",'Daten K3'!I50)","v":""},"","","","","","","","","","","",0,"",null,null,null,null,null,null,null,null,null,null,null,null,null,null,null,null,null,null,null,null,null,null,null,null,null,null,null,null,null,null,null,null,0,0,0,0,0,0,0,0,0,0,0]
[{"$f":"IF('Daten K3'!A51=\"\",\"\",'Daten K3'!A51)","v":""},{"$f":"IF('Daten K3'!B51=\"\",\"\",'Daten K3'!B51)","v":""},{"$f":"IF('Daten K3'!E51=\"\",\"\",'Daten K3'!E51)","v":""},{"$f":"IF('Daten K3'!F51=\"\",\"\",'Daten K3'!F51)","v":""},{"$f":"IF('Daten K3'!G51=\"\",\"\",'Daten K3'!G51)","v":""},{"$f":"IF('Daten K3'!H51=\"\",\"\",'Daten K3'!H51)","v":""},{"$f":"IF('Daten K3'!I51=\"\",\"\",'Daten K3'!I51)","v":""},"","","","","","","","","","","",0,"",null,null,null,null,null,null,null,null,null,null,null,null,null,null,null,null,null,null,null,null,null,null,null,null,null,null,null,null,null,null,null,null,0,0,0,0,0,0,0,0,0,0,0]
[{"$f":"IF('Daten K3'!A52=\"\",\"\",'Daten K3'!A52)","v":""},{"$f":"IF('Daten K3'!B52=\"\",\"\",'Daten K3'!B52)","v":""},{"$f":"IF('Daten K3'!E52=\"\",\"\",'Daten K3'!E52)","v":""},{"$f":"IF('Daten K3'!F52=\"\",\"\",'Daten K3'!F52)","v":""},{"$f":"IF('Daten K3'!G52=\"\",\"\",'Daten K3'!G52)","v":""},{"$f":"IF('Daten K3'!H52=\"\",\"\",'Daten K3'!H52)","v":""},{"$f":"IF('Daten K3'!I52=\"\",\"\",'Daten K3'!I52)","v":""},"","","","","","","","","","","",0,"",null,null,null,null,null,null,null,null,null,null,null,null,null,null,null,null,null,null,null,null,null,null,null,null,null,null,null,null,null,null,null,null,0,0,0,0,0,0,0,0,0,0,0]
[{"$f":"IF('Daten K3'!A53=\"\",\"\",'Daten K3'!A53)","v":""},{"$f":"IF('Daten K3'!B53=\"\",\"\",'Daten K3'!B53)","v":""},{"$f":"IF('Daten K3'!E53=\"\",\"\",'Daten K3'!E53)","v":""},{"$f":"IF('Daten K3'!F53=\"\",\"\",'Daten K3'!F53)","v":""},{"$f":"IF('Daten K3'!G53=\"\",\"\",'Daten K3'!G53)","v":""},{"$f":"IF('Daten K3'!H53=\"\",\"\",'Daten K3'!H53)","v":""},{"$f":"IF('Daten K3'!I53=\"\",\"\",'Daten K3'!I53)","v":""},"","","","","","","","","","","",0,"",null,null,null,null,null,null,null,null,null,null,null,null,null,null,null,null,null,null,null,null,null,null,null,null,null,null,null,null,null,null,null,null,0,0,0,0,0,0,0,0,0,0,0]
[{"$f":"IF('Daten K3'!A54=\"\",\"\",'Daten K3'!A54)","v":""},{"$f":"IF('Daten K3'!B54=\"\",\"\",'Daten K3'!B54)","v":""},{"$f":"IF('Daten K3'!E54=\"\",\"\",'Daten K3'!E54)","v":""},{"$f":"IF('Daten K3'!F54=\"\",\"\",'Daten K3'!F54)","v":""},{"$f":"IF('Daten K3'!G54=\"\",\"\",'Daten K3'!G54)","v":""},{"$f":"IF('Daten K3'!H54=\"\",\"\",'Daten K3'!H54)","v":""},{"$f":"IF('Daten K3'!I54=\"\",\"\",'Daten K3'!I54)","v":""},"","","","","","","","","","","",0,"",null,null,null,null,null,null,null,null,null,null,null,null,null,null,null,null,null,null,null,null,null,null,null,null,null,null,null,null,null,null,null,null,0,0,0,0,0,0,0,0,0,0,0]
[{"$f":"IF('Daten K3'!A55=\"\",\"\",'Daten K3'!A55)","v":""},{"$f":"IF('Daten K3'!B55=\"\",\"\",'Daten K3'!B55)","v":""},{"$f":"IF('Daten K3'!E55=\"\",\"\",'Daten K3'!E55)","v":""},{"$f":"IF('Daten K3'!F55=\"\",\"\",'Daten K3'!F55)","v":""},{"$f":"IF('Daten K3'!G55=\"\",\"\",'Daten K3'!G55)","v":""},{"$f":"IF('Daten K3'!H55=\"\",\"\",'Daten K3'!H55)","v":""},{"$f":"IF('Daten K3'!I55=\"\",\"\",'Daten K3'!I55)","v":""},"","","","","","","","","","","",0,"",null,null,null,null,null,null,null,null,null,null,null,null,null,null,null,null,null,null,null,null,null,null,null,null,null,null,null,null,null,null,null,null,0,0,0,0,0,0,0,0,0,0,0]
[{"$f":"IF('Daten K3'!A56=\"\",\"\",'Daten K3'!A56)","v":""},{"$f":"IF('Daten K3'!B56=\"\",\"\",'Daten K3'!B56)","v":""},{"$f":"IF('Daten K3'!E56=\"\",\"\",'Daten K3'!E56)","v":""},{"$f":"IF('Daten K3'!F56=\"\",\"\",'Daten K3'!F56)","v":""},{"$f":"IF('Daten K3'!G56=\"\",\"\",'Daten K3'!G56)","v":""},{"$f":"IF('Daten K3'!H56=\"\",\"\",'Daten K3'!H56)","v":""},{"$f":"IF('Daten K3'!I56=\"\",\"\",'Daten K3'!I56)","v":""},"","","","","","","","","","","",0,"",null,null,null,null,null,null,null,null,null,null,null,null,null,null,null,null,null,null,null,null,null,null,null,null,null,null,null,null,null,null,null,null,0,0,0,0,0,0,0,0,0,0,0]
[{"$f":"IF('Daten K3'!A57=\"\",\"\",'Daten K3'!A57)","v":""},{"$f":"IF('Daten K3'!B57=\"\",\"\",'Daten K3'!B57)","v":""},{"$f":"IF('Daten K3'!E57=\"\",\"\",'Daten K3'!E57)","v":""},{"$f":"IF('Daten K3'!F57=\"\",\"\",'Daten K3'!F57)","v":""},{"$f":"IF('Daten K3'!G57=\"\",\"\",'Daten K3'!G57)","v":""},{"$f":"IF('Daten K3'!H57=\"\",\"\",'Daten K3'!H57)","v":""},{"$f":"IF('Daten K3'!I57=\"\",\"\",'Daten K3'!I57)","v":""},"","","","","","","","","","","",0,"",null,null,null,null,null,null,null,null,null,null,null,null,null,null,null,null,null,null,null,null,null,null,null,null,null,null,null,null,null,null,null,null,0,0,0,0,0,0,0,0,0,0,0]
[{"$f":"IF('Daten K3'!A58=\"\",\"\",'Daten K3'!A58)","v":""},{"$f":"IF('Daten K3'!B58=\"\",\"\",'Daten K3'!B58)","v":""},{"$f":"IF('Daten K3'!E58=\"\",\"\",'Daten K3'!E58)","v":""},{"$f":"IF('Daten K3'!F58=\"\",\"\",'Daten K3'!F58)","v":""},{"$f":"IF('Daten K3'!G58=\"\",\"\",'Daten K3'!G58)","v":""},{"$f":"IF('Daten K3'!H58=\"\",\"\",'Daten K3'!H58)","v":""},{"$f":"IF('Daten K3'!I58=\"\",\"\",'Daten K3'!I58)","v":""},"","","","","","","","","","","",0,"",null,null,null,null,null,null,null,null,null,null,null,null,null,null,null,null,null,null,null,null,null,null,null,null,null,null,null,null,null,null,null,null,0,0,0,0,0,0,0,0,0,0,0]
[{"$f":"IF('Daten K3'!A59=\"\",\"\",'Daten K3'!A59)","v":""},{"$f":"IF('Daten K3'!B59=\"\",\"\",'Daten K3'!B59)","v":""},{"$f":"IF('Daten K3'!E59=\"\",\"\",'Daten K3'!E59)","v":""},{"$f":"IF('Daten K3'!F59=\"\",\"\",'Daten K3'!F59)","v":""},{"$f":"IF('Daten K3'!G59=\"\",\"\",'Daten K3'!G59)","v":""},{"$f":"IF('Daten K3'!H59=\"\",\"\",'Daten K3'!H59)","v":""},{"$f":"IF('Daten K3'!I59=\"\",\"\",'Daten K3'!I59)","v":""},"","","","","","","","","","","",0,"",null,null,null,null,null,null,null,null,null,null,null,null,null,null,null,null,null,null,null,null,null,null,null,null,null,null,null,null,null,null,null,null,0,0,0,0,0,0,0,0,0,0,0]
[{"$f":"IF('Daten K3'!A60=\"\",\"\",'Daten K3'!A60)","v":""},{"$f":"IF('Daten K3'!B60=\"\",\"\",'Daten K3'!B60)","v":""},{"$f":"IF('Daten K3'!E60=\"\",\"\",'Daten K3'!E60)","v":""},{"$f":"IF('Daten K3'!F60=\"\",\"\",'Daten K3'!F60)","v":""},{"$f":"IF('Daten K3'!G60=\"\",\"\",'Daten K3'!G60)","v":""},{"$f":"IF('Daten K3'!H60=\"\",\"\",'Daten K3'!H60)","v":""},{"$f":"IF('Daten K3'!I60=\"\",\"\",'Daten K3'!I60)","v":""},"","","","","","","","","","","",0,"",null,null,null,null,null,null,null,null,null,null,null,null,null,null,null,null,null,null,null,null,null,null,null,null,null,null,null,null,null,null,null,null,0,0,0,0,0,0,0,0,0,0,0]
[{"$f":"IF('Daten K3'!A61=\"\",\"\",'Daten K3'!A61)","v":""},{"$f":"IF('Daten K3'!B61=\"\",\"\",'Daten K3'!B61)","v":""},{"$f":"IF('Daten K3'!E61=\"\",\"\",'Daten K3'!E61)","v":""},{"$f":"IF('Daten K3'!F61=\"\",\"\",'Daten K3'!F61)","v":""},{"$f":"IF('Daten K3'!G61=\"\",\"\",'Daten K3'!G61)","v":""},{"$f":"IF('Daten K3'!H61=\"\",\"\",'Daten K3'!H61)","v":""},{"$f":"IF('Daten K3'!I61=\"\",\"\",'Daten K3'!I61)","v":""},"","","","","","","","","","","",0,"",null,null,null,null,null,null,null,null,null,null,null,null,null,null,null,null,null,null,null,null,null,null,null,null,null,null,null,null,null,null,null,null,0,0,0,0,0,0,0,0,0,0,0]
[{"$f":"IF('Daten K3'!A62=\"\",\"\",'Daten K3'!A62)","v":""},{"$f":"IF('Daten K3'!B62=\"\",\"\",'Daten K3'!B62)","v":""},{"$f":"IF('Daten K3'!E62=\"\",\"\",'Daten K3'!E62)","v":""},{"$f":"IF('Daten K3'!F62=\"\",\"\",'Daten K3'!F62)","v":""},{"$f":"IF('Daten K3'!G62=\"\",\"\",'Daten K3'!G62)","v":""},{"$f":"IF('Daten K3'!H62=\"\",\"\",'Daten K3'!H62)","v":""},{"$f":"IF('Daten K3'!I62=\"\",\"\",'Daten K3'!I62)","v":""},"","","","","","","","","","","",0,"",null,null,null,null,null,null,null,null,null,null,null,null,null,null,null,null,null,null,null,null,null,null,null,null,null,null,null,null,null,null,null,null,0,0,0,0,0,0,0,0,0,0,0]
[{"$f":"IF('Daten K3'!A63=\"\",\"\",'Daten K3'!A63)","v":""},{"$f":"IF('Daten K3'!B63=\"\",\"\",'Daten K3'!B63)","v":""},{"$f":"IF('Daten K3'!E63=\"\",\"\",'Daten K3'!E63)","v":""},{"$f":"IF('Daten K3'!F63=\"\",\"\",'Daten K3'!F63)","v":""},{"$f":"IF('Daten K3'!G63=\"\",\"\",'Daten K3'!G63)","v":""},{"$f":"IF('Daten K3'!H63=\"\",\"\",'Daten K3'!H63)","v":""},{"$f":"IF('Daten K3'!I63=\"\",\"\",'Daten K3'!I63)","v":""},"","","","","","","","","","","",0,"",null,null,null,null,null,null,null,null,null,null,null,null,null,null,null,null,null,null,null,null,null,null,null,null,null,null,null,null,null,null,null,null,0,0,0,0,0,0,0,0,0,0,0]
[{"$f":"IF('Daten K3'!A64=\"\",\"\",'Daten K3'!A64)","v":""},{"$f":"IF('Daten K3'!B64=\"\",\"\",'Daten K3'!B64)","v":""},{"$f":"IF('Daten K3'!E64=\"\",\"\",'Daten K3'!E64)","v":""},{"$f":"IF('Daten K3'!F64=\"\",\"\",'Daten K3'!F64)","v":""},{"$f":"IF('Daten K3'!G64=\"\",\"\",'Daten K3'!G64)","v":""},{"$f":"IF('Daten K3'!H64=\"\",\"\",'Daten K3'!H64)","v":""},{"$f":"IF('Daten K3'!I64=\"\",\"\",'Daten K3'!I64)","v":""},"","","","","","","","","","","",0,"",null,null,null,null,null,null,null,null,null,null,null,null,null,null,null,null,null,null,null,null,null,null,null,null,null,null,null,null,null,null,null,null,0,0,0,0,0,0,0,0,0,0,0]
[{"$f":"IF('Daten K3'!A65=\"\",\"\",'Daten K3'!A65)","v":""},{"$f":"IF('Daten K3'!B65=\"\",\"\",'Daten K3'!B65)","v":""},{"$f":"IF('Daten K3'!E65=\"\",\"\",'Daten K3'!E65)","v":""},{"$f":"IF('Daten K3'!F65=\"\",\"\",'Daten K3'!F65)","v":""},{"$f":"IF('Daten K3'!G65=\"\",\"\",'Daten K3'!G65)","v":""},{"$f":"IF('Daten K3'!H65=\"\",\"\",'Daten K3'!H65)","v":""},{"$f":"IF('Daten K3'!I65=\"\",\"\",'Daten K3'!I65)","v":""},"","","","","","","","","","","",0,"",null,null,null,null,null,null,null,null,null,null,null,null,null,null,null,null,null,null,null,null,null,null,null,null,null,null,null,null,null,null,null,null,0,0,0,0,0,0,0,0,0,0,0]
[]
[]
[{"$f":"'Übersicht Übungen'!H20","v":256},{"$f":"'Übersicht Übungen'!I20","v":320},"Punkte","Punkte"]
[{"$f":"'Übersicht Übungen'!H21","v":224},{"$f":"'Übersicht Übungen'!I21","v":255.5},0,0]
[{"$f":"'Übersicht Übungen'!H22","v":192},{"$f":"'Übersicht Übungen'!I22","v":223.5},5,5]
[{"$f":"'Übersicht Übungen'!H23","v":0},{"$f":"'Übersicht Übungen'!I23","v":191.5},5.25,5.5]
[null,null,5.5,6]
[null,null,5.75,6.5]
[null,null,6,7]
[null,null,6.25,7.5]
[null,null,6.5,8]
[null,null,6.75,8.5]
[null,null,7,9]
[null,null,7.25,9.5]
[null,null,7.5,10]
[null,null,7.75]
[null,null,8]
[null,null,8.25]
[null,null,8.5]
[null,null,8.75]
[null,null,9]
[null,null,9.25]
[null,null,9.5]
[null,null,9.75]
[null,null,10]

{"sheet":"Liste Senioren","index":15,"n_rows":63,"n_cols":63,"rows_kept":63,"cut":false,"hidden":false,"merged":[[6,7,6,17],[5,32,5,33],[5,34,5,35],[5,36,5,37],[5,38,5,39],[5,40,5,41],[5,42,5,43],[3,0,5,5],[5,22,5,23],[5,24,5,25],[5,26,5,27],[5,28,5,29],[5,30,5,31],[0,0,0,3],[0,4,0,13],[0,14,0,20],[1,0,1,2],[1,3,1,5],[1,7,1,15],[1,18,1,20]]}
["Obedience:  ",null,null,null,{"$f":"Stammdaten!C5&\"\"","v":"z.B. Vereinsprf."},null,null,null,null,null,null,null,null,null,"Klasse Senioren"]
["Veranstaltender Verein:",null,null,{"$f":"Stammdaten!C4","v":0},null,null,"Leistungsrichter:",{"$f":"Stammdaten!H3","v":0},null,null,null,null,null,null,null,null,null,"Datum:",{"$f":"Stammdaten!C6","v":"00:00:00"}]
[]
["Ergebnisliste",null,null,null,null,null,"Übung",{"$f":"'Übersicht Übungen'!$A62","v":1},{"$f":"'Übersicht Übungen'!$A63","v":2},{"$f":"'Übersicht Übungen'!$A64","v":3},{"$f":"'Übersicht Übungen'!$A65","v":4},{"$f":"'Übersicht Übungen'!$A66","v":5},{"$f":"'Übersicht Übungen'!$A67","v":6},{"$f":"'Übersicht Übungen'!$A68","v":7},{"$f":"'Übersicht Übungen'!$A69","v":8},{"$f":"'Übersicht Übungen'!$A70","v":9},{"$f":"'Übersicht Übungen'!$A71","v":10},{"$f":"'Übersicht Übungen'!$A44","v":0},null,null,null,null,"Eingabe der Bewertung nach Leistungsrichter:"]
[null,null,null,null,null,null,"Reihenfolge",{"$f":"'Übersicht Übungen'!$B62","v":1},{"$f":"'Übersicht Übungen'!$B63","v":2},{"$f":"'Übersicht Übungen'!$B64","v":3},{"$f":"'Übersicht Übungen'!$B65","v":4},{"$f":"'Übersicht Übungen'!$B66","v":5},{"$f":"'Übersicht Übungen'!$B67","v":6},{"$f":"'Übersicht Übungen'!$B68","v":7},{"$f":"'Übersicht Übungen'!$B69","v":8},{"$f":"'Übersicht Übungen'!$B70","v":9},{"$f":"'Übersicht Übungen'!$B71","v":10},{"$f":"'Übersicht Übungen'!$B44","v":0}]
[null,null,null,null,null,null,"Koeffizient",{"$f":"VLOOKUP(INDEX(UebSenioren,1,1),UebSenioren,3,FALSE)","v":4},{"$f":"VLOOKUP(INDEX(UebSenioren,2,1),UebSenioren,3,FALSE)","v":3},{"$f":"VLOOKUP(INDEX(UebSenioren,3,1),UebSenioren,3,FALSE)","v":3},{"$f":"VLOOKUP(INDEX(UebSenioren,4,1),UebSenioren,3,FALSE)","v":3},{"$f":"VLOOKUP(INDEX(UebSenioren,5,1),UebSenioren,3,FALSE)","v":4},{"$f":"VLOOKUP(INDEX(UebSenioren,6,1),UebSenioren,3,FALSE)","v":3},{"$f":"VLOOKUP(INDEX(UebSenioren,7,1),UebSenioren,3,FALSE)","v":2},{"$f":"VLOOKUP(INDEX(UebSenioren,8,1),UebSenioren,3,FALSE)","v":4},{"$f":"VLOOKUP(INDEX(UebSenioren,9,1),UebSenioren,3,FALSE)","v":4},{"$f":"VLOOKUP(INDEX(UebSenioren,10,1),UebSenioren,3,FALSE)","v":2},{"$f":"'Übersicht Übungen'!$C44","v":0},null,null,null,null,{"$f":"\"Übung: \"&H$4","v":"Übung: 1"},null,{"$f":"\"Übung: \"&I$4","v":"Übung: 2"},null,{"$f":"\"Übung: \"&J$4","v":"Übung: 3"},null,{"$f":"\"Übung: \"&K$4","v":"Übung: 4"},null,{"$f":"\"Übung: \"&L$4","v":"Übung: 5"},null,{"$f":"\"Übung: \"&M$4","v":"Übung: 6"},null,{"$f":"\"Übung: \"&N$4","v":"Übung: 7"},null,{"$f":"\"Übung: \"&O$4","v":"Übung: 8"},null,{"$f":"\"Übung: \"&P$4","v":"Übung: 9"},null,{"$f":"\"Übung: \"&Q$4","v":"Übung: 10"}]
["Nr.","Los","Hundeführer/-in","Verein","Verband","Hund","Rasse","Auswertung",null,null,null,null,null,null,null,null,null,null,"Gesamt","WN","Platz",null,"LR 1","LR 2","LR 1","LR 2","LR 1","LR 2","LR 1","LR 2","LR 1","LR 2","LR 1","LR 2","LR 1","LR 2","LR 1","LR 2","LR 1","LR 2","LR 1","LR 2"]
[{"$f":"IF('Daten Sen'!A5=\"\",\"\",'Daten Sen'!A5)","v":""},{"$f":"IF('Daten Sen'!B5=\"\",\"\",'Daten Sen'!B5)","v":""},{"$f":"IF('Daten Sen'!E5=\"\",\"\",'Daten Sen'!E5)","v":""},{"$f":"IF('Daten Sen'!F5=\"\",\"\",'Daten Sen'!F5)","v":""},{"$f":"IF('Daten Sen'!G5=\"\",\"\",'Daten Sen'!G5)","v":""},{"$f":"IF('Daten Sen'!H5=\"\",\"\",'Daten Sen'!H5)","v":""},{"$f":"IF('Daten Sen'!I5=\"\",\"\",'Daten Sen'!I5)","v":""},{"$f":"IF(AND(W8=\"\",X8=\"\"),\"\",IF(X8=\"\",W8,IF(W8=\"\",X8,((W8+X8)/2))))","v":""},{"$f":"IF(AND(Y8=\"\",Z8=\"\"),\"\",IF(Z8=\"\",Y8,IF(Y8=\"\",Z8,((Y8+Z8)/2))))","v":""},{"$f":"IF(AND(AA8=\"\",AB8=\"\"),\"\",IF(AB8=\"\",AA8,IF(AA8=\"\",AB8,((AA8+AB8)/2))))","v":""},{"$f":"IF(AND(AC8=\"\",AD8=\"\"),\"\",IF(AD8=\"\",AC8,IF(AC8=\"\",AD8,((AC8+AD8)/2))))","v":""},{"$f":"IF(AND(AE8=\"\",AF8=\"\"),\"\",IF(AF8=\"\",AE8,IF(AE8=\"\",AF8,((AE8+AF8)/2))))","v":""},{"$f":"IF(AND(AG8=\"\",AH8=\"\"),\"\",IF(AH8=\"\",AG8,IF(AG8=\"\",AH8,((AG8+AH8)/2))))","v":""},{"$f":"IF(AND(AI8=\"\",AJ8=\"\"),\"\",IF(AJ8=\"\",AI8,IF(AI8=\"\",AJ8,((AI8+AJ8)/2))))","v":""},{"$f":"IF(AND(AK8=\"\",AL8=\"\"),\"\",IF(AL8=\"\",AK8,IF(AK8=\"\",AL8,((AK8+AL8)/2))))","v":""},{"$f":"IF(AND(AM8=\"\",AN8=\"\"),\"\",IF(AN8=\"\",AM8,IF(AM8=\"\",AN8,((AM8+AN8)/2))))","v":""},{"$f":"IF(AND(AO8=\"\",AP8=\"\"),\"\",IF(AP8=\"\",AO8,IF(AO8=\"\",AP8,((AO8+AP8)/2))))","v":""},"",{"$f":"SUM(BA8*$H$6+BB8*$I$6+BC8*$J$6+BD8*$K$6+BE8*$L$6+BF8*$M$6+BG8*$N$6+BH8*$O$6+BI8*$P$6+BJ8*$Q$6+BK8*$R$6)","v":0},{"$f":"IF(U8=\"DIS\",\"oAK\",IF(S8=0,\"\",IF(S8>$B$42,\"V\",IF(S8>$B$43,\"SG\",IF(S8>$B$44,\"G\",\"oAK\")))))","v":""},null,null,null,null,null,null,null,null,null,null,null,null,null,null,null,null,null,null,null,null,null,null,null,null,null,null,null,null,null,null,null,null,{"$f":"IF(H8=\"\",0,H8)","v":0},{"$f":"IF(I8=\"\",0,I8)","v":0},0,0,0,0,0,0,0,0,0]
[{"$f":"IF('Daten Sen'!A6=\"\",\"\",'Daten Sen'!A6)","v":""},{"$f":"IF('Daten Sen'!B6=\"\",\"\",'Daten Sen'!B6)","v":""},{"$f":"IF('Daten Sen'!E6=\"\",\"\",'Daten Sen'!E6)","v":""},{"$f":"IF('Daten Sen'!F6=\"\",\"\",'Daten Sen'!F6)","v":""},{"$f":"IF('Daten Sen'!G6=\"\",\"\",'Daten Sen'!G6)","v":""},{"$f":"IF('Daten Sen'!H6=\"\",\"\",'Daten Sen'!H6)","v":""},{"$f":"IF('Daten Sen'!I6=\"\",\"\",'Daten Sen'!I6)","v":""},"","","","","","","","","","","",{"$f":"SUM(BA9*$H$6+BB9*$I$6+BC9*$J$6+BD9*$K$6+BE9*$L$6+BF9*$M$6+BG9*$N$6+BH9*$O$6+BI9*$P$6+BJ9*$Q$6+BK9*$R$6)","v":0},"",null,null,null,null,null,null,null,null,null,null,null,null,null,null,null,null,null,null,null,null,null,null,null,null,null,null,null,null,null,null,null,null,{"$f":"IF(H9=\"\",0,H9)","v":0},0,0,0,0,0,0,0,0,0,0]
[{"$f":"IF('Daten Sen'!A7=\"\",\"\",'Daten Sen'!A7)","v":""},{"$f":"IF('Daten Sen'!B7=\"\",\"\",'Daten Sen'!B7)","v":""},{"$f":"IF('Daten Sen'!E7=\"\",\"\",'Daten Sen'!E7)","v":""},{"$f":"IF('Daten Sen'!F7=\"\",\"\",'Daten Sen'!F7)","v":""},{"$f":"IF('Daten Sen'!G7=\"\",\"\",'Daten Sen'!G7)","v":""},{"$f":"IF('Daten Sen'!H7=\"\",\"\",'Daten Sen'!H7)","v":""},{"$f":"IF('Daten Sen'!I7=\"\",\"\",'Daten Sen'!I7)","v":""},"","","","","","","","","","","",0,"",null,null,null,null,null,null,null,null,null,null,null,null,null,null,null,null,null,null,null,null,null,null,null,null,null,null,null,null,null,null,null,null,0,0,0,0,0,0,0,0,0,0,0]
[{"$f":"IF('Daten Sen'!A8=\"\",\"\",'Daten Sen'!A8)","v":""},{"$f":"IF('Daten Sen'!B8=\"\",\"\",'Daten Sen'!B8)","v":""},{"$f":"IF('Daten Sen'!E8=\"\",\"\",'Daten Sen'!E8)","v":""},{"$f":"IF('Daten Sen'!F8=\"\",\"\",'Daten Sen'!F8)","v":""},{"$f":"IF('Daten Sen'!G8=\"\",\"\",'Daten Sen'!G8)","v":""},{"$f":"IF('Daten Sen'!H8=\"\",\"\",'Daten Sen'!H8)","v":""},{"$f":"IF('Daten Sen'!I8=\"\",\"\",'Daten Sen'!I8)","v":""},"","","","","","","","","","","",0,"",null,null,null,null,null,null,null,null,null,null,null,null,null,null,null,null,null,null,null,null,null,null,null,null,null,null,null,null,null,null,null,null,0,0,0,0,0,0,0,0,0,0,0]
[{"$f":"IF('Daten Sen'!A9=\"\",\"\",'Daten Sen'!A9)","v":""},{"$f":"IF('Daten Sen'!B9=\"\",\"\",'Daten Sen'!B9)","v":""},{"$f":"IF('Daten Sen'!E9=\"\",\"\",'Daten Sen'!E9)","v":""},{"$f":"IF('Daten Sen'!F9=\"\",\"\",'Daten Sen'!F9)","v":""},{"$f":"IF('Daten Sen'!G9=\"\",\"\",'Daten Sen'!G9)","v":""},{"$f":"IF('Daten Sen'!H9=\"\",\"\",'Daten Sen'!H9)","v":""},{"$f":"IF('Daten Sen'!I9=\"\",\"\",'Daten Sen'!I9)","v":""},"","","","","","","","","","","",0,"",null,null,null,null,null,null,null,null,null,null,null,null,null,null,null,null,null,null,null,null,null,null,null,null,null,null,null,null,null,null,null,null,0,0,0,0,0,0,0,0,0,0,0]
[{"$f":"IF('Daten Sen'!A10=\"\",\"\",'Daten Sen'!A10)","v":""},{"$f":"IF('Daten Sen'!B10=\"\",\"\",'Daten Sen'!B10)","v":""},{"$f":"IF('Daten Sen'!E10=\"\",\"\",'Daten Sen'!E10)","v":""},{"$f":"IF('Daten Sen'!F10=\"\",\"\",'Daten Sen'!F10)","v":""},{"$f":"IF('Daten Sen'!G10=\"\",\"\",'Daten Sen'!G10)","v":""},{"$f":"IF('Daten Sen'!H10=\"\",\"\",'Daten Sen'!H10)","v":""},{"$f":"IF('Daten Sen'!I10=\"\",\"\",'Daten Sen'!I10)","v":""},"","","","","","","","","","","",0,"",null,null,null,null,null,null,null,null,null,null,null,null,null,null,null,null,null,null,null,null,null,null,null,null,null,null,null,null,null,null,null,null,0,0,0,0,0,0,0,0,0,0,0]
[{"$f":"IF('Daten Sen'!A11=\"\",\"\",'Daten Sen'!A11)","v":""},{"$f":"IF('Daten Sen'!B11=\"\",\"\",'Daten Sen'!B11)","v":""},{"$f":"IF('Daten Sen'!E11=\"\",\"\",'Daten Sen'!E11)","v":""},{"$f":"IF('Daten Sen'!F11=\"\",\"\",'Daten Sen'!F11)","v":""},{"$f":"IF('Daten Sen'!G11=\"\",\"\",'Daten Sen'!G11)","v":""},{"$f":"IF('Daten Sen'!H11=\"\",\"\",'Daten Sen'!H11)","v":""},{"$f":"IF('Daten Sen'!I11=\"\",\"\",'Daten Sen'!I11)","v":""},"","","","","","","","","","","",0,"",null,null,null,null,null,null,null,null,null,null,null,null,null,null,null,null,null,null,null,null,null,null,null,null,null,null,null,null,null,null,null,null,0,0,0,0,0,0,0,0,0,0,0]
[{"$f":"IF('Daten Sen'!A12=\"\",\"\",'Daten Sen'!A12)","v":""},{"$f":"IF('Daten Sen'!B12=\"\",\"\",'Daten Sen'!B12)","v":""},{"$f":"IF('Daten Sen'!E12=\"\",\"\",'Daten Sen'!E12)","v":""},{"$f":"IF('Daten Sen'!F12=\"\",\"\",'Daten Sen'!F12)","v":""},{"$f":"IF('Daten Sen'!G12=\"\",\"\",'Daten Sen'!G12)","v":""},{"$f":"IF('Daten Sen'!H12=\"\",\"\",'Daten Sen'!H12)","v":""},{"$f":"IF('Daten Sen'!I12=\"\",\"\",'Daten Sen'!I12)","v":""},"","","","","","","","","","","",0,"",null,null,null,null,null,null,null,null,null,null,null,null,null,null,null,null,null,null,null,null,null,null,null,null,null,null,null,null,null,null,null,null,0,0,0,0,0,0,0,0,0,0,0]
[{"$f":"IF('Daten Sen'!A13=\"\",\"\",'Daten Sen'!A13)","v":""},{"$f":"IF('Daten Sen'!B13=\"\",\"\",'Daten Sen'!B13)","v":""},{"$f":"IF('Daten Sen'!E13=\"\",\"\",'Daten Sen'!E13)","v":""},{"$f":"IF('Daten Sen'!F13=\"\",\"\",'Daten Sen'!F13)","v":""},{"$f":"IF('Daten Sen'!G13=\"\",\"\",'Daten Sen'!G13)","v":""},{"$f":"IF('Daten Sen'!H13=\"\",\"\",'Daten Sen'!H13)","v":""},{"$f":"IF('Daten Sen'!I13=\"\",\"\",'Daten Sen'!I13)","v":""},"","","","","","","","","","","",0,"",null,null,null,null,null,null,null,null,null,null,null,null,null,null,null,null,null,null,null,null,null,null,null,null,null,null,null,null,null,null,null,null,0,0,0,0,0,0,0,0,0,0,0]
[{"$f":"IF('Daten Sen'!A14=\"\",\"\",'Daten Sen'!A14)","v":""},{"$f":"IF('Daten Sen'!B14=\"\",\"\",'Daten Sen'!B14)","v":""},{"$f":"IF('Daten Sen'!E14=\"\",\"\",'Daten Sen'!E14)","v":""},{"$f":"IF('Daten Sen'!F14=\"\",\"\",'Daten Sen'!F14)","v":""},{"$f":"IF('Daten Sen'!G14=\"\",\"\",'Daten Sen'!G14)","v":""},{"$f":"IF('Daten Sen'!H14=\"\",\"\",'Daten Sen'!H14)","v":""},{"$f":"IF('Daten Sen'!I14=\"\",\"\",'Daten Sen'!I14)","v":""},"","","","","","","","","","","",0,"",null,null,null,null,null,null,null,null,null,null,null,null,null,null,null,null,null,null,null,null,null,null,null,null,null,null,null,null,null,null,null,null,0,0,0,0,0,0,0,0,0,0,0]
[{"$f":"IF('Daten Sen'!A15=\"\",\"\",'Daten Sen'!A15)","v":""},{"$f":"IF('Daten Sen'!B15=\"\",\"\",'Daten Sen'!B15)","v":""},{"$f":"IF('Daten Sen'!E15=\"\",\"\",'Daten Sen'!E15)","v":""},{"$f":"IF('Daten Sen'!F15=\"\",\"\",'Daten Sen'!F15)","v":""},{"$f":"IF('Daten Sen'!G15=\"\",\"\",'Daten Sen'!G15)","v":""},{"$f":"IF('Daten Sen'!H15=\"\",\"\",'Daten Sen'!H15)","v":""},{"$f":"IF('Daten Sen'!I15=\"\",\"\",'Daten Sen'!I15)","v":""},"","","","","","","","","","","",0,"",null,null,null,null,null,null,null,null,null,null,null,null,null,null,null,null,null,null,null,null,null,null,null,null,null,null,null,null,null,null,null,null,0,0,0,0,0,0,0,0,0,0,0]
[{"$f":"IF('Daten Sen'!A16=\"\",\"\",'Daten Sen'!A16)","v":""},{"$f":"IF('Daten Sen'!B16=\"\",\"\",'Daten Sen'!B16)","v":""},{"$f":"IF('Daten Sen'!E16=\"\",\"\",'Daten Sen'!E16)","v":""},{"$f":"IF('Daten Sen'!F16=\"\",\"\",'Daten Sen'!F16)","v":""},{"$f":"IF('Daten Sen'!G16=\"\",\"\",'Daten Sen'!G16)","v":""},{"$f":"IF('Daten Sen'!H16=\"\",\"\",'Daten Sen'!H16)","v":""},{"$f":"IF('Daten Sen'!I16=\"\",\"\",'Daten Sen'!I16)","v":""},"","","","","","","","","","","",0,"",null,null,null,null,null,null,null,null,null,null,null,null,null,null,null,null,null,null,null,null,null,null,null,null,null,null,null,null,null,null,null,null,0,0,0,0,0,0,0,0,0,0,0]
[{"$f":"IF('Daten Sen'!A17=\"\",\"\",'Daten Sen'!A17)","v":""},{"$f":"IF('Daten Sen'!B17=\"\",\"\",'Daten Sen'!B17)","v":""},{"$f":"IF('Daten Sen'!E17=\"\",\"\",'Daten Sen'!E17)","v":""},{"$f":"IF('Daten Sen'!F17=\"\",\"\",'Daten Sen'!F17)","v":""},{"$f":"IF('Daten Sen'!G17=\"\",\"\",'Daten Sen'!G17)","v":""},{"$f":"IF('Daten Sen'!H17=\"\",\"\",'Daten Sen'!H17)","v":""},{"$f":"IF('Daten Sen'!I17=\"\",\"\",'Daten Sen'!I17)","v":""},"","","","","","","","","","","",0,"",null,null,null,null,null,null,null,null,null,null,null,null,null,null,null,null,null,null,null,null,null,null,null,null,null,null,null,null,null,null,null,null,0,0,0,0,0,0,0,0,0,0,0]
[{"$f":"IF('Daten Sen'!A18=\"\",\"\",'Daten Sen'!A18)","v":""},{"$f":"IF('Daten Sen'!B18=\"\",\"\",'Daten Sen'!B18)","v":""},{"$f":"IF('Daten Sen'!E18=\"\",\"\",'Daten Sen'!E18)","v":""},{"$f":"IF('Daten Sen'!F18=\"\",\"\",'Daten Sen'!F18)","v":""},{"$f":"IF('Daten Sen'!G18=\"\",\"\",'Daten Sen'!G18)","v":""},{"$f":"IF('Daten Sen'!H18=\"\",\"\",'Daten Sen'!H18)","v":""},{"$f":"IF('Daten Sen'!I18=\"\",\"\",'Daten Sen'!I18)","v":""},"","","","","","","","","","","",0,"",null,null,null,null,null,null,null,null,null,null,null,null,null,null,null,null,null,null,null,null,null,null,null,null,null,null,null,null,null,null,null,null,0,0,0,0,0,0,0,0,0,0,0]
[{"$f":"IF('Daten Sen'!A19=\"\",\"\",'Daten Sen'!A19)","v":""},{"$f":"IF('Daten Sen'!B19=\"\",\"\",'Daten Sen'!B19)","v":""},{"$f":"IF('Daten Sen'!E19=\"\",\"\",'Daten Sen'!E19)","v":""},{"$f":"IF('Daten Sen'!F19=\"\",\"\",'Daten Sen'!F19)","v":""},{"$f":"IF('Daten Sen'!G19=\"\",\"\",'Daten Sen'!G19)","v":""},{"$f":"IF('Daten Sen'!H19=\"\",\"\",'Daten Sen'!H19)","v":""},{"$f":"IF('Daten Sen'!I19=\"\",\"\",'Daten Sen'!I19)","v":""},"","","","","","","","","","","",0,"",null,null,null,null,null,null,null,null,null,null,null,null,null,null,null,null,null,null,null,null,null,null,null,null,null,null,null,null,null,null,null,null,0,0,0,0,0,0,0,0,0,0,0]
[{"$f":"IF('Daten Sen'!A20=\"\",\"\",'Daten Sen'!A20)","v":""},{"$f":"IF('Daten Sen'!B20=\"\",\"\",'Daten Sen'!B20)","v":""},{"$f":"IF('Daten Sen'!E20=\"\",\"\",'Daten Sen'!E20)","v":""},{"$f":"IF('Daten Sen'!F20=\"\",\"\",'Daten Sen'!F20)","v":""},{"$f":"IF('Daten Sen'!G20=\"\",\"\",'Daten Sen'!G20)","v":""},{"$f":"IF('Daten Sen'!H20=\"\",\"\",'Daten Sen'!H20)","v":""},{"$f":"IF('Daten Sen'!I20=\"\",\"\",'Daten Sen'!I20)","v":""},"","","","","","","","","","","",0,"",null,null,null,null,null,null,null,null,null,null,null,null,null,null,null,null,null,null,null,null,null,null,null,null,null,null,null,null,null,null,null,null,0,0,0,0,0,0,0,0,0,0,0]
[{"$f":"IF('Daten Sen'!A21=\"\",\"\",'Daten Sen'!A21)","v":""},{"$f":"IF('Daten Sen'!B21=\"\",\"\",'Daten Sen'!B21)","v":""},{"$f":"IF('Daten Sen'!E21=\"\",\"\",'Daten Sen'!E21)","v":""},{"$f":"IF('Daten Sen'!F21=\"\",\"\",'Daten Sen'!F21)","v":""},{"$f":"IF('Daten Sen'!G21=\"\",\"\",'Daten Sen'!G21)","v":""},{"$f":"IF('Daten Sen'!H21=\"\",\"\",'Daten Sen'!H21)","v":""},{"$f":"IF('Daten Sen'!I21=\"\",\"\",'Daten Sen'!I21)","v":""},"","","","","","","","","",{"$f":"IF(AND(AO24=\"\",AP24=\"\"),\"\",IF(AP24=\"\",AO24,IF(AO24=\"\",AP24,((AO24+AP24)/2))))","v":""},"",0,"",null,null,null,null,null,null,null,null,null,null,null,null,null,null,null,null,null,null,null,null,null,null,null,null,null,null,null,null,null,null,null,null,0,0,0,0,0,0,0,0,0,0,0]
[{"$f":"IF('Daten Sen'!A22=\"\",\"\",'Daten Sen'!A22)","v":""},{"$f":"IF('Daten Sen'!B22=\"\",\"\",'Daten Sen'!B22)","v":""},{"$f":"IF('Daten Sen'!E22=\"\",\"\",'Daten Sen'!E22)","v":""},{"$f":"IF('Daten Sen'!F22=\"\",\"\",'Daten Sen'!F22)","v":""},{"$f":"IF('Daten Sen'!G22=\"\",\"\",'Daten Sen'!G22)","v":""},{"$f":"IF('Daten Sen'!H22=\"\",\"\",'Daten Sen'!H22)","v":""},{"$f":"IF('Daten Sen'!I22=\"\",\"\",'Daten Sen'!I22)","v":""},"","","","","","","","","","","",0,"",null,null,null,null,null,null,null,null,null,null,null,null,null,null,null,null,null,null,null,null,null,null,null,null,null,null,null,null,null,null,null,null,0,0,0,0,0,0,0,0,0,0,0]
[{"$f":"IF('Daten Sen'!A23=\"\",\"\",'Daten Sen'!A23)","v":""},{"$f":"IF('Daten Sen'!B23=\"\",\"\",'Daten Sen'!B23)","v":""},{"$f":"IF('Daten Sen'!E23=\"\",\"\",'Daten Sen'!E23)","v":""},{"$f":"IF('Daten Sen'!F23=\"\",\"\",'Daten Sen'!F23)","v":""},{"$f":"IF('Daten Sen'!G23=\"\",\"\",'Daten Sen'!G23)","v":""},{"$f":"IF('Daten Sen'!H23=\"\",\"\",'Daten Sen'!H23)","v":""},{"$f":"IF('Daten Sen'!I23=\"\",\"\",'Daten Sen'!I23)","v":""},"","","","","","","","","","","",0,"",null,null,null,null,null,null,null,null,null,null,null,null,null,null,null,null,null,null,null,null,null,null,null,null,null,null,null,null,null,null,null,null,0,0,0,0,0,0,0,0,0,0,0]
[{"$f":"IF('Daten Sen'!A24=\"\",\"\",'Daten Sen'!A24)","v":""},{"$f":"IF('Daten Sen'!B24=\"\",\"\",'Daten Sen'!B24)","v":""},{"$f":"IF('Daten Sen'!E24=\"\",\"\",'Daten Sen'!E24)","v":""},{"$f":"IF('Daten Sen'!F24=\"\",\"\",'Daten Sen'!F24)","v":""},{"$f":"IF('Daten Sen'!G24=\"\",\"\",'Daten Sen'!G24)","v":""},{"$f":"IF('Daten Sen'!H24=\"\",\"\",'Daten Sen'!H24)","v":""},{"$f":"IF('Daten Sen'!I24=\"\",\"\",'Daten Sen'!I24)","v":""},"","","","","","","","","","","",0,"",null,null,null,null,null,null,null,null,null,null,null,null,null,null,null,null,null,null,null,null,null,null,null,null,null,null,null,null,null,null,null,null,0,0,0,0,0,0,0,0,0,0,0]
[{"$f":"IF('Daten Sen'!A25=\"\",\"\",'Daten Sen'!A25)","v":""},{"$f":"IF('Daten Sen'!B25=\"\",\"\",'Daten Sen'!B25)","v":""},{"$f":"IF('Daten Sen'!E25=\"\",\"\",'Daten Sen'!E25)","v":""},{"$f":"IF('Daten Sen'!F25=\"\",\"\",'Daten Sen'!F25)","v":""},{"$f":"IF('Daten Sen'!G25=\"\",\"\",'Daten Sen'!G25)","v":""},{"$f":"IF('Daten Sen'!H25=\"\",\"\",'Daten Sen'!H25)","v":""},{"$f":"IF('Daten Sen'!I25=\"\",\"\",'Daten Sen'!I25)","v":""},"","","","","","","","","","","",0,"",null,null,null,null,null,null,null,null,null,null,null,null,null,null,null,null,null,null,null,null,null,null,null,null,null,null,null,null,null,null,null,null,0,0,0,0,0,0,0,0,0,0,0]
[{"$f":"IF('Daten Sen'!A26=\"\",\"\",'Daten Sen'!A26)","v":""},{"$f":"IF('Daten Sen'!B26=\"\",\"\",'Daten Sen'!B26)","v":""},{"$f":"IF('Daten Sen'!E26=\"\",\"\",'Daten Sen'!E26)","v":""},{"$f":"IF('Daten Sen'!F26=\"\",\"\",'Daten Sen'!F26)","v":""},{"$f":"IF('Daten Sen'!G26=\"\",\"\",'Daten Sen'!G26)","v":""},{"$f":"IF('Daten Sen'!H26=\"\",\"\",'Daten Sen'!H26)","v":""},{"$f":"IF('Daten Sen'!I26=\"\",\"\",'Daten Sen'!I26)","v":""},"","","","","","","","","","","",0,"",null,null,null,null,null,null,null,null,null,null,null,null,null,null,null,null,null,null,null,null,null,null,null,null,null,null,null,null,null,null,null,null,0,0,0,0,0,0,0,0,0,0,0]
[{"$f":"IF('Daten Sen'!A27=\"\",\"\",'Daten Sen'!A27)","v":""},{"$f":"IF('Daten Sen'!B27=\"\",\"\",'Daten Sen'!B27)","v":""},{"$f":"IF('Daten Sen'!E27=\"\",\"\",'Daten Sen'!E27)","v":""},{"$f":"IF('Daten Sen'!F27=\"\",\"\",'Daten Sen'!F27)","v":""},{"$f":"IF('Daten Sen'!G27=\"\",\"\",'Daten Sen'!G27)","v":""},{"$f":"IF('Daten Sen'!H27=\"\",\"\",'Daten Sen'!H27)","v":""},{"$f":"IF('Daten Sen'!I27=\"\",\"\",'Daten Sen'!I27)","v":""},"","","","","","","","","","","",0,"",null,null,null,null,null,null,null,null,null,null,null,null,null,null,null,null,null,null,null,null,null,null,null,null,null,null,null,null,null,null,null,null,0,0,0,0,0,0,0,0,0,0,0]
[{"$f":"IF('Daten Sen'!A28=\"\",\"\",'Daten Sen'!A28)","v":""},{"$f":"IF('Daten Sen'!B28=\"\",\"\",'Daten Sen'!B28)","v":""},{"$f":"IF('Daten Sen'!E28=\"\",\"\",'Daten Sen'!E28)","v":""},{"$f":"IF('Daten Sen'!F28=\"\",\"\",'Daten Sen'!F28)","v":""},{"$f":"IF('Daten Sen'!G28=\"\",\"\",'Daten Sen'!G28)","v":""},{"$f":"IF('Daten Sen'!H28=\"\",\"\",'Daten Sen'!H28)","v":""},{"$f":"IF('Daten Sen'!I28=\"\",\"\",'Daten Sen'!I28)","v":""},"","","","","","","","","","","",0,"",null,null,null,null,null,null,null,null,null,null,null,null,null,null,null,null,null,null,null,null,null,null,null,null,null,null,null,null,null,null,null,null,0,0,0,0,0,0,0,0,0,0,0]
[{"$f":"IF('Daten Sen'!A29=\"\",\"\",'Daten Sen'!A29)","v":""},{"$f":"IF('Daten Sen'!B29=\"\",\"\",'Daten Sen'!B29)","v":""},{"$f":"IF('Daten Sen'!E29=\"\",\"\",'Daten Sen'!E29)","v":""},{"$f":"IF('Daten Sen'!F29=\"\",\"\",'Daten Sen'!F29)","v":""},{"$f":"IF('Daten Sen'!G29=\"\",\"\",'Daten Sen'!G29)","v":""},{"$f":"IF('Daten Sen'!H29=\"\",\"\",'Daten Sen'!H29)","v":""},{"$f":"IF('Daten Sen'!I29=\"\",\"\",'Daten Sen'!I29)","v":""},"","","","","","","","","","","",0,"",null,null,null,null,null,null,null,null,null,null,null,null,null,null,null,null,null,null,null,null,null,null,null,null,null,null,null,null,null,null,null,null,0,0,0,0,0,0,0,0,0,0,0]
[{"$f":"IF('Daten Sen'!A30=\"\",\"\",'Daten Sen'!A30)","v":""},{"$f":"IF('Daten Sen'!B30=\"\",\"\",'Daten Sen'!B30)","v":""},{"$f":"IF('Daten Sen'!E30=\"\",\"\",'Daten Sen'!E30)","v":""},{"$f":"IF('Daten Sen'!F30=\"\",\"\",'Daten Sen'!F30)","v":""},{"$f":"IF('Daten Sen'!G30=\"\",\"\",'Daten Sen'!G30)","v":""},{"$f":"IF('Daten Sen'!H30=\"\",\"\",'Daten Sen'!H30)","v":""},{"$f":"IF('Daten Sen'!I30=\"\",\"\",'Daten Sen'!I30)","v":""},"","","","","","","","","","","",0,"",null,null,null,null,null,null,null,null,null,null,null,null,null,null,null,null,null,null,null,null,null,null,null,null,null,null,null,null,null,null,null,null,0,0,0,0,0,0,0,0,0,0,0]
[{"$f":"IF('Daten Sen'!A31=\"\",\"\",'Daten Sen'!A31)","v":""},{"$f":"IF('Daten Sen'!B31=\"\",\"\",'Daten Sen'!B31)","v":""},{"$f":"IF('Daten Sen'!E31=\"\",\"\",'Daten Sen'!E31)","v":""},{"$f":"IF('Daten Sen'!F31=\"\",\"\",'Daten Sen'!F31)","v":""},{"$f":"IF('Daten Sen'!G31=\"\",\"\",'Daten Sen'!G31)","v":""},{"$f":"IF('Daten Sen'!H31=\"\",\"\",'Daten Sen'!H31)","v":""},{"$f":"IF('Daten Sen'!I31=\"\",\"\",'Daten Sen'!I31)","v":""},"","","","","","","","","","","",0,"",null,null,null,null,null,null,null,null,null,null,null,null,null,null,null,null,null,null,null,null,null,null,null,null,null,null,null,null,null,null,null,null,0,0,0,0,0,0,0,0,0,0,0]
[{"$f":"IF('Daten Sen'!A32=\"\",\"\",'Daten Sen'!A32)","v":""},{"$f":"IF('Daten Sen'!B32=\"\",\"\",'Daten Sen'!B32)","v":""},{"$f":"IF('Daten Sen'!E32=\"\",\"\",'Daten Sen'!E32)","v":""},{"$f":"IF('Daten Sen'!F32=\"\",\"\",'Daten Sen'!F32)","v":""},{"$f":"IF('Daten Sen'!G32=\"\",\"\",'Daten Sen'!G32)","v":""},{"$f":"IF('Daten Sen'!H32=\"\",\"\",'Daten Sen'!H32)","v":""},{"$f":"IF('Daten Sen'!I32=\"\",\"\",'Daten Sen'!I32)","v":""},"","","","","","","","","","","",0,"",null,null,null,null,null,null,null,null,null,null,null,null,null,null,null,null,null,null,null,null,null,null,null,null,null,null,null,null,null,null,null,null,0,0,0,0,0,0,0,0,0,0,0]
[{"$f":"IF('Daten Sen'!A33=\"\",\"\",'Daten Sen'!A33)","v":""},{"$f":"IF('Daten Sen'!B33=\"\",\"\",'Daten Sen'!B33)","v":""},{"$f":"IF('Daten Sen'!E33=\"\",\"\",'Daten Sen'!E33)","v":""},{"$f":"IF('Daten Sen'!F33=\"\",\"\",'Daten Sen'!F33)","v":""},{"$f":"IF('Daten Sen'!G33=\"\",\"\",'Daten Sen'!G33)","v":""},{"$f":"IF('Daten Sen'!H33=\"\",\"\",'Daten Sen'!H33)","v":""},{"$f":"IF('Daten Sen'!I33=\"\",\"\",'Daten Sen'!I33)","v":""},"","","","","","","","","","","",0,"",null,null,null,null,null,null,null,null,null,null,null,null,null,null,null,null,null,null,null,null,null,null,null,null,null,null,null,null,null,null,null,null,0,0,0,0,0,0,0,0,0,0,0]
[{"$f":"IF('Daten Sen'!A34=\"\",\"\",'Daten Sen'!A34)","v":""},{"$f":"IF('Daten Sen'!B34=\"\",\"\",'Daten Sen'!B34)","v":""},{"$f":"IF('Daten Sen'!E34=\"\",\"\",'Daten Sen'!E34)","v":""},{"$f":"IF('Daten Sen'!F34=\"\",\"\",'Daten Sen'!F34)","v":""},{"$f":"IF('Daten Sen'!G34=\"\",\"\",'Daten Sen'!G34)","v":""},{"$f":"IF('Daten Sen'!H34=\"\",\"\",'Daten Sen'!H34)","v":""},{"$f":"IF('Daten Sen'!I34=\"\",\"\",'Daten Sen'!I34)","v":""},"","","","","","","","","","","",0,"",null,null,null,null,null,null,null,null,null,null,null,null,null,null,null,null,null,null,null,null,null,null,null,null,null,null,null,null,null,null,null,null,0,0,0,0,0,0,0,0,0,0,0]
[{"$f":"IF('Daten Sen'!A35=\"\",\"\",'Daten Sen'!A35)","v":""},{"$f":"IF('Daten Sen'!B35=\"\",\"\",'Daten Sen'!B35)","v":""},{"$f":"IF('Daten Sen'!E35=\"\",\"\",'Daten Sen'!E35)","v":""},{"$f":"IF('Daten Sen'!F35=\"\",\"\",'Daten Sen'!F35)","v":""},{"$f":"IF('Daten Sen'!G35=\"\",\"\",'Daten Sen'!G35)","v":""},{"$f":"IF('Daten Sen'!H35=\"\",\"\",'Daten Sen'!H35)","v":""},{"$f":"IF('Daten Sen'!I35=\"\",\"\",'Daten Sen'!I35)","v":""},"","","","","","","","","","","",0,"",null,null,null,null,null,null,null,null,null,null,null,null,null,null,null,null,null,null,null,null,null,null,null,null,null,null,null,null,null,null,null,null,0,0,0,0,0,0,0,0,0,0,0]
[]
[]
[{"$f":"'Übersicht Übungen'!H20","v":256},{"$f":"'Übersicht Übungen'!I20","v":320},"Punkte","Punkte"]
[{"$f":"'Übersicht Übungen'!H21","v":224},{"$f":"'Übersicht Übungen'!I21","v":255.5},0,0]
[{"$f":"'Übersicht Übungen'!H22","v":192},{"$f":"'Übersicht Übungen'!I22","v":223.5},5,5]
[{"$f":"'Übersicht Übungen'!H23","v":0},{"$f":"'Übersicht Übungen'!I23","v":191.5},5.25,5.5]
[null,null,5.5,6]
[null,null,5.75,6.5]
[null,null,6,7]
[null,null,6.25,7.5]
[null,null,6.5,8]
[null,null,6.75,8.5]
[null,null,7,9]
[null,null,7.25,9.5]
[null,null,7.5,10]
[null,null,7.75]
[null,null,8]
[null,null,8.25]
[null,null,8.5]
[null,null,8.75]
[null,null,9]
[null,null,9.25]
[null,null,9.5]
[null,null,9.75]
[null,null,10]

{"sheet":"TemplateRBG","index":16,"n_rows":7,"n_cols":2,"rows_kept":7,"cut":false,"hidden":true,"merged":[[0,0,1,0]]}
["XXX"]
[]
["Gruppe"]
["ID (Startnr., Los, Klasse)",{"$f":"IF(ISERROR(VLOOKUP(B$8,Stammdaten!#REF!,2,FALSE)),\"---\",VLOOKUP(B$8,Stammdaten!#REF!,2,FALSE))","v":"---"}]
[{"$f":"'Übersicht Übungen'!$A$5&\". Übung: \n\"&'Übersicht Übungen'!$E$5","v":"1. Übung: \nVerhalten gegenüber anderen Hunden"}]
[{"$f":"'Übersicht Übungen'!$A$6&\". Übung: \n\"&'Übersicht Übungen'!$E$6","v":"2. Übung: \nStehen und Betasten"}]
[{"$f":"'Übersicht Übungen'!$A$7&\". Übung: \n\"&'Übersicht Übungen'!$E$7","v":"3. Übung: \n2 Minuten Liegen mit Sichtkontakt"}]

{"sheet":"Chipkontrolle","index":17,"n_rows":3,"n_cols":16,"rows_kept":3,"cut":false,"hidden":false,"merged":[[298,5,298,6],[298,7,298,14],[298,15,298,17],[299,5,299,6],[299,7,299,14],[299,15,299,17],[295,5,295,6],[295,7,295,14],[295,15,295,17],[296,5,296,6],[296,7,296,14],[296,15,296,17],[297,5,297,6],[297,7,297,14],[297,15,297,17],[292,5,292,6],[292,7,292,14],[292,15,292,17],[293,5,293,6],[293,7,293,14],[293,15,293,17],[294,5,294,6],[294,7,294,14],[294,15,294,17],[289,5,289,6],[289,7,289,14],[289,15,289,17],[290,5,290,6],[290,7,290,14],[290,15,290,17],[291,5,291,6],[291,7,291,14],[291,15,291,17],[286,5,286,6],[286,7,286,14],[286,15,286,17],[287,5,287,6],[287,7,287,14],[287,15,287,17],[288,5,288,6],[288,7,288,14],[288,15,288,17],[283,5,283,6],[283,7,283,14],[283,15,283,17],[284,5,284,6],[284,7,284,14],[284,15,284,17],[285,5,285,6],[285,7,285,14],[285,15,285,17],[280,5,280,6],[280,7,280,14],[280,15,280,17],[281,5,281,6],[281,7,281,14],[281,15,281,17],[282,5,282,6],[282,7,282,14],[282,15,282,17],[277,5,277,6],[277,7,277,14],[277,15,277,17],[278,5,278,6],[278,7,278,14],[278,15,278,17],[279,5,279,6],[279,7,279,14],[279,15,279,17],[274,5,274,6],[274,7,274,14],[274,15,274,17],[275,5,275,6],[275,7,275,14],[275,15,275,17],[276,5,276,6],[276,7,276,14],[276,15,276,17],[271,5,271,6],[271,7,271,14],[271,15,271,17],[272,5,272,6],[272,7,272,14],[272,15,272,17],[273,5,273,6],[273,7,273,14],[273,15,273,17],[268,5,268,6],[268,7,268,14],[268,15,268,17],[269,5,269,6],[269,7,269,14],[269,15,269,17],[270,5,270,6],[270,7,270,14],[270,15,270,17],[265,5,265,6],[265,7,265,14],[265,15,265,17],[266,5,266,6],[266,7,266,14],[266,15,266,17],[267,5,267,6],[267,7,267,14],[267,15,267,17],[262,5,262,6],[262,7,262,14],[262,15,262,17],[263,5,263,6],[263,7,263,14],[263,15,263,17],[264,5,264,6],[264,7,264,14],[264,15,264,17],[259,5,259,6],[259,7,259,14],[259,15,259,17],[260,5,260,6],[260,7,260,14],[260,15,260,17],[261,5,261,6],[261,7,261,14],[261,15,261,17],[256,5,256,6],[256,7,256,14],[256,15,256,17],[257,5,257,6],[257,7,257,14],[257,15,257,17],[258,5,258,6],[258,7,258,14],[258,15,258,17],[253,5,253,6],[253,7,253,14],[253,15,253,17],[254,5,254,6],[254,7,254,14],[254,15,254,17],[255,5,255,6],[255,7,255,14],[255,15,255,17],[250,5,250,6],[250,7,250,14],[250,15,250,17],[251,5,251,6],[251,7,251,14],[251,15,251,17],[252,5,252,6],[252,7,252,14],[252,15,252,17],[247,5,247,6],[247,7,247,14],[247,15,247,17],[248,5,248,6],[248,7,248,14],[248,15,248,17],[249,5,249,6],[249,7,249,14],[249,15,249,17],[244,5,244,6],[244,7,244,14],[244,15,244,17],[245,5,245,6],[245,7,245,14],[245,15,245,17],[246,5,246,6],[246,7,246,14],[246,15,246,17],[241,5,241,6],[241,7,241,14],[241,15,241,17],[242,5,242,6],[242,7,242,14],[242,15,242,17],[243,5,243,6],[243,7,243,14],[243,15,243,17],[238,5,238,6],[238,7,238,14],[238,15,238,17],[239,5,239,6],[239,7,239,14],[239,15,239,17],[240,5,240,6],[240,7,240,14],[240,15,240,17],[235,5,235,6],[235,7,235,14],[235,15,235,17],[236,5,236,6],[236,7,236,14],[236,15,236,17],[237,5,237,6],[237,7,237,14],[237,15,237,17],[232,5,232,6],[232,7,232,14],[232,15,232,17],[233,5,233,6],[233,7,233,14],[233,15,233,17],[234,5,234,6],[234,7,234,14],[234,15,234,17],[229,5,229,6],[229,7,229,14],[229,15,229,17],[230,5,230,6],[230,7,230,14],[230,15,230,17],[231,5,231,6],[231,7,231,14],[231,15,231,17],[226,5,226,6],[226,7,226,14],[226,15,226,17],[227,5,227,6],[227,7,227,14],[227,15,227,17],[228,5,228,6],[228,7,228,14],[228,15,228,17],[223,5,223,6],[223,7,223,14],[223,15,223,17],[224,5,224,6],[224,7,224,14],[224,15,224,17],[225,5,225,6],[225,7,225,14],[225,15,225,17],[220,5,220,6],[220,7,220,14],[220,15,220,17],[221,5,221,6],[221,7,221,14],[221,15,221,17],[222,5,222,6],[222,7,222,14],[222,15,222,17],[217,5,217,6],[217,7,217,14],[217,15,217,17],[218,5,218,6],[218,7,218,14],[218,15,218,17],[219,5,219,6],[219,7,219,14],[219,15,219,17],[214,5,214,6],[214,7,214,14],[214,15,214,17],[215,5,215,6],[215,7,215,14],[215,15,215,17],[216,5,216,6],[216,7,216,14],[216,15,216,17],[211,5,211,6],[211,7,211,14],[211,15,211,17],[212,5,212,6],[212,7,212,14],[212,15,212,17],[213,5,213,6],[213,7,213,14],[213,15,213,17],[208,5,208,6],[208,7,208,14],[208,15,208,17],[209,5,209,6],[209,7,209,14],[209,15,209,17],[210,5,210,6],[210,7,210,14],[210,15,210,17],[205,5,205,6],[205,7,205,14],[205,15,205,17],[206,5,206,6],[206,7,206,14],[206,15,206,17],[207,5,207,6],[207,7,207,14],[207,15,207,17],[202,5,202,6],[202,7,202,14],[202,15,202,17],[203,5,203,6],[203,7,203,14],[203,15,203,17],[204,5,204,6],[204,7,204,14],[204,15,204,17],[199,5,199,6],[199,7,199,14],[199,15,199,17],[200,5,200,6],[200,7,200,14],[200,15,200,17],[201,5,201,6],[201,7,201,14],[201,15,201,17],[196,5,196,6],[196,7,196,14],[196,15,196,17],[197,5,197,6],[197,7,197,14],[197,15,197,17],[198,5,198,6],[198,7,198,14],[198,15,198,17],[193,5,193,6],[193,7,193,14],[193,15,193,17],[194,5,194,6],[194,7,194,14],[194,15,194,17],[195,5,195,6],[195,7,195,14],[195,15,195,17],[190,5,190,6],[190,7,190,14],[190,15,190,17],[191,5,191,6],[191,7,191,14],[191,15,191,17],[192,5,192,6],[192,7,192,14],[192,15,192,17],[187,5,187,6],[187,7,187,14],[187,15,187,17],[188,5,188,6],[188,7,188,14],[188,15,188,17],[189,5,189,6],[189,7,189,14],[189,15,189,17],[184,5,184,6],[184,7,184,14],[184,15,184,17],[185,5,185,6],[185,7,185,14],[185,15,185,17],[186,5,186,6],[186,7,186,14],[186,15,186,17],[181,5,181,6],[181,7,181,14],[181,15,181,17],[182,5,182,6],[182,7,182,14],[182,15,182,17],[183,5,183,6],[183,7,183,14],[183,15,183,17],[178,5,178,6],[178,7,178,14],[178,15,178,17],[179,5,179,6],[179,7,179,14],[179,15,179,17],[180,5,180,6],[180,7,180,14],[180,15,180,17],[175,5,175,6],[175,7,175,14],[175,15,175,17],[176,5,176,6],[176,7,176,14],[176,15,176,17],[177,5,177,6],[177,7,177,14],[177,15,177,17],[172,5,172,6],[172,7,172,14],[172,15,172,17],[173,5,173,6],[173,7,173,14],[173,15,173,17],[174,5,174,6],[174,7,174,14],[174,15,174,17],[169,5,169,6],[169,7,169,14],[169,15,169,17],[170,5,170,6],[170,7,170,14],[170,15,170,17],[171,5,171,6],[171,7,171,14],[171,15,171,17],[166,5,166,6],[166,7,166,14],[166,15,166,17],[167,5,167,6],[167,7,167,14],[167,15,167,17],[168,5,168,6],[168,7,168,14],[168,15,168,17],[163,5,163,6],[163,7,163,14],[163,15,163,17],[164,5,164,6],[164,7,164,14],[164,15,164,17],[165,5,165,6],[165,7,165,14],[165,15,165,17],[160,5,160,6],[160,7,160,14],[160,15,160,17],[161,5,161,6],[161,7,161,14],[161,15,161,17],[162,5,162,6],[162,7,162,14],[162,15,162,17],[157,5,157,6],[157,7,157,14],[157,15,157,17],[158,5,158,6],[158,7,158,14],[158,15,158,17],[159,5,159,6],[159,7,159,14],[159,15,159,17],[154,5,154,6],[154,7,154,14],[154,15,154,17],[155,5,155,6],[155,7,155,14],[155,15,155,17],[156,5,156,6],[156,7,156,14],[156,15,156,17],[151,5,151,6],[151,7,151,14],[151,15,151,17],[152,5,152,6],[152,7,152,14],[152,15,152,17],[153,5,153,6],[153,7,153,14],[153,15,153,17],[148,5,148,6],[148,7,148,14],[148,15,148,17],[149,5,149,6],[149,7,149,14],[149,15,149,17],[150,5,150,6],[150,7,150,14],[150,15,150,17],[145,5,145,6],[145,7,145,14],[145,15,145,17],[146,5,146,6],[146,7,146,14],[146,15,146,17],[147,5,147,6],[147,7,147,14],[147,15,147,17],[142,5,142,6],[142,7,142,14],[142,15,142,17],[143,5,143,6],[143,7,143,14],[143,15,143,17],[144,5,144,6],[144,7,144,14],[144,15,144,17],[139,5,139,6],[139,7,139,14],[139,15,139,17],[140,5,140,6],[140,7,140,14],[140,15,140,17],[141,5,141,6],[141,7,141,14],[141,15,141,17],[136,5,136,6],[136,7,136,14],[136,15,136,17],[137,5,137,6],[137,7,137,14],[137,15,137,17],[138,5,138,6],[138,7,138,14],[138,15,138,17],[133,5,133,6],[133,7,133,14],[133,15,133,17],[134,5,134,6],[134,7,134,14],[134,15,134,17],[135,5,135,6],[135,7,135,14],[135,15,135,17],[130,5,130,6],[130,7,130,14],[130,15,130,17],[131,5,131,6],[131,7,131,14],[131,15,131,17],[132,5,132,6],[132,7,132,14],[132,15,132,17],[127,5,127,6],[127,7,127,14],[127,15,127,17],[128,5,128,6],[128,7,128,14],[128,15,128,17],[129,5,129,6],[129,7,129,14],[129,15,129,17],[124,5,124,6],[124,7,124,14],[124,15,124,17],[125,5,125,6],[125,7,125,14],[125,15,125,17],[126,5,126,6],[126,7,126,14],[126,15,126,17],[121,5,121,6],[121,7,121,14],[121,15,121,17],[122,5,122,6],[122,7,122,14],[122,15,122,17],[123,5,123,6],[123,7,123,14],[123,15,123,17],[118,5,118,6],[118,7,118,14],[118,15,118,17],[119,5,119,6],[119,7,119,14],[119,15,119,17],[120,5,120,6],[120,7,120,14],[120,15,120,17],[115,5,115,6],[115,7,115,14],[115,15,115,17],[116,5,116,6],[116,7,116,14],[116,15,116,17],[117,5,117,6],[117,7,117,14],[117,15,117,17],[112,5,112,6],[112,7,112,14],[112,15,112,17],[113,5,113,6],[113,7,113,14],[113,15,113,17],[114,5,114,6],[114,7,114,14],[114,15,114,17],[109,5,109,6],[109,7,109,14],[109,15,109,17],[110,5,110,6],[110,7,110,14],[110,15,110,17],[111,5,111,6],[111,7,111,14],[111,15,111,17],[106,5,106,6],[106,7,106,14],[106,15,106,17],[107,5,107,6],[107,7,107,14],[107,15,107,17],[108,5,108,6],[108,7,108,14],[108,15,108,17],[103,5,103,6],[103,7,103,14],[103,15,103,17],[104,5,104,6],[104,7,104,14],[104,15,104,17],[105,5,105,6],[105,7,105,14],[105,15,105,17],[100,5,100,6],[100,7,100,14],[100,15,100,17],[101,5,101,6],[101,7,101,14],[101,15,101,17],[102,5,102,6],[102,7,102,14],[102,15,102,17],[97,5,97,6],[97,7,97,14],[97,15,97,17],[98,5,98,6],[98,7,98,14],[98,15,98,17],[99,5,99,6],[99,7,99,14],[99,15,99,17],[3,5,3,6],[3,7,3,14],[3,15,3,17],[4,5,4,6],[4,7,4,14],[4,15,4,17],[0,1,0,9],[0,11,0,17],[1,0,1,3],[1,15,1,17],[2,5,2,6],[2,7,2,14],[2,15,2,17],[1,4,1,13],[7,5,7,6],[7,7,7,14],[7,15,7,17],[8,5,8,6],[8,7,8,14],[8,15,8,17],[5,5,5,6],[5,7,5,14],[5,15,5,17],[6,5,6,6],[6,7,6,14],[6,15,6,17],[11,5,11,6],[11,7,11,14],[11,15,11,17],[12,5,12,6],[12,7,12,14],[12,15,12,17],[9,5,9,6],[9,7,9,14],[9,15,9,17],[10,5,10,6],[10,7,10,14],[10,15,10,17],[15,5,15,6],[15,7,15,14],[15,15,15,17],[16,5,16,6],[16,7,16,14],[16,15,16,17],[13,5,13,6],[13,7,13,14],[13,15,13,17],[14,5,14,6],[14,7,14,14],[14,15,14,17],[19,5,19,6],[19,7,19,14],[19,15,19,17],[20,5,20,6],[20,7,20,14],[20,15,20,17],[17,5,17,6],[17,7,17,14],[17,15,17,17],[18,5,18,6],[18,7,18,14],[18,15,18,17],[23,5,23,6],[23,7,23,14],[23,15,23,17],[24,5,24,6],[24,7,24,14],[24,15,24,17],[21,5,21,6],[21,7,21,14],[21,15,21,17],[22,5,22,6],[22,7,22,14],[22,15,22,17],[27,5,27,6],[27,7,27,14],[27,15,27,17],[28,5,28,6],[28,7,28,14],[28,15,28,17],[25,5,25,6],[25,7,25,14],[25,15,25,17],[26,5,26,6],[26,7,26,14],[26,15,26,17],[31,5,31,6],[31,7,31,14],[31,15,31,17],[32,5,32,6],[32,7,32,14],[32,15,32,17],[29,5,29,6],[29,7,29,14],[29,15,29,17],[30,5,30,6],[30,7,30,14],[30,15,30,17],[35,5,35,6],[35,7,35,14],[35,15,35,17],[36,5,36,6],[36,7,36,14],[36,15,36,17],[33,5,33,6],[33,7,33,14],[33,15,33,17],[34,5,34,6],[34,7,34,14],[34,15,34,17],[39,5,39,6],[39,7,39,14],[39,15,39,17],[40,5,40,6],[40,7,40,14],[40,15,40,17],[37,5,37,6],[37,7,37,14],[37,15,37,17],[38,5,38,6],[38,7,38,14],[38,15,38,17],[43,5,43,6],[43,7,43,14],[43,15,43,17],[44,5,44,6],[44,7,44,14],[44,15,44,17],[41,5,41,6],[41,7,41,14],[41,15,41,17],[42,5,42,6],[42,7,42,14],[42,15,42,17],[47,5,47,6],[47,7,47,14],[47,15,47,17],[48,5,48,6],[48,7,48,14],[48,15,48,17],[45,5,45,6],[45,7,45,14],[45,15,45,17],[46,5,46,6],[46,7,46,14],[46,15,46,17],[51,5,51,6],[51,7,51,14],[51,15,51,17],[52,5,52,6],[52,7,52,14],[52,15,52,17],[49,5,49,6],[49,7,49,14],[49,15,49,17],[50,5,50,6],[50,7,50,14],[50,15,50,17],[55,5,55,6],[55,7,55,14],[55,15,55,17],[56,5,56,6],[56,7,56,14],[56,15,56,17],[53,5,53,6],[53,7,53,14],[53,15,53,17],[54,5,54,6],[54,7,54,14],[54,15,54,17],[59,5,59,6],[59,7,59,14],[59,15,59,17],[60,5,60,6],[60,7,60,14],[60,15,60,17],[57,5,57,6],[57,7,57,14],[57,15,57,17],[58,5,58,6],[58,7,58,14],[58,15,58,17],[63,5,63,6],[63,7,63,14],[63,15,63,17],[64,5,64,6],[64,7,64,14],[64,15,64,17],[61,5,61,6],[61,7,61,14],[61,15,61,17],[62,5,62,6],[62,7,62,14],[62,15,62,17],[67,5,67,6],[67,7,67,14],[67,15,67,17],[68,5,68,6],[68,7,68,14],[68,15,68,17],[65,5,65,6],[65,7,65,14],[65,15,65,17],[66,5,66,6],[66,7,66,14],[66,15,66,17],[71,5,71,6],[71,7,71,14],[71,15,71,17],[72,5,72,6],[72,7,72,14],[72,15,72,17],[69,5,69,6],[69,7,69,14],[69,15,69,17],[70,5,70,6],[70,7,70,14],[70,15,70,17],[75,5,75,6],[75,7,75,14],[75,15,75,17],[76,5,76,6],[76,7,76,14],[76,15,76,17],[73,5,73,6],[73,7,73,14],[73,15,73,17],[74,5,74,6],[74,7,74,14],[74,15,74,17],[79,5,79,6],[79,7,79,14],[79,15,79,17],[80,5,80,6],[80,7,80,14],[80,15,80,17],[77,5,77,6],[77,7,77,14],[77,15,77,17],[78,5,78,6],[78,7,78,14],[78,15,78,17],[83,5,83,6],[83,7,83,14],[83,15,83,17],[84,5,84,6],[84,7,84,14],[84,15,84,17],[81,5,81,6],[81,7,81,14],[81,15,81,17],[82,5,82,6],[82,7,82,14],[82,15,82,17],[87,5,87,6],[87,7,87,14],[87,15,87,17],[88,5,88,6],[88,7,88,14],[88,15,88,17],[85,5,85,6],[85,7,85,14],[85,15,85,17],[86,5,86,6],[86,7,86,14],[86,15,86,17],[91,5,91,6],[91,7,91,14],[91,15,91,17],[92,5,92,6],[92,7,92,14],[92,15,92,17],[89,5,89,6],[89,7,89,14],[89,15,89,17],[90,5,90,6],[90,7,90,14],[90,15,90,17],[95,5,95,6],[95,7,95,14],[95,15,95,17],[96,5,96,6],[96,7,96,14],[96,15,96,17],[93,5,93,6],[93,7,93,14],[93,15,93,17],[94,5,94,6],[94,7,94,14],[94,15,94,17]]}
[null,{"$f":"\"Obedience: \"&Stammdaten!C5&\"    \"","v":"Obedience: z.B. Vereinsprf.    "},null,null,null,null,null,null,null,null,null,"Chip-Kontrolle"]
[{"$f":"\"Veranstalter: \"&Stammdaten!C4","v":"Veranstalter: "},null,null,null,{"$f":"\"LR: \"&Stammdaten!H3","v":"LR: "},null,null,null,null,null,null,null,null,null,"am:",{"$f":"Stammdaten!C6","v":"00:00:00"}]
["Klasse Beginner\nStart / Los / Klasse","Hundeführer/-in","Verband","Hund","SH","Tätowierung",null,"Chipnummer",null,null,null,null,null,null,null,"Geprüft"]

{"sheet":"Gesamtergebnisliste","index":18,"n_rows":202,"n_cols":18,"rows_kept":202,"cut":false,"hidden":false,"merged":[[0,11,0,17],[1,0,1,3],[1,15,1,17],[0,1,0,9],[1,4,1,13]]}
[null,{"$f":"\"Obedience: \"&Stammdaten!C5&\"    \"","v":"Obedience: z.B. Vereinsprf.    "},null,null,null,null,null,null,null,null,null,"Gesamtergebnisliste"]
[{"$f":"\"Veranstalter: \"&Stammdaten!C4","v":"Veranstalter: "},null,null,null,{"$f":"\"LR: \"&Stammdaten!H3","v":"LR: "},null,null,null,null,null,null,null,null,null,"am:",{"$f":"Stammdaten!C6","v":"00:00:00"}]
["Start / Los / Klasse","Hundeführer/-in","Verein","Hund",{"$f":"IF('Liste Beginner'!H$4=0,\"\",'Liste Beginner'!H$4)","v":1},{"$f":"IF('Liste Beginner'!I$4=0,\"\",'Liste Beginner'!I$4)","v":2},{"$f":"IF('Liste Beginner'!J$4=0,\"\",'Liste Beginner'!J$4)","v":3},{"$f":"IF('Liste Beginner'!K$4=0,\"\",'Liste Beginner'!K$4)","v":4},{"$f":"IF('Liste Beginner'!L$4=0,\"\",'Liste Beginner'!L$4)","v":5},{"$f":"IF('Liste Beginner'!M$4=0,\"\",'Liste Beginner'!M$4)","v":6},{"$f":"IF('Liste Beginner'!N$4=0,\"\",'Liste Beginner'!N$4)","v":7},{"$f":"IF('Liste Beginner'!O$4=0,\"\",'Liste Beginner'!O$4)","v":8},{"$f":"IF('Liste Beginner'!P$4=0,\"\",'Liste Beginner'!P$4)","v":9},{"$f":"IF('Liste Beginner'!Q$4=0,\"\",'Liste Beginner'!Q$4)","v":10},{"$f":"IF('Liste Beginner'!R$4=0,\"\",'Liste Beginner'!R$4)","v":11},"Gesamt","WN","Platz"]
[{"$f":"IF('Liste Beginner'!A8=\"\",\"\",'Liste Beginner'!A8&\" / \"&'Liste Beginner'!B8&\" / Beginner\")","v":""},{"$f":"IF('Liste Beginner'!C8=\"\",\"\",'Liste Beginner'!C8)","v":""},{"$f":"IF('Liste Beginner'!D8=\"\",\"\",'Liste Beginner'!D8&CHAR(10)&'Liste Beginner'!E8)","v":""},{"$f":"IF('Liste Beginner'!F8=\"\",\"\",'Liste Beginner'!F8&CHAR(10)&'Liste Beginner'!G8)","v":""},{"$f":"IF('Liste Beginner'!H8=\"\",\"\",'Liste Beginner'!H8)","v":""},{"$f":"IF('Liste Beginner'!I8=\"\",\"\",'Liste Beginner'!I8)","v":""},{"$f":"IF('Liste Beginner'!J8=\"\",\"\",'Liste Beginner'!J8)","v":""},{"$f":"IF('Liste Beginner'!K8=\"\",\"\",'Liste Beginner'!K8)","v":""},{"$f":"IF('Liste Beginner'!L8=\"\",\"\",'Liste Beginner'!L8)","v":""},{"$f":"IF('Liste Beginner'!M8=\"\",\"\",'Liste Beginner'!M8)","v":""},{"$f":"IF('Liste Beginner'!N8=\"\",\"\",'Liste Beginner'!N8)","v":""},{"$f":"IF('Liste Beginner'!O8=\"\",\"\",'Liste Beginner'!O8)","v":""},{"$f":"IF('Liste Beginner'!P8=\"\",\"\",'Liste Beginner'!P8)","v":""},{"$f":"IF('Liste Beginner'!Q8=\"\",\"\",'Liste Beginner'!Q8)","v":""},{"$f":"IF('Liste Beginner'!R8=\"\",\"\",'Liste Beginner'!R8)","v":""},{"$f":"'Liste Beginner'!S8","v":0},{"$f":"'Liste Beginner'!T8","v":""},{"$f":"'Liste Beginner'!U8","v":0}]
[{"$f":"IF('Liste Beginner'!A9=\"\",\"\",'Liste Beginner'!A9&\" / \"&'Liste Beginner'!B9&\" / Beginner\")","v":""},{"$f":"IF('Liste Beginner'!C9=\"\",\"\",'Liste Beginner'!C9)","v":""},{"$f":"IF('Liste Beginner'!D9=\"\",\"\",'Liste Beginner'!D9&CHAR(10)&'Liste Beginner'!E9)","v":""},{"$f":"IF('Liste Beginner'!F9=\"\",\"\",'Liste Beginner'!F9&CHAR(10)&'Liste Beginner'!G9)","v":""},{"$f":"IF('Liste Beginner'!H9=\"\",\"\",'Liste Beginner'!H9)","v":""},{"$f":"IF('Liste Beginner'!I9=\"\",\"\",'Liste Beginner'!I9)","v":""},{"$f":"IF('Liste Beginner'!J9=\"\",\"\",'Liste Beginner'!J9)","v":""},{"$f":"IF('Liste Beginner'!K9=\"\",\"\",'Liste Beginner'!K9)","v":""},{"$f":"IF('Liste Beginner'!L9=\"\",\"\",'Liste Beginner'!L9)","v":""},{"$f":"IF('Liste Beginner'!M9=\"\",\"\",'Liste Beginner'!M9)","v":""},{"$f":"IF('Liste Beginner'!N9=\"\",\"\",'Liste Beginner'!N9)","v":""},{"$f":"IF('Liste Beginner'!O9=\"\",\"\",'Liste Beginner'!O9)","v":""},{"$f":"IF('Liste Beginner'!P9=\"\",\"\",'Liste Beginner'!P9)","v":""},{"$f":"IF('Liste Beginner'!Q9=\"\",\"\",'Liste Beginner'!Q9)","v":""},{"$f":"IF('Liste Beginner'!R9=\"\",\"\",'Liste Beginner'!R9)","v":""},{"$f":"'Liste Beginner'!S9","v":0},{"$f":"'Liste Beginner'!T9","v":""},{"$f":"'Liste Beginner'!U9","v":0}]
[{"$f":"IF('Liste Beginner'!A10=\"\",\"\",'Liste Beginner'!A10&\" / \"&'Liste Beginner'!B10&\" / Beginner\")","v":""},{"$f":"IF('Liste Beginner'!C10=\"\",\"\",'Liste Beginner'!C10)","v":""},{"$f":"IF('Liste Beginner'!D10=\"\",\"\",'Liste Beginner'!D10&CHAR(10)&'Liste Beginner'!E10)","v":""},{"$f":"IF('Liste Beginner'!F10=\"\",\"\",'Liste Beginner'!F10&CHAR(10)&'Liste Beginner'!G10)","v":""},{"$f":"IF('Liste Beginner'!H10=\"\",\"\",'Liste Beginner'!H10)","v":""},{"$f":"IF('Liste Beginner'!I10=\"\",\"\",'Liste Beginner'!I10)","v":""},{"$f":"IF('Liste Beginner'!J10=\"\",\"\",'Liste Beginner'!J10)","v":""},{"$f":"IF('Liste Beginner'!K10=\"\",\"\",'Liste Beginner'!K10)","v":""},{"$f":"IF('Liste Beginner'!L10=\"\",\"\",'Liste Beginner'!L10)","v":""},{"$f":"IF('Liste Beginner'!M10=\"\",\"\",'Liste Beginner'!M10)","v":""},{"$f":"IF('Liste Beginner'!N10=\"\",\"\",'Liste Beginner'!N10)","v":""},{"$f":"IF('Liste Beginner'!O10=\"\",\"\",'Liste Beginner'!O10)","v":""},{"$f":"IF('Liste Beginner'!P10=\"\",\"\",'Liste Beginner'!P10)","v":""},{"$f":"IF('Liste Beginner'!Q10=\"\",\"\",'Liste Beginner'!Q10)","v":""},{"$f":"IF('Liste Beginner'!R10=\"\",\"\",'Liste Beginner'!R10)","v":""},{"$f":"'Liste Beginner'!S10","v":0},{"$f":"'Liste Beginner'!T10","v":""},{"$f":"'Liste Beginner'!U10","v":0}]
[{"$f":"IF('Liste Beginner'!A11=\"\",\"\",'Liste Beginner'!A11&\" / \"&'Liste Beginner'!B11&\" / Beginner\")","v":""},{"$f":"IF('Liste Beginner'!C11=\"\",\"\",'Liste Beginner'!C11)","v":""},{"$f":"IF('Liste Beginner'!D11=\"\",\"\",'Liste Beginner'!D11&CHAR(10)&'Liste Beginner'!E11)","v":""},{"$f":"IF('Liste Beginner'!F11=\"\",\"\",'Liste Beginner'!F11&CHAR(10)&'Liste Beginner'!G11)","v":""},{"$f":"IF('Liste Beginner'!H11=\"\",\"\",'Liste Beginner'!H11)","v":""},{"$f":"IF('Liste Beginner'!I11=\"\",\"\",'Liste Beginner'!I11)","v":""},{"$f":"IF('Liste Beginner'!J11=\"\",\"\",'Liste Beginner'!J11)","v":""},{"$f":"IF('Liste Beginner'!K11=\"\",\"\",'Liste Beginner'!K11)","v":""},{"$f":"IF('Liste Beginner'!L11=\"\",\"\",'Liste Beginner'!L11)","v":""},{"$f":"IF('Liste Beginner'!M11=\"\",\"\",'Liste Beginner'!M11)","v":""},{"$f":"IF('Liste Beginner'!N11=\"\",\"\",'Liste Beginner'!N11)","v":""},{"$f":"IF('Liste Beginner'!O11=\"\",\"\",'Liste Beginner'!O11)","v":""},{"$f":"IF('Liste Beginner'!P11=\"\",\"\",'Liste Beginner'!P11)","v":""},{"$f":"IF('Liste Beginner'!Q11=\"\",\"\",'Liste Beginner'!Q11)","v":""},{"$f":"IF('Liste Beginner'!R11=\"\",\"\",'Liste Beginner'!R11)","v":""},{"$f":"'Liste Beginner'!S11","v":0},{"$f":"'Liste Beginner'!T11","v":""},{"$f":"'Liste Beginner'!U11","v":0}]
[{"$f":"IF('Liste Beginner'!A12=\"\",\"\",'Liste Beginner'!A12&\" / \"&'Liste Beginner'!B12&\" / Beginner\")","v":""},{"$f":"IF('Liste Beginner'!C12=\"\",\"\",'Liste Beginner'!C12)","v":""},{"$f":"IF('Liste Beginner'!D12=\"\",\"\",'Liste Beginner'!D12&CHAR(10)&'Liste Beginner'!E12)","v":""},{"$f":"IF('Liste Beginner'!F12=\"\",\"\",'Liste Beginner'!F12&CHAR(10)&'Liste Beginner'!G12)","v":""},{"$f":"IF('Liste Beginner'!H12=\"\",\"\",'Liste Beginner'!H12)","v":""},{"$f":"IF('Liste Beginner'!I12=\"\",\"\",'Liste Beginner'!I12)","v":""},{"$f":"IF('Liste Beginner'!J12=\"\",\"\",'Liste Beginner'!J12)","v":""},{"$f":"IF('Liste Beginner'!K12=\"\",\"\",'Liste Beginner'!K12)","v":""},{"$f":"IF('Liste Beginner'!L12=\"\",\"\",'Liste Beginner'!L12)","v":""},{"$f":"IF('Liste Beginner'!M12=\"\",\"\",'Liste Beginner'!M12)","v":""},{"$f":"IF('Liste Beginner'!N12=\"\",\"\",'Liste Beginner'!N12)","v":""},{"$f":"IF('Liste Beginner'!O12=\"\",\"\",'Liste Beginner'!O12)","v":""},{"$f":"IF('Liste Beginner'!P12=\"\",\"\",'Liste Beginner'!P12)","v":""},{"$f":"IF('Liste Beginner'!Q12=\"\",\"\",'Liste Beginner'!Q12)","v":""},{"$f":"IF('Liste Beginner'!R12=\"\",\"\",'Liste Beginner'!R12)","v":""},{"$f":"'Liste Beginner'!S12","v":0},{"$f":"'Liste Beginner'!T12","v":""},{"$f":"'Liste Beginner'!U12","v":0}]
[{"$f":"IF('Liste Beginner'!A13=\"\",\"\",'Liste Beginner'!A13&\" / \"&'Liste Beginner'!B13&\" / Beginner\")","v":""},{"$f":"IF('Liste Beginner'!C13=\"\",\"\",'Liste Beginner'!C13)","v":""},{"$f":"IF('Liste Beginner'!D13=\"\",\"\",'Liste Beginner'!D13&CHAR(10)&'Liste Beginner'!E13)","v":""},{"$f":"IF('Liste Beginner'!F13=\"\",\"\",'Liste Beginner'!F13&CHAR(10)&'Liste Beginner'!G13)","v":""},{"$f":"IF('Liste Beginner'!H13=\"\",\"\",'Liste Beginner'!H13)","v":""},{"$f":"IF('Liste Beginner'!I13=\"\",\"\",'Liste Beginner'!I13)","v":""},{"$f":"IF('Liste Beginner'!J13=\"\",\"\",'Liste Beginner'!J13)","v":""},{"$f":"IF('Liste Beginner'!K13=\"\",\"\",'Liste Beginner'!K13)","v":""},{"$f":"IF('Liste Beginner'!L13=\"\",\"\",'Liste Beginner'!L13)","v":""},{"$f":"IF('Liste Beginner'!M13=\"\",\"\",'Liste Beginner'!M13)","v":""},{"$f":"IF('Liste Beginner'!N13=\"\",\"\",'Liste Beginner'!N13)","v":""},{"$f":"IF('Liste Beginner'!O13=\"\",\"\",'Liste Beginner'!O13)","v":""},{"$f":"IF('Liste Beginner'!P13=\"\",\"\",'Liste Beginner'!P13)","v":""},{"$f":"IF('Liste Beginner'!Q13=\"\",\"\",'Liste Beginner'!Q13)","v":""},{"$f":"IF('Liste Beginner'!R13=\"\",\"\",'Liste Beginner'!R13)","v":""},{"$f":"'Liste Beginner'!S13","v":0},{"$f":"'Liste Beginner'!T13","v":""},{"$f":"'Liste Beginner'!U13","v":0}]
[{"$f":"IF('Liste Beginner'!A14=\"\",\"\",'Liste Beginner'!A14&\" / \"&'Liste Beginner'!B14&\" / Beginner\")","v":""},{"$f":"IF('Liste Beginner'!C14=\"\",\"\",'Liste Beginner'!C14)","v":""},{"$f":"IF('Liste Beginner'!D14=\"\",\"\",'Liste Beginner'!D14&CHAR(10)&'Liste Beginner'!E14)","v":""},{"$f":"IF('Liste Beginner'!F14=\"\",\"\",'Liste Beginner'!F14&CHAR(10)&'Liste Beginner'!G14)","v":""},{"$f":"IF('Liste Beginner'!H14=\"\",\"\",'Liste Beginner'!H14)","v":""},{"$f":"IF('Liste Beginner'!I14=\"\",\"\",'Liste Beginner'!I14)","v":""},{"$f":"IF('Liste Beginner'!J14=\"\",\"\",'Liste Beginner'!J14)","v":""},{"$f":"IF('Liste Beginner'!K14=\"\",\"\",'Liste Beginner'!K14)","v":""},{"$f":"IF('Liste Beginner'!L14=\"\",\"\",'Liste Beginner'!L14)","v":""},{"$f":"IF('Liste Beginner'!M14=\"\",\"\",'Liste Beginner'!M14)","v":""},{"$f":"IF('Liste Beginner'!N14=\"\",\"\",'Liste Beginner'!N14)","v":""},{"$f":"IF('Liste Beginner'!O14=\"\",\"\",'Liste Beginner'!O14)","v":""},{"$f":"IF('Liste Beginner'!P14=\"\",\"\",'Liste Beginner'!P14)","v":""},{"$f":"IF('Liste Beginner'!Q14=\"\",\"\",'Liste Beginner'!Q14)","v":""},{"$f":"IF('Liste Beginner'!R14=\"\",\"\",'Liste Beginner'!R14)","v":""},{"$f":"'Liste Beginner'!S14","v":0},{"$f":"'Liste Beginner'!T14","v":""},{"$f":"'Liste Beginner'!U14","v":0}]
[{"$f":"IF('Liste Beginner'!A15=\"\",\"\",'Liste Beginner'!A15&\" / \"&'Liste Beginner'!B15&\" / Beginner\")","v":""},{"$f":"IF('Liste Beginner'!C15=\"\",\"\",'Liste Beginner'!C15)","v":""},{"$f":"IF('Liste Beginner'!D15=\"\",\"\",'Liste Beginner'!D15&CHAR(10)&'Liste Beginner'!E15)","v":""},{"$f":"IF('Liste Beginner'!F15=\"\",\"\",'Liste Beginner'!F15&CHAR(10)&'Liste Beginner'!G15)","v":""},{"$f":"IF('Liste Beginner'!H15=\"\",\"\",'Liste Beginner'!H15)","v":""},{"$f":"IF('Liste Beginner'!I15=\"\",\"\",'Liste Beginner'!I15)","v":""},{"$f":"IF('Liste Beginner'!J15=\"\",\"\",'Liste Beginner'!J15)","v":""},{"$f":"IF('Liste Beginner'!K15=\"\",\"\",'Liste Beginner'!K15)","v":""},{"$f":"IF('Liste Beginner'!L15=\"\",\"\",'Liste Beginner'!L15)","v":""},{"$f":"IF('Liste Beginner'!M15=\"\",\"\",'Liste Beginner'!M15)","v":""},{"$f":"IF('Liste Beginner'!N15=\"\",\"\",'Liste Beginner'!N15)","v":""},{"$f":"IF('Liste Beginner'!O15=\"\",\"\",'Liste Beginner'!O15)","v":""},{"$f":"IF('Liste Beginner'!P15=\"\",\"\",'Liste Beginner'!P15)","v":""},{"$f":"IF('Liste Beginner'!Q15=\"\",\"\",'Liste Beginner'!Q15)","v":""},{"$f":"IF('Liste Beginner'!R15=\"\",\"\",'Liste Beginner'!R15)","v":""},{"$f":"'Liste Beginner'!S15","v":0},{"$f":"'Liste Beginner'!T15","v":""},{"$f":"'Liste Beginner'!U15","v":0}]
[{"$f":"IF('Liste Beginner'!A16=\"\",\"\",'Liste Beginner'!A16&\" / \"&'Liste Beginner'!B16&\" / Beginner\")","v":""},{"$f":"IF('Liste Beginner'!C16=\"\",\"\",'Liste Beginner'!C16)","v":""},{"$f":"IF('Liste Beginner'!D16=\"\",\"\",'Liste Beginner'!D16&CHAR(10)&'Liste Beginner'!E16)","v":""},{"$f":"IF('Liste Beginner'!F16=\"\",\"\",'Liste Beginner'!F16&CHAR(10)&'Liste Beginner'!G16)","v":""},{"$f":"IF('Liste Beginner'!H16=\"\",\"\",'Liste Beginner'!H16)","v":""},{"$f":"IF('Liste Beginner'!I16=\"\",\"\",'Liste Beginner'!I16)","v":""},{"$f":"IF('Liste Beginner'!J16=\"\",\"\",'Liste Beginner'!J16)","v":""},{"$f":"IF('Liste Beginner'!K16=\"\",\"\",'Liste Beginner'!K16)","v":""},{"$f":"IF('Liste Beginner'!L16=\"\",\"\",'Liste Beginner'!L16)","v":""},{"$f":"IF('Liste Beginner'!M16=\"\",\"\",'Liste Beginner'!M16)","v":""},{"$f":"IF('Liste Beginner'!N16=\"\",\"\",'Liste Beginner'!N16)","v":""},{"$f":"IF('Liste Beginner'!O16=\"\",\"\",'Liste Beginner'!O16)","v":""},{"$f":"IF('Liste Beginner'!P16=\"\",\"\",'Liste Beginner'!P16)","v":""},{"$f":"IF('Liste Beginner'!Q16=\"\",\"\",'Liste Beginner'!Q16)","v":""},{"$f":"IF('Liste Beginner'!R16=\"\",\"\",'Liste Beginner'!R16)","v":""},{"$f":"'Liste Beginner'!S16","v":0},{"$f":"'Liste Beginner'!T16","v":""},{"$f":"'Liste Beginner'!U16","v":0}]
[{"$f":"IF('Liste Beginner'!A17=\"\",\"\",'Liste Beginner'!A17&\" / \"&'Liste Beginner'!B17&\" / Beginner\")","v":""},{"$f":"IF('Liste Beginner'!C17=\"\",\"\",'Liste Beginner'!C17)","v":""},{"$f":"IF('Liste Beginner'!D17=\"\",\"\",'Liste Beginner'!D17&CHAR(10)&'Liste Beginner'!E17)","v":""},{"$f":"IF('Liste Beginner'!F17=\"\",\"\",'Liste Beginner'!F17&CHAR(10)&'Liste Beginner'!G17)","v":""},{"$f":"IF('Liste Beginner'!H17=\"\",\"\",'Liste Beginner'!H17)","v":""},{"$f":"IF('Liste Beginner'!I17=\"\",\"\",'Liste Beginner'!I17)","v":""},{"$f":"IF('Liste Beginner'!J17=\"\",\"\",'Liste Beginner'!J17)","v":""},{"$f":"IF('Liste Beginner'!K17=\"\",\"\",'Liste Beginner'!K17)","v":""},{"$f":"IF('Liste Beginner'!L17=\"\",\"\",'Liste Beginner'!L17)","v":""},{"$f":"IF('Liste Beginner'!M17=\"\",\"\",'Liste Beginner'!M17)","v":""},{"$f":"IF('Liste Beginner'!N17=\"\",\"\",'Liste Beginner'!N17)","v":""},{"$f":"IF('Liste Beginner'!O17=\"\",\"\",'Liste Beginner'!O17)","v":""},{"$f":"IF('Liste Beginner'!P17=\"\",\"\",'Liste Beginner'!P17)","v":""},{"$f":"IF('Liste Beginner'!Q17=\"\",\"\",'Liste Beginner'!Q17)","v":""},{"$f":"IF('Liste Beginner'!R17=\"\",\"\",'Liste Beginner'!R17)","v":""},{"$f":"'Liste Beginner'!S17","v":0},{"$f":"'Liste Beginner'!T17","v":""},{"$f":"'Liste Beginner'!U17","v":0}]
[{"$f":"IF('Liste Beginner'!A18=\"\",\"\",'Liste Beginner'!A18&\" / \"&'Liste Beginner'!B18&\" / Beginner\")","v":""},{"$f":"IF('Liste Beginner'!C18=\"\",\"\",'Liste Beginner'!C18)","v":""},{"$f":"IF('Liste Beginner'!D18=\"\",\"\",'Liste Beginner'!D18&CHAR(10)&'Liste Beginner'!E18)","v":""},{"$f":"IF('Liste Beginner'!F18=\"\",\"\",'Liste Beginner'!F18&CHAR(10)&'Liste Beginner'!G18)","v":""},{"$f":"IF('Liste Beginner'!H18=\"\",\"\",'Liste Beginner'!H18)","v":""},{"$f":"IF('Liste Beginner'!I18=\"\",\"\",'Liste Beginner'!I18)","v":""},{"$f":"IF('Liste Beginner'!J18=\"\",\"\",'Liste Beginner'!J18)","v":""},{"$f":"IF('Liste Beginner'!K18=\"\",\"\",'Liste Beginner'!K18)","v":""},{"$f":"IF('Liste Beginner'!L18=\"\",\"\",'Liste Beginner'!L18)","v":""},{"$f":"IF('Liste Beginner'!M18=\"\",\"\",'Liste Beginner'!M18)","v":""},{"$f":"IF('Liste Beginner'!N18=\"\",\"\",'Liste Beginner'!N18)","v":""},{"$f":"IF('Liste Beginner'!O18=\"\",\"\",'Liste Beginner'!O18)","v":""},{"$f":"IF('Liste Beginner'!P18=\"\",\"\",'Liste Beginner'!P18)","v":""},{"$f":"IF('Liste Beginner'!Q18=\"\",\"\",'Liste Beginner'!Q18)","v":""},{"$f":"IF('Liste Beginner'!R18=\"\",\"\",'Liste Beginner'!R18)","v":""},{"$f":"'Liste Beginner'!S18","v":0},{"$f":"'Liste Beginner'!T18","v":""},{"$f":"'Liste Beginner'!U18","v":0}]
[{"$f":"IF('Liste Beginner'!A19=\"\",\"\",'Liste Beginner'!A19&\" / \"&'Liste Beginner'!B19&\" / Beginner\")","v":""},{"$f":"IF('Liste Beginner'!C19=\"\",\"\",'Liste Beginner'!C19)","v":""},{"$f":"IF('Liste Beginner'!D19=\"\",\"\",'Liste Beginner'!D19&CHAR(10)&'Liste Beginner'!E19)","v":""},{"$f":"IF('Liste Beginner'!F19=\"\",\"\",'Liste Beginner'!F19&CHAR(10)&'Liste Beginner'!G19)","v":""},{"$f":"IF('Liste Beginner'!H19=\"\",\"\",'Liste Beginner'!H19)","v":""},{"$f":"IF('Liste Beginner'!I19=\"\",\"\",'Liste Beginner'!I19)","v":""},{"$f":"IF('Liste Beginner'!J19=\"\",\"\",'Liste Beginner'!J19)","v":""},{"$f":"IF('Liste Beginner'!K19=\"\",\"\",'Liste Beginner'!K19)","v":""},{"$f":"IF('Liste Beginner'!L19=\"\",\"\",'Liste Beginner'!L19)","v":""},{"$f":"IF('Liste Beginner'!M19=\"\",\"\",'Liste Beginner'!M19)","v":""},{"$f":"IF('Liste Beginner'!N19=\"\",\"\",'Liste Beginner'!N19)","v":""},{"$f":"IF('Liste Beginner'!O19=\"\",\"\",'Liste Beginner'!O19)","v":""},{"$f":"IF('Liste Beginner'!P19=\"\",\"\",'Liste Beginner'!P19)","v":""},{"$f":"IF('Liste Beginner'!Q19=\"\",\"\",'Liste Beginner'!Q19)","v":""},{"$f":"IF('Liste Beginner'!R19=\"\",\"\",'Liste Beginner'!R19)","v":""},{"$f":"'Liste Beginner'!S19","v":0},{"$f":"'Liste Beginner'!T19","v":""},{"$f":"'Liste Beginner'!U19","v":0}]
[{"$f":"IF('Liste Beginner'!A20=\"\",\"\",'Liste Beginner'!A20&\" / \"&'Liste Beginner'!B20&\" / Beginner\")","v":""},{"$f":"IF('Liste Beginner'!C20=\"\",\"\",'Liste Beginner'!C20)","v":""},{"$f":"IF('Liste Beginner'!D20=\"\",\"\",'Liste Beginner'!D20&CHAR(10)&'Liste Beginner'!E20)","v":""},{"$f":"IF('Liste Beginner'!F20=\"\",\"\",'Liste Beginner'!F20&CHAR(10)&'Liste Beginner'!G20)","v":""},{"$f":"IF('Liste Beginner'!H20=\"\",\"\",'Liste Beginner'!H20)","v":""},{"$f":"IF('Liste Beginner'!I20=\"\",\"\",'Liste Beginner'!I20)","v":""},{"$f":"IF('Liste Beginner'!J20=\"\",\"\",'Liste Beginner'!J20)","v":""},{"$f":"IF('Liste Beginner'!K20=\"\",\"\",'Liste Beginner'!K20)","v":""},{"$f":"IF('Liste Beginner'!L20=\"\",\"\",'Liste Beginner'!L20)","v":""},{"$f":"IF('Liste Beginner'!M20=\"\",\"\",'Liste Beginner'!M20)","v":""},{"$f":"IF('Liste Beginner'!N20=\"\",\"\",'Liste Beginner'!N20)","v":""},{"$f":"IF('Liste Beginner'!O20=\"\",\"\",'Liste Beginner'!O20)","v":""},{"$f":"IF('Liste Beginner'!P20=\"\",\"\",'Liste Beginner'!P20)","v":""},{"$f":"IF('Liste Beginner'!Q20=\"\",\"\",'Liste Beginner'!Q20)","v":""},{"$f":"IF('Liste Beginner'!R20=\"\",\"\",'Liste Beginner'!R20)","v":""},{"$f":"'Liste Beginner'!S20","v":0},{"$f":"'Liste Beginner'!T20","v":""},{"$f":"'Liste Beginner'!U20","v":0}]
[{"$f":"IF('Liste Beginner'!A21=\"\",\"\",'Liste Beginner'!A21&\" / \"&'Liste Beginner'!B21&\" / Beginner\")","v":""},{"$f":"IF('Liste Beginner'!C21=\"\",\"\",'Liste Beginner'!C21)","v":""},{"$f":"IF('Liste Beginner'!D21=\"\",\"\",'Liste Beginner'!D21&CHAR(10)&'Liste Beginner'!E21)","v":""},{"$f":"IF('Liste Beginner'!F21=\"\",\"\",'Liste Beginner'!F21&CHAR(10)&'Liste Beginner'!G21)","v":""},{"$f":"IF('Liste Beginner'!H21=\"\",\"\",'Liste Beginner'!H21)","v":""},{"$f":"IF('Liste Beginner'!I21=\"\",\"\",'Liste Beginner'!I21)","v":""},{"$f":"IF('Liste Beginner'!J21=\"\",\"\",'Liste Beginner'!J21)","v":""},{"$f":"IF('Liste Beginner'!K21=\"\",\"\",'Liste Beginner'!K21)","v":""},{"$f":"IF('Liste Beginner'!L21=\"\",\"\",'Liste Beginner'!L21)","v":""},{"$f":"IF('Liste Beginner'!M21=\"\",\"\",'Liste Beginner'!M21)","v":""},{"$f":"IF('Liste Beginner'!N21=\"\",\"\",'Liste Beginner'!N21)","v":""},{"$f":"IF('Liste Beginner'!O21=\"\",\"\",'Liste Beginner'!O21)","v":""},{"$f":"IF('Liste Beginner'!P21=\"\",\"\",'Liste Beginner'!P21)","v":""},{"$f":"IF('Liste Beginner'!Q21=\"\",\"\",'Liste Beginner'!Q21)","v":""},{"$f":"IF('Liste Beginner'!R21=\"\",\"\",'Liste Beginner'!R21)","v":""},{"$f":"'Liste Beginner'!S21","v":0},{"$f":"'Liste Beginner'!T21","v":""},{"$f":"'Liste Beginner'!U21","v":0}]
[{"$f":"IF('Liste Beginner'!A22=\"\",\"\",'Liste Beginner'!A22&\" / \"&'Liste Beginner'!B22&\" / Beginner\")","v":""},{"$f":"IF('Liste Beginner'!C22=\"\",\"\",'Liste Beginner'!C22)","v":""},{"$f":"IF('Liste Beginner'!D22=\"\",\"\",'Liste Beginner'!D22&CHAR(10)&'Liste Beginner'!E22)","v":""},{"$f":"IF('Liste Beginner'!F22=\"\",\"\",'Liste Beginner'!F22&CHAR(10)&'Liste Beginner'!G22)","v":""},{"$f":"IF('Liste Beginner'!H22=\"\",\"\",'Liste Beginner'!H22)","v":""},{"$f":"IF('Liste Beginner'!I22=\"\",\"\",'Liste Beginner'!I22)","v":""},{"$f":"IF('Liste Beginner'!J22=\"\",\"\",'Liste Beginner'!J22)","v":""},{"$f":"IF('Liste Beginner'!K22=\"\",\"\",'Liste Beginner'!K22)","v":""},{"$f":"IF('Liste Beginner'!L22=\"\",\"\",'Liste Beginner'!L22)","v":""},{"$f":"IF('Liste Beginner'!M22=\"\",\"\",'Liste Beginner'!M22)","v":""},{"$f":"IF('Liste Beginner'!N22=\"\",\"\",'Liste Beginner'!N22)","v":""},{"$f":"IF('Liste Beginner'!O22=\"\",\"\",'Liste Beginner'!O22)","v":""},{"$f":"IF('Liste Beginner'!P22=\"\",\"\",'Liste Beginner'!P22)","v":""},{"$f":"IF('Liste Beginner'!Q22=\"\",\"\",'Liste Beginner'!Q22)","v":""},{"$f":"IF('Liste Beginner'!R22=\"\",\"\",'Liste Beginner'!R22)","v":""},{"$f":"'Liste Beginner'!S22","v":0},{"$f":"'Liste Beginner'!T22","v":""},{"$f":"'Liste Beginner'!U22","v":0}]
[{"$f":"IF('Liste Beginner'!A23=\"\",\"\",'Liste Beginner'!A23&\" / \"&'Liste Beginner'!B23&\" / Beginner\")","v":""},{"$f":"IF('Liste Beginner'!C23=\"\",\"\",'Liste Beginner'!C23)","v":""},{"$f":"IF('Liste Beginner'!D23=\"\",\"\",'Liste Beginner'!D23&CHAR(10)&'Liste Beginner'!E23)","v":""},{"$f":"IF('Liste Beginner'!F23=\"\",\"\",'Liste Beginner'!F23&CHAR(10)&'Liste Beginner'!G23)","v":""},{"$f":"IF('Liste Beginner'!H23=\"\",\"\",'Liste Beginner'!H23)","v":""},{"$f":"IF('Liste Beginner'!I23=\"\",\"\",'Liste Beginner'!I23)","v":""},{"$f":"IF('Liste Beginner'!J23=\"\",\"\",'Liste Beginner'!J23)","v":""},{"$f":"IF('Liste Beginner'!K23=\"\",\"\",'Liste Beginner'!K23)","v":""},{"$f":"IF('Liste Beginner'!L23=\"\",\"\",'Liste Beginner'!L23)","v":""},{"$f":"IF('Liste Beginner'!M23=\"\",\"\",'Liste Beginner'!M23)","v":""},{"$f":"IF('Liste Beginner'!N23=\"\",\"\",'Liste Beginner'!N23)","v":""},{"$f":"IF('Liste Beginner'!O23=\"\",\"\",'Liste Beginner'!O23)","v":""},{"$f":"IF('Liste Beginner'!P23=\"\",\"\",'Liste Beginner'!P23)","v":""},{"$f":"IF('Liste Beginner'!Q23=\"\",\"\",'Liste Beginner'!Q23)","v":""},{"$f":"IF('Liste Beginner'!R23=\"\",\"\",'Liste Beginner'!R23)","v":""},{"$f":"'Liste Beginner'!S23","v":0},{"$f":"'Liste Beginner'!T23","v":""},{"$f":"'Liste Beginner'!U23","v":0}]
[{"$f":"IF('Liste Beginner'!A24=\"\",\"\",'Liste Beginner'!A24&\" / \"&'Liste Beginner'!B24&\" / Beginner\")","v":""},{"$f":"IF('Liste Beginner'!C24=\"\",\"\",'Liste Beginner'!C24)","v":""},{"$f":"IF('Liste Beginner'!D24=\"\",\"\",'Liste Beginner'!D24&CHAR(10)&'Liste Beginner'!E24)","v":""},{"$f":"IF('Liste Beginner'!F24=\"\",\"\",'Liste Beginner'!F24&CHAR(10)&'Liste Beginner'!G24)","v":""},{"$f":"IF('Liste Beginner'!H24=\"\",\"\",'Liste Beginner'!H24)","v":""},{"$f":"IF('Liste Beginner'!I24=\"\",\"\",'Liste Beginner'!I24)","v":""},{"$f":"IF('Liste Beginner'!J24=\"\",\"\",'Liste Beginner'!J24)","v":""},{"$f":"IF('Liste Beginner'!K24=\"\",\"\",'Liste Beginner'!K24)","v":""},{"$f":"IF('Liste Beginner'!L24=\"\",\"\",'Liste Beginner'!L24)","v":""},{"$f":"IF('Liste Beginner'!M24=\"\",\"\",'Liste Beginner'!M24)","v":""},{"$f":"IF('Liste Beginner'!N24=\"\",\"\",'Liste Beginner'!N24)","v":""},{"$f":"IF('Liste Beginner'!O24=\"\",\"\",'Liste Beginner'!O24)","v":""},{"$f":"IF('Liste Beginner'!P24=\"\",\"\",'Liste Beginner'!P24)","v":""},{"$f":"IF('Liste Beginner'!Q24=\"\",\"\",'Liste Beginner'!Q24)","v":""},{"$f":"IF('Liste Beginner'!R24=\"\",\"\",'Liste Beginner'!R24)","v":""},{"$f":"'Liste Beginner'!S24","v":0},{"$f":"'Liste Beginner'!T24","v":""},{"$f":"'Liste Beginner'!U24","v":0}]
[{"$f":"IF('Liste Beginner'!A25=\"\",\"\",'Liste Beginner'!A25&\" / \"&'Liste Beginner'!B25&\" / Beginner\")","v":""},{"$f":"IF('Liste Beginner'!C25=\"\",\"\",'Liste Beginner'!C25)","v":""},{"$f":"IF('Liste Beginner'!D25=\"\",\"\",'Liste Beginner'!D25&CHAR(10)&'Liste Beginner'!E25)","v":""},{"$f":"IF('Liste Beginner'!F25=\"\",\"\",'Liste Beginner'!F25&CHAR(10)&'Liste Beginner'!G25)","v":""},{"$f":"IF('Liste Beginner'!H25=\"\",\"\",'Liste Beginner'!H25)","v":""},{"$f":"IF('Liste Beginner'!I25=\"\",\"\",'Liste Beginner'!I25)","v":""},{"$f":"IF('Liste Beginner'!J25=\"\",\"\",'Liste Beginner'!J25)","v":""},{"$f":"IF('Liste Beginner'!K25=\"\",\"\",'Liste Beginner'!K25)","v":""},{"$f":"IF('Liste Beginner'!L25=\"\",\"\",'Liste Beginner'!L25)","v":""},{"$f":"IF('Liste Beginner'!M25=\"\",\"\",'Liste Beginner'!M25)","v":""},{"$f":"IF('Liste Beginner'!N25=\"\",\"\",'Liste Beginner'!N25)","v":""},{"$f":"IF('Liste Beginner'!O25=\"\",\"\",'Liste Beginner'!O25)","v":""},{"$f":"IF('Liste Beginner'!P25=\"\",\"\",'Liste Beginner'!P25)","v":""},{"$f":"IF('Liste Beginner'!Q25=\"\",\"\",'Liste Beginner'!Q25)","v":""},{"$f":"IF('Liste Beginner'!R25=\"\",\"\",'Liste Beginner'!R25)","v":""},{"$f":"'Liste Beginner'!S25","v":0},{"$f":"'Liste Beginner'!T25","v":""},{"$f":"'Liste Beginner'!U25","v":0}]
[{"$f":"IF('Liste Beginner'!A26=\"\",\"\",'Liste Beginner'!A26&\" / \"&'Liste Beginner'!B26&\" / Beginner\")","v":""},{"$f":"IF('Liste Beginner'!C26=\"\",\"\",'Liste Beginner'!C26)","v":""},{"$f":"IF('Liste Beginner'!D26=\"\",\"\",'Liste Beginner'!D26&CHAR(10)&'Liste Beginner'!E26)","v":""},{"$f":"IF('Liste Beginner'!F26=\"\",\"\",'Liste Beginner'!F26&CHAR(10)&'Liste Beginner'!G26)","v":""},{"$f":"IF('Liste Beginner'!H26=\"\",\"\",'Liste Beginner'!H26)","v":""},{"$f":"IF('Liste Beginner'!I26=\"\",\"\",'Liste Beginner'!I26)","v":""},{"$f":"IF('Liste Beginner'!J26=\"\",\"\",'Liste Beginner'!J26)","v":""},{"$f":"IF('Liste Beginner'!K26=\"\",\"\",'Liste Beginner'!K26)","v":""},{"$f":"IF('Liste Beginner'!L26=\"\",\"\",'Liste Beginner'!L26)","v":""},{"$f":"IF('Liste Beginner'!M26=\"\",\"\",'Liste Beginner'!M26)","v":""},{"$f":"IF('Liste Beginner'!N26=\"\",\"\",'Liste Beginner'!N26)","v":""},{"$f":"IF('Liste Beginner'!O26=\"\",\"\",'Liste Beginner'!O26)","v":""},{"$f":"IF('Liste Beginner'!P26=\"\",\"\",'Liste Beginner'!P26)","v":""},{"$f":"IF('Liste Beginner'!Q26=\"\",\"\",'Liste Beginner'!Q26)","v":""},{"$f":"IF('Liste Beginner'!R26=\"\",\"\",'Liste Beginner'!R26)","v":""},{"$f":"'Liste Beginner'!S26","v":0},{"$f":"'Liste Beginner'!T26","v":""},{"$f":"'Liste Beginner'!U26","v":0}]
[{"$f":"IF('Liste Beginner'!A27=\"\",\"\",'Liste Beginner'!A27&\" / \"&'Liste Beginner'!B27&\" / Beginner\")","v":""},{"$f":"IF('Liste Beginner'!C27=\"\",\"\",'Liste Beginner'!C27)","v":""},{"$f":"IF('Liste Beginner'!D27=\"\",\"\",'Liste Beginner'!D27&CHAR(10)&'Liste Beginner'!E27)","v":""},{"$f":"IF('Liste Beginner'!F27=\"\",\"\",'Liste Beginner'!F27&CHAR(10)&'Liste Beginner'!G27)","v":""},{"$f":"IF('Liste Beginner'!H27=\"\",\"\",'Liste Beginner'!H27)","v":""},{"$f":"IF('Liste Beginner'!I27=\"\",\"\",'Liste Beginner'!I27)","v":""},{"$f":"IF('Liste Beginner'!J27=\"\",\"\",'Liste Beginner'!J27)","v":""},{"$f":"IF('Liste Beginner'!K27=\"\",\"\",'Liste Beginner'!K27)","v":""},{"$f":"IF('Liste Beginner'!L27=\"\",\"\",'Liste Beginner'!L27)","v":""},{"$f":"IF('Liste Beginner'!M27=\"\",\"\",'Liste Beginner'!M27)","v":""},{"$f":"IF('Liste Beginner'!N27=\"\",\"\",'Liste Beginner'!N27)","v":""},{"$f":"IF('Liste Beginner'!O27=\"\",\"\",'Liste Beginner'!O27)","v":""},{"$f":"IF('Liste Beginner'!P27=\"\",\"\",'Liste Beginner'!P27)","v":""},{"$f":"IF('Liste Beginner'!Q27=\"\",\"\",'Liste Beginner'!Q27)","v":""},{"$f":"IF('Liste Beginner'!R27=\"\",\"\",'Liste Beginner'!R27)","v":""},{"$f":"'Liste Beginner'!S27","v":0},{"$f":"'Liste Beginner'!T27","v":""},{"$f":"'Liste Beginner'!U27","v":0}]
[{"$f":"IF('Liste Beginner'!A28=\"\",\"\",'Liste Beginner'!A28&\" / \"&'Liste Beginner'!B28&\" / Beginner\")","v":""},{"$f":"IF('Liste Beginner'!C28=\"\",\"\",'Liste Beginner'!C28)","v":""},{"$f":"IF('Liste Beginner'!D28=\"\",\"\",'Liste Beginner'!D28&CHAR(10)&'Liste Beginner'!E28)","v":""},{"$f":"IF('Liste Beginner'!F28=\"\",\"\",'Liste Beginner'!F28&CHAR(10)&'Liste Beginner'!G28)","v":""},{"$f":"IF('Liste Beginner'!H28=\"\",\"\",'Liste Beginner'!H28)","v":""},{"$f":"IF('Liste Beginner'!I28=\"\",\"\",'Liste Beginner'!I28)","v":""},{"$f":"IF('Liste Beginner'!J28=\"\",\"\",'Liste Beginner'!J28)","v":""},{"$f":"IF('Liste Beginner'!K28=\"\",\"\",'Liste Beginner'!K28)","v":""},{"$f":"IF('Liste Beginner'!L28=\"\",\"\",'Liste Beginner'!L28)","v":""},{"$f":"IF('Liste Beginner'!M28=\"\",\"\",'Liste Beginner'!M28)","v":""},{"$f":"IF('Liste Beginner'!N28=\"\",\"\",'Liste Beginner'!N28)","v":""},{"$f":"IF('Liste Beginner'!O28=\"\",\"\",'Liste Beginner'!O28)","v":""},{"$f":"IF('Liste Beginner'!P28=\"\",\"\",'Liste Beginner'!P28)","v":""},{"$f":"IF('Liste Beginner'!Q28=\"\",\"\",'Liste Beginner'!Q28)","v":""},{"$f":"IF('Liste Beginner'!R28=\"\",\"\",'Liste Beginner'!R28)","v":""},{"$f":"'Liste Beginner'!S28","v":0},{"$f":"'Liste Beginner'!T28","v":""},{"$f":"'Liste Beginner'!U28","v":0}]
[{"$f":"IF('Liste Beginner'!A29=\"\",\"\",'Liste Beginner'!A29&\" / \"&'Liste Beginner'!B29&\" / Beginner\")","v":""},{"$f":"IF('Liste Beginner'!C29=\"\",\"\",'Liste Beginner'!C29)","v":""},{"$f":"IF('Liste Beginner'!D29=\"\",\"\",'Liste Beginner'!D29&CHAR(10)&'Liste Beginner'!E29)","v":""},{"$f":"IF('Liste Beginner'!F29=\"\",\"\",'Liste Beginner'!F29&CHAR(10)&'Liste Beginner'!G29)","v":""},{"$f":"IF('Liste Beginner'!H29=\"\",\"\",'Liste Beginner'!H29)","v":""},{"$f":"IF('Liste Beginner'!I29=\"\",\"\",'Liste Beginner'!I29)","v":""},{"$f":"IF('Liste Beginner'!J29=\"\",\"\",'Liste Beginner'!J29)","v":""},{"$f":"IF('Liste Beginner'!K29=\"\",\"\",'Liste Beginner'!K29)","v":""},{"$f":"IF('Liste Beginner'!L29=\"\",\"\",'Liste Beginner'!L29)","v":""},{"$f":"IF('Liste Beginner'!M29=\"\",\"\",'Liste Beginner'!M29)","v":""},{"$f":"IF('Liste Beginner'!N29=\"\",\"\",'Liste Beginner'!N29)","v":""},{"$f":"IF('Liste Beginner'!O29=\"\",\"\",'Liste Beginner'!O29)","v":""},{"$f":"IF('Liste Beginner'!P29=\"\",\"\",'Liste Beginner'!P29)","v":""},{"$f":"IF('Liste Beginner'!Q29=\"\",\"\",'Liste Beginner'!Q29)","v":""},{"$f":"IF('Liste Beginner'!R29=\"\",\"\",'Liste Beginner'!R29)","v":""},{"$f":"'Liste Beginner'!S29","v":0},{"$f":"'Liste Beginner'!T29","v":""},{"$f":"'Liste Beginner'!U29","v":0}]
[{"$f":"IF('Liste Beginner'!A30=\"\",\"\",'Liste Beginner'!A30&\" / \"&'Liste Beginner'!B30&\" / Beginner\")","v":""},{"$f":"IF('Liste Beginner'!C30=\"\",\"\",'Liste Beginner'!C30)","v":""},{"$f":"IF('Liste Beginner'!D30=\"\",\"\",'Liste Beginner'!D30&CHAR(10)&'Liste Beginner'!E30)","v":""},{"$f":"IF('Liste Beginner'!F30=\"\",\"\",'Liste Beginner'!F30&CHAR(10)&'Liste Beginner'!G30)","v":""},{"$f":"IF('Liste Beginner'!H30=\"\",\"\",'Liste Beginner'!H30)","v":""},{"$f":"IF('Liste Beginner'!I30=\"\",\"\",'Liste Beginner'!I30)","v":""},{"$f":"IF('Liste Beginner'!J30=\"\",\"\",'Liste Beginner'!J30)","v":""},{"$f":"IF('Liste Beginner'!K30=\"\",\"\",'Liste Beginner'!K30)","v":""},{"$f":"IF('Liste Beginner'!L30=\"\",\"\",'Liste Beginner'!L30)","v":""},{"$f":"IF('Liste Beginner'!M30=\"\",\"\",'Liste Beginner'!M30)","v":""},{"$f":"IF('Liste Beginner'!N30=\"\",\"\",'Liste Beginner'!N30)","v":""},{"$f":"IF('Liste Beginner'!O30=\"\",\"\",'Liste Beginner'!O30)","v":""},{"$f":"IF('Liste Beginner'!P30=\"\",\"\",'Liste Beginner'!P30)","v":""},{"$f":"IF('Liste Beginner'!Q30=\"\",\"\",'Liste Beginner'!Q30)","v":""},{"$f":"IF('Liste Beginner'!R30=\"\",\"\",'Liste Beginner'!R30)","v":""},{"$f":"'Liste Beginner'!S30","v":0},{"$f":"'Liste Beginner'!T30","v":""},{"$f":"'Liste Beginner'!U30","v":0}]
[{"$f":"IF('Liste Beginner'!A31=\"\",\"\",'Liste Beginner'!A31&\" / \"&'Liste Beginner'!B31&\" / Beginner\")","v":""},{"$f":"IF('Liste Beginner'!C31=\"\",\"\",'Liste Beginner'!C31)","v":""},{"$f":"IF('Liste Beginner'!D31=\"\",\"\",'Liste Beginner'!D31&CHAR(10)&'Liste Beginner'!E31)","v":""},{"$f":"IF('Liste Beginner'!F31=\"\",\"\",'Liste Beginner'!F31&CHAR(10)&'Liste Beginner'!G31)","v":""},{"$f":"IF('Liste Beginner'!H31=\"\",\"\",'Liste Beginner'!H31)","v":""},{"$f":"IF('Liste Beginner'!I31=\"\",\"\",'Liste Beginner'!I31)","v":""},{"$f":"IF('Liste Beginner'!J31=\"\",\"\",'Liste Beginner'!J31)","v":""},{"$f":"IF('Liste Beginner'!K31=\"\",\"\",'Liste Beginner'!K31)","v":""},{"$f":"IF('Liste Beginner'!L31=\"\",\"\",'Liste Beginner'!L31)","v":""},{"$f":"IF('Liste Beginner'!M31=\"\",\"\",'Liste Beginner'!M31)","v":""},{"$f":"IF('Liste Beginner'!N31=\"\",\"\",'Liste Beginner'!N31)","v":""},{"$f":"IF('Liste Beginner'!O31=\"\",\"\",'Liste Beginner'!O31)","v":""},{"$f":"IF('Liste Beginner'!P31=\"\",\"\",'Liste Beginner'!P31)","v":""},{"$f":"IF('Liste Beginner'!Q31=\"\",\"\",'Liste Beginner'!Q31)","v":""},{"$f":"IF('Liste Beginner'!R31=\"\",\"\",'Liste Beginner'!R31)","v":""},{"$f":"'Liste Beginner'!S31","v":0},{"$f":"'Liste Beginner'!T31","v":""},{"$f":"'Liste Beginner'!U31","v":0}]
[{"$f":"IF('Liste Beginner'!A32=\"\",\"\",'Liste Beginner'!A32&\" / \"&'Liste Beginner'!B32&\" / Beginner\")","v":""},{"$f":"IF('Liste Beginner'!C32=\"\",\"\",'Liste Beginner'!C32)","v":""},{"$f":"IF('Liste Beginner'!D32=\"\",\"\",'Liste Beginner'!D32&CHAR(10)&'Liste Beginner'!E32)","v":""},{"$f":"IF('Liste Beginner'!F32=\"\",\"\",'Liste Beginner'!F32&CHAR(10)&'Liste Beginner'!G32)","v":""},{"$f":"IF('Liste Beginner'!H32=\"\",\"\",'Liste Beginner'!H32)","v":""},{"$f":"IF('Liste Beginner'!I32=\"\",\"\",'Liste Beginner'!I32)","v":""},{"$f":"IF('Liste Beginner'!J32=\"\",\"\",'Liste Beginner'!J32)","v":""},{"$f":"IF('Liste Beginner'!K32=\"\",\"\",'Liste Beginner'!K32)","v":""},{"$f":"IF('Liste Beginner'!L32=\"\",\"\",'Liste Beginner'!L32)","v":""},{"$f":"IF('Liste Beginner'!M32=\"\",\"\",'Liste Beginner'!M32)","v":""},{"$f":"IF('Liste Beginner'!N32=\"\",\"\",'Liste Beginner'!N32)","v":""},{"$f":"IF('Liste Beginner'!O32=\"\",\"\",'Liste Beginner'!O32)","v":""},{"$f":"IF('Liste Beginner'!P32=\"\",\"\",'Liste Beginner'!P32)","v":""},{"$f":"IF('Liste Beginner'!Q32=\"\",\"\",'Liste Beginner'!Q32)","v":""},{"$f":"IF('Liste Beginner'!R32=\"\",\"\",'Liste Beginner'!R32)","v":""},{"$f":"'Liste Beginner'!S32","v":0},{"$f":"'Liste Beginner'!T32","v":""},{"$f":"'Liste Beginner'!U32","v":0}]
[{"$f":"IF('Liste Beginner'!A33=\"\",\"\",'Liste Beginner'!A33&\" / \"&'Liste Beginner'!B33&\" / Beginner\")","v":""},{"$f":"IF('Liste Beginner'!C33=\"\",\"\",'Liste Beginner'!C33)","v":""},{"$f":"IF('Liste Beginner'!D33=\"\",\"\",'Liste Beginner'!D33&CHAR(10)&'Liste Beginner'!E33)","v":""},{"$f":"IF('Liste Beginner'!F33=\"\",\"\",'Liste Beginner'!F33&CHAR(10)&'Liste Beginner'!G33)","v":""},{"$f":"IF('Liste Beginner'!H33=\"\",\"\",'Liste Beginner'!H33)","v":""},{"$f":"IF('Liste Beginner'!I33=\"\",\"\",'Liste Beginner'!I33)","v":""},{"$f":"IF('Liste Beginner'!J33=\"\",\"\",'Liste Beginner'!J33)","v":""},{"$f":"IF('Liste Beginner'!K33=\"\",\"\",'Liste Beginner'!K33)","v":""},{"$f":"IF('Liste Beginner'!L33=\"\",\"\",'Liste Beginner'!L33)","v":""},{"$f":"IF('Liste Beginner'!M33=\"\",\"\",'Liste Beginner'!M33)","v":""},{"$f":"IF('Liste Beginner'!N33=\"\",\"\",'Liste Beginner'!N33)","v":""},{"$f":"IF('Liste Beginner'!O33=\"\",\"\",'Liste Beginner'!O33)","v":""},{"$f":"IF('Liste Beginner'!P33=\"\",\"\",'Liste Beginner'!P33)","v":""},{"$f":"IF('Liste Beginner'!Q33=\"\",\"\",'Liste Beginner'!Q33)","v":""},{"$f":"IF('Liste Beginner'!R33=\"\",\"\",'Liste Beginner'!R33)","v":""},{"$f":"'Liste Beginner'!S33","v":0},{"$f":"'Liste Beginner'!T33","v":""},{"$f":"'Liste Beginner'!U33","v":0}]
[{"$f":"IF('Liste Beginner'!A34=\"\",\"\",'Liste Beginner'!A34&\" / \"&'Liste Beginner'!B34&\" / Beginner\")","v":""},{"$f":"IF('Liste Beginner'!C34=\"\",\"\",'Liste Beginner'!C34)","v":""},{"$f":"IF('Liste Beginner'!D34=\"\",\"\",'Liste Beginner'!D34&CHAR(10)&'Liste Beginner'!E34)","v":""},{"$f":"IF('Liste Beginner'!F34=\"\",\"\",'Liste Beginner'!F34&CHAR(10)&'Liste Beginner'!G34)","v":""},{"$f":"IF('Liste Beginner'!H34=\"\",\"\",'Liste Beginner'!H34)","v":""},{"$f":"IF('Liste Beginner'!I34=\"\",\"\",'Liste Beginner'!I34)","v":""},{"$f":"IF('Liste Beginner'!J34=\"\",\"\",'Liste Beginner'!J34)","v":""},{"$f":"IF('Liste Beginner'!K34=\"\",\"\",'Liste Beginner'!K34)","v":""},{"$f":"IF('Liste Beginner'!L34=\"\",\"\",'Liste Beginner'!L34)","v":""},{"$f":"IF('Liste Beginner'!M34=\"\",\"\",'Liste Beginner'!M34)","v":""},{"$f":"IF('Liste Beginner'!N34=\"\",\"\",'Liste Beginner'!N34)","v":""},{"$f":"IF('Liste Beginner'!O34=\"\",\"\",'Liste Beginner'!O34)","v":""},{"$f":"IF('Liste Beginner'!P34=\"\",\"\",'Liste Beginner'!P34)","v":""},{"$f":"IF('Liste Beginner'!Q34=\"\",\"\",'Liste Beginner'!Q34)","v":""},{"$f":"IF('Liste Beginner'!R34=\"\",\"\",'Liste Beginner'!R34)","v":""},{"$f":"'Liste Beginner'!S34","v":0},{"$f":"'Liste Beginner'!T34","v":""},{"$f":"'Liste Beginner'!U34","v":0}]
[{"$f":"IF('Liste Beginner'!A35=\"\",\"\",'Liste Beginner'!A35&\" / \"&'Liste Beginner'!B35&\" / Beginner\")","v":""},{"$f":"IF('Liste Beginner'!C35=\"\",\"\",'Liste Beginner'!C35)","v":""},{"$f":"IF('Liste Beginner'!D35=\"\",\"\",'Liste Beginner'!D35&CHAR(10)&'Liste Beginner'!E35)","v":""},{"$f":"IF('Liste Beginner'!F35=\"\",\"\",'Liste Beginner'!F35&CHAR(10)&'Liste Beginner'!G35)","v":""},{"$f":"IF('Liste Beginner'!H35=\"\",\"\",'Liste Beginner'!H35)","v":""},{"$f":"IF('Liste Beginner'!I35=\"\",\"\",'Liste Beginner'!I35)","v":""},{"$f":"IF('Liste Beginner'!J35=\"\",\"\",'Liste Beginner'!J35)","v":""},{"$f":"IF('Liste Beginner'!K35=\"\",\"\",'Liste Beginner'!K35)","v":""},{"$f":"IF('Liste Beginner'!L35=\"\",\"\",'Liste Beginner'!L35)","v":""},{"$f":"IF('Liste Beginner'!M35=\"\",\"\",'Liste Beginner'!M35)","v":""},{"$f":"IF('Liste Beginner'!N35=\"\",\"\",'Liste Beginner'!N35)","v":""},{"$f":"IF('Liste Beginner'!O35=\"\",\"\",'Liste Beginner'!O35)","v":""},{"$f":"IF('Liste Beginner'!P35=\"\",\"\",'Liste Beginner'!P35)","v":""},{"$f":"IF('Liste Beginner'!Q35=\"\",\"\",'Liste Beginner'!Q35)","v":""},{"$f":"IF('Liste Beginner'!R35=\"\",\"\",'Liste Beginner'!R35)","v":""},{"$f":"'Liste Beginner'!S35","v":0},{"$f":"'Liste Beginner'!T35","v":""},{"$f":"'Liste Beginner'!U35","v":0}]
[{"$f":"IF('Liste Beginner'!A36=\"\",\"\",'Liste Beginner'!A36&\" / \"&'Liste Beginner'!B36&\" / Beginner\")","v":""},{"$f":"IF('Liste Beginner'!C36=\"\",\"\",'Liste Beginner'!C36)","v":""},{"$f":"IF('Liste Beginner'!D36=\"\",\"\",'Liste Beginner'!D36&CHAR(10)&'Liste Beginner'!E36)","v":""},{"$f":"IF('Liste Beginner'!F36=\"\",\"\",'Liste Beginner'!F36&CHAR(10)&'Liste Beginner'!G36)","v":""},{"$f":"IF('Liste Beginner'!H36=\"\",\"\",'Liste Beginner'!H36)","v":""},{"$f":"IF('Liste Beginner'!I36=\"\",\"\",'Liste Beginner'!I36)","v":""},{"$f":"IF('Liste Beginner'!J36=\"\",\"\",'Liste Beginner'!J36)","v":""},{"$f":"IF('Liste Beginner'!K36=\"\",\"\",'Liste Beginner'!K36)","v":""},{"$f":"IF('Liste Beginner'!L36=\"\",\"\",'Liste Beginner'!L36)","v":""},{"$f":"IF('Liste Beginner'!M36=\"\",\"\",'Liste Beginner'!M36)","v":""},{"$f":"IF('Liste Beginner'!N36=\"\",\"\",'Liste Beginner'!N36)","v":""},{"$f":"IF('Liste Beginner'!O36=\"\",\"\",'Liste Beginner'!O36)","v":""},{"$f":"IF('Liste Beginner'!P36=\"\",\"\",'Liste Beginner'!P36)","v":""},{"$f":"IF('Liste Beginner'!Q36=\"\",\"\",'Liste Beginner'!Q36)","v":""},{"$f":"IF('Liste Beginner'!R36=\"\",\"\",'Liste Beginner'!R36)","v":""},{"$f":"'Liste Beginner'!S36","v":0},{"$f":"'Liste Beginner'!T36","v":""},{"$f":"'Liste Beginner'!U36","v":0}]
[{"$f":"IF('Liste Beginner'!A37=\"\",\"\",'Liste Beginner'!A37&\" / \"&'Liste Beginner'!B37&\" / Beginner\")","v":""},{"$f":"IF('Liste Beginner'!C37=\"\",\"\",'Liste Beginner'!C37)","v":""},{"$f":"IF('Liste Beginner'!D37=\"\",\"\",'Liste Beginner'!D37&CHAR(10)&'Liste Beginner'!E37)","v":""},{"$f":"IF('Liste Beginner'!F37=\"\",\"\",'Liste Beginner'!F37&CHAR(10)&'Liste Beginner'!G37)","v":""},{"$f":"IF('Liste Beginner'!H37=\"\",\"\",'Liste Beginner'!H37)","v":""},{"$f":"IF('Liste Beginner'!I37=\"\",\"\",'Liste Beginner'!I37)","v":""},{"$f":"IF('Liste Beginner'!J37=\"\",\"\",'Liste Beginner'!J37)","v":""},{"$f":"IF('Liste Beginner'!K37=\"\",\"\",'Liste Beginner'!K37)","v":""},{"$f":"IF('Liste Beginner'!L37=\"\",\"\",'Liste Beginner'!L37)","v":""},{"$f":"IF('Liste Beginner'!M37=\"\",\"\",'Liste Beginner'!M37)","v":""},{"$f":"IF('Liste Beginner'!N37=\"\",\"\",'Liste Beginner'!N37)","v":""},{"$f":"IF('Liste Beginner'!O37=\"\",\"\",'Liste Beginner'!O37)","v":""},{"$f":"IF('Liste Beginner'!P37=\"\",\"\",'Liste Beginner'!P37)","v":""},{"$f":"IF('Liste Beginner'!Q37=\"\",\"\",'Liste Beginner'!Q37)","v":""},{"$f":"IF('Liste Beginner'!R37=\"\",\"\",'Liste Beginner'!R37)","v":""},{"$f":"'Liste Beginner'!S37","v":0},{"$f":"'Liste Beginner'!T37","v":""},{"$f":"'Liste Beginner'!U37","v":0}]
[{"$f":"IF('Liste Beginner'!A38=\"\",\"\",'Liste Beginner'!A38&\" / \"&'Liste Beginner'!B38&\" / Beginner\")","v":""},{"$f":"IF('Liste Beginner'!C38=\"\",\"\",'Liste Beginner'!C38)","v":""},{"$f":"IF('Liste Beginner'!D38=\"\",\"\",'Liste Beginner'!D38&CHAR(10)&'Liste Beginner'!E38)","v":""},{"$f":"IF('Liste Beginner'!F38=\"\",\"\",'Liste Beginner'!F38&CHAR(10)&'Liste Beginner'!G38)","v":""},{"$f":"IF('Liste Beginner'!H38=\"\",\"\",'Liste Beginner'!H38)","v":""},{"$f":"IF('Liste Beginner'!I38=\"\",\"\",'Liste Beginner'!I38)","v":""},{"$f":"IF('Liste Beginner'!J38=\"\",\"\",'Liste Beginner'!J38)","v":""},{"$f":"IF('Liste Beginner'!K38=\"\",\"\",'Liste Beginner'!K38)","v":""},{"$f":"IF('Liste Beginner'!L38=\"\",\"\",'Liste Beginner'!L38)","v":""},{"$f":"IF('Liste Beginner'!M38=\"\",\"\",'Liste Beginner'!M38)","v":""},{"$f":"IF('Liste Beginner'!N38=\"\",\"\",'Liste Beginner'!N38)","v":""},{"$f":"IF('Liste Beginner'!O38=\"\",\"\",'Liste Beginner'!O38)","v":""},{"$f":"IF('Liste Beginner'!P38=\"\",\"\",'Liste Beginner'!P38)","v":""},{"$f":"IF('Liste Beginner'!Q38=\"\",\"\",'Liste Beginner'!Q38)","v":""},{"$f":"IF('Liste Beginner'!R38=\"\",\"\",'Liste Beginner'!R38)","v":""},{"$f":"'Liste Beginner'!S38","v":0},{"$f":"'Liste Beginner'!T38","v":""},{"$f":"'Liste Beginner'!U38","v":0}]
[{"$f":"IF('Liste Beginner'!A39=\"\",\"\",'Liste Beginner'!A39&\" / \"&'Liste Beginner'!B39&\" / Beginner\")","v":""},{"$f":"IF('Liste Beginner'!C39=\"\",\"\",'Liste Beginner'!C39)","v":""},{"$f":"IF('Liste Beginner'!D39=\"\",\"\",'Liste Beginner'!D39&CHAR(10)&'Liste Beginner'!E39)","v":""},{"$f":"IF('Liste Beginner'!F39=\"\",\"\",'Liste Beginner'!F39&CHAR(10)&'Liste Beginner'!G39)","v":""},{"$f":"IF('Liste Beginner'!H39=\"\",\"\",'Liste Beginner'!H39)","v":""},{"$f":"IF('Liste Beginner'!I39=\"\",\"\",'Liste Beginner'!I39)","v":""},{"$f":"IF('Liste Beginner'!J39=\"\",\"\",'Liste Beginner'!J39)","v":""},{"$f":"IF('Liste Beginner'!K39=\"\",\"\",'Liste Beginner'!K39)","v":""},{"$f":"IF('Liste Beginner'!L39=\"\",\"\",'Liste Beginner'!L39)","v":""},{"$f":"IF('Liste Beginner'!M39=\"\",\"\",'Liste Beginner'!M39)","v":""},{"$f":"IF('Liste Beginner'!N39=\"\",\"\",'Liste Beginner'!N39)","v":""},{"$f":"IF('Liste Beginner'!O39=\"\",\"\",'Liste Beginner'!O39)","v":""},{"$f":"IF('Liste Beginner'!P39=\"\",\"\",'Liste Beginner'!P39)","v":""},{"$f":"IF('Liste Beginner'!Q39=\"\",\"\",'Liste Beginner'!Q39)","v":""},{"$f":"IF('Liste Beginner'!R39=\"\",\"\",'Liste Beginner'!R39)","v":""},{"$f":"'Liste Beginner'!S39","v":0},{"$f":"'Liste Beginner'!T39","v":""},{"$f":"'Liste Beginner'!U39","v":0}]
[{"$f":"IF('Liste Beginner'!A40=\"\",\"\",'Liste Beginner'!A40&\" / \"&'Liste Beginner'!B40&\" / Beginner\")","v":""},{"$f":"IF('Liste Beginner'!C40=\"\",\"\",'Liste Beginner'!C40)","v":""},{"$f":"IF('Liste Beginner'!D40=\"\",\"\",'Liste Beginner'!D40&CHAR(10)&'Liste Beginner'!E40)","v":""},{"$f":"IF('Liste Beginner'!F40=\"\",\"\",'Liste Beginner'!F40&CHAR(10)&'Liste Beginner'!G40)","v":""},{"$f":"IF('Liste Beginner'!H40=\"\",\"\",'Liste Beginner'!H40)","v":""},{"$f":"IF('Liste Beginner'!I40=\"\",\"\",'Liste Beginner'!I40)","v":""},{"$f":"IF('Liste Beginner'!J40=\"\",\"\",'Liste Beginner'!J40)","v":""},{"$f":"IF('Liste Beginner'!K40=\"\",\"\",'Liste Beginner'!K40)","v":""},{"$f":"IF('Liste Beginner'!L40=\"\",\"\",'Liste Beginner'!L40)","v":""},{"$f":"IF('Liste Beginner'!M40=\"\",\"\",'Liste Beginner'!M40)","v":""},{"$f":"IF('Liste Beginner'!N40=\"\",\"\",'Liste Beginner'!N40)","v":""},{"$f":"IF('Liste Beginner'!O40=\"\",\"\",'Liste Beginner'!O40)","v":""},{"$f":"IF('Liste Beginner'!P40=\"\",\"\",'Liste Beginner'!P40)","v":""},{"$f":"IF('Liste Beginner'!Q40=\"\",\"\",'Liste Beginner'!Q40)","v":""},{"$f":"IF('Liste Beginner'!R40=\"\",\"\",'Liste Beginner'!R40)","v":""},{"$f":"'Liste Beginner'!S40","v":0},{"$f":"'Liste Beginner'!T40","v":""},{"$f":"'Liste Beginner'!U40","v":0}]
[{"$f":"IF('Liste Beginner'!A41=\"\",\"\",'Liste Beginner'!A41&\" / \"&'Liste Beginner'!B41&\" / Beginner\")","v":""},{"$f":"IF('Liste Beginner'!C41=\"\",\"\",'Liste Beginner'!C41)","v":""},{"$f":"IF('Liste Beginner'!D41=\"\",\"\",'Liste Beginner'!D41&CHAR(10)&'Liste Beginner'!E41)","v":""},{"$f":"IF('Liste Beginner'!F41=\"\",\"\",'Liste Beginner'!F41&CHAR(10)&'Liste Beginner'!G41)","v":""},{"$f":"IF('Liste Beginner'!H41=\"\",\"\",'Liste Beginner'!H41)","v":""},{"$f":"IF('Liste Beginner'!I41=\"\",\"\",'Liste Beginner'!I41)","v":""},{"$f":"IF('Liste Beginner'!J41=\"\",\"\",'Liste Beginner'!J41)","v":""},{"$f":"IF('Liste Beginner'!K41=\"\",\"\",'Liste Beginner'!K41)","v":""},{"$f":"IF('Liste Beginner'!L41=\"\",\"\",'Liste Beginner'!L41)","v":""},{"$f":"IF('Liste Beginner'!M41=\"\",\"\",'Liste Beginner'!M41)","v":""},{"$f":"IF('Liste Beginner'!N41=\"\",\"\",'Liste Beginner'!N41)","v":""},{"$f":"IF('Liste Beginner'!O41=\"\",\"\",'Liste Beginner'!O41)","v":""},{"$f":"IF('Liste Beginner'!P41=\"\",\"\",'Liste Beginner'!P41)","v":""},{"$f":"IF('Liste Beginner'!Q41=\"\",\"\",'Liste Beginner'!Q41)","v":""},{"$f":"IF('Liste Beginner'!R41=\"\",\"\",'Liste Beginner'!R41)","v":""},{"$f":"'Liste Beginner'!S41","v":0},{"$f":"'Liste Beginner'!T41","v":""},{"$f":"'Liste Beginner'!U41","v":0}]
[{"$f":"IF('Liste Beginner'!A42=\"\",\"\",'Liste Beginner'!A42&\" / \"&'Liste Beginner'!B42&\" / Beginner\")","v":""},{"$f":"IF('Liste Beginner'!C42=\"\",\"\",'Liste Beginner'!C42)","v":""},{"$f":"IF('Liste Beginner'!D42=\"\",\"\",'Liste Beginner'!D42&CHAR(10)&'Liste Beginner'!E42)","v":""},{"$f":"IF('Liste Beginner'!F42=\"\",\"\",'Liste Beginner'!F42&CHAR(10)&'Liste Beginner'!G42)","v":""},{"$f":"IF('Liste Beginner'!H42=\"\",\"\",'Liste Beginner'!H42)","v":""},{"$f":"IF('Liste Beginner'!I42=\"\",\"\",'Liste Beginner'!I42)","v":""},{"$f":"IF('Liste Beginner'!J42=\"\",\"\",'Liste Beginner'!J42)","v":""},{"$f":"IF('Liste Beginner'!K42=\"\",\"\",'Liste Beginner'!K42)","v":""},{"$f":"IF('Liste Beginner'!L42=\"\",\"\",'Liste Beginner'!L42)","v":""},{"$f":"IF('Liste Beginner'!M42=\"\",\"\",'Liste Beginner'!M42)","v":""},{"$f":"IF('Liste Beginner'!N42=\"\",\"\",'Liste Beginner'!N42)","v":""},{"$f":"IF('Liste Beginner'!O42=\"\",\"\",'Liste Beginner'!O42)","v":""},{"$f":"IF('Liste Beginner'!P42=\"\",\"\",'Liste Beginner'!P42)","v":""},{"$f":"IF('Liste Beginner'!Q42=\"\",\"\",'Liste Beginner'!Q42)","v":""},{"$f":"IF('Liste Beginner'!R42=\"\",\"\",'Liste Beginner'!R42)","v":""},{"$f":"'Liste Beginner'!S42","v":0},{"$f":"'Liste Beginner'!T42","v":""},{"$f":"'Liste Beginner'!U42","v":0}]
[{"$f":"IF('Liste Beginner'!A43=\"\",\"\",'Liste Beginner'!A43&\" / \"&'Liste Beginner'!B43&\" / Beginner\")","v":""},{"$f":"IF('Liste Beginner'!C43=\"\",\"\",'Liste Beginner'!C43)","v":""},{"$f":"IF('Liste Beginner'!D43=\"\",\"\",'Liste Beginner'!D43&CHAR(10)&'Liste Beginner'!E43)","v":""},{"$f":"IF('Liste Beginner'!F43=\"\",\"\",'Liste Beginner'!F43&CHAR(10)&'Liste Beginner'!G43)","v":""},{"$f":"IF('Liste Beginner'!H43=\"\",\"\",'Liste Beginner'!H43)","v":""},{"$f":"IF('Liste Beginner'!I43=\"\",\"\",'Liste Beginner'!I43)","v":""},{"$f":"IF('Liste Beginner'!J43=\"\",\"\",'Liste Beginner'!J43)","v":""},{"$f":"IF('Liste Beginner'!K43=\"\",\"\",'Liste Beginner'!K43)","v":""},{"$f":"IF('Liste Beginner'!L43=\"\",\"\",'Liste Beginner'!L43)","v":""},{"$f":"IF('Liste Beginner'!M43=\"\",\"\",'Liste Beginner'!M43)","v":""},{"$f":"IF('Liste Beginner'!N43=\"\",\"\",'Liste Beginner'!N43)","v":""},{"$f":"IF('Liste Beginner'!O43=\"\",\"\",'Liste Beginner'!O43)","v":""},{"$f":"IF('Liste Beginner'!P43=\"\",\"\",'Liste Beginner'!P43)","v":""},{"$f":"IF('Liste Beginner'!Q43=\"\",\"\",'Liste Beginner'!Q43)","v":""},{"$f":"IF('Liste Beginner'!R43=\"\",\"\",'Liste Beginner'!R43)","v":""},{"$f":"'Liste Beginner'!S43","v":0},{"$f":"'Liste Beginner'!T43","v":""},{"$f":"'Liste Beginner'!U43","v":0}]
[{"$f":"IF('Liste Beginner'!A44=\"\",\"\",'Liste Beginner'!A44&\" / \"&'Liste Beginner'!B44&\" / Beginner\")","v":""},{"$f":"IF('Liste Beginner'!C44=\"\",\"\",'Liste Beginner'!C44)","v":""},{"$f":"IF('Liste Beginner'!D44=\"\",\"\",'Liste Beginner'!D44&CHAR(10)&'Liste Beginner'!E44)","v":""},{"$f":"IF('Liste Beginner'!F44=\"\",\"\",'Liste Beginner'!F44&CHAR(10)&'Liste Beginner'!G44)","v":""},{"$f":"IF('Liste Beginner'!H44=\"\",\"\",'Liste Beginner'!H44)","v":""},{"$f":"IF('Liste Beginner'!I44=\"\",\"\",'Liste Beginner'!I44)","v":""},{"$f":"IF('Liste Beginner'!J44=\"\",\"\",'Liste Beginner'!J44)","v":""},{"$f":"IF('Liste Beginner'!K44=\"\",\"\",'Liste Beginner'!K44)","v":""},{"$f":"IF('Liste Beginner'!L44=\"\",\"\",'Liste Beginner'!L44)","v":""},{"$f":"IF('Liste Beginner'!M44=\"\",\"\",'Liste Beginner'!M44)","v":""},{"$f":"IF('Liste Beginner'!N44=\"\",\"\",'Liste Beginner'!N44)","v":""},{"$f":"IF('Liste Beginner'!O44=\"\",\"\",'Liste Beginner'!O44)","v":""},{"$f":"IF('Liste Beginner'!P44=\"\",\"\",'Liste Beginner'!P44)","v":""},{"$f":"IF('Liste Beginner'!Q44=\"\",\"\",'Liste Beginner'!Q44)","v":""},{"$f":"IF('Liste Beginner'!R44=\"\",\"\",'Liste Beginner'!R44)","v":""},{"$f":"'Liste Beginner'!S44","v":0},{"$f":"'Liste Beginner'!T44","v":""},{"$f":"'Liste Beginner'!U44","v":0}]
[{"$f":"IF('Liste Beginner'!A45=\"\",\"\",'Liste Beginner'!A45&\" / \"&'Liste Beginner'!B45&\" / Beginner\")","v":""},{"$f":"IF('Liste Beginner'!C45=\"\",\"\",'Liste Beginner'!C45)","v":""},{"$f":"IF('Liste Beginner'!D45=\"\",\"\",'Liste Beginner'!D45&CHAR(10)&'Liste Beginner'!E45)","v":""},{"$f":"IF('Liste Beginner'!F45=\"\",\"\",'Liste Beginner'!F45&CHAR(10)&'Liste Beginner'!G45)","v":""},{"$f":"IF('Liste Beginner'!H45=\"\",\"\",'Liste Beginner'!H45)","v":""},{"$f":"IF('Liste Beginner'!I45=\"\",\"\",'Liste Beginner'!I45)","v":""},{"$f":"IF('Liste Beginner'!J45=\"\",\"\",'Liste Beginner'!J45)","v":""},{"$f":"IF('Liste Beginner'!K45=\"\",\"\",'Liste Beginner'!K45)","v":""},{"$f":"IF('Liste Beginner'!L45=\"\",\"\",'Liste Beginner'!L45)","v":""},{"$f":"IF('Liste Beginner'!M45=\"\",\"\",'Liste Beginner'!M45)","v":""},{"$f":"IF('Liste Beginner'!N45=\"\",\"\",'Liste Beginner'!N45)","v":""},{"$f":"IF('Liste Beginner'!O45=\"\",\"\",'Liste Beginner'!O45)","v":""},{"$f":"IF('Liste Beginner'!P45=\"\",\"\",'Liste Beginner'!P45)","v":""},{"$f":"IF('Liste Beginner'!Q45=\"\",\"\",'Liste Beginner'!Q45)","v":""},{"$f":"IF('Liste Beginner'!R45=\"\",\"\",'Liste Beginner'!R45)","v":""},{"$f":"'Liste Beginner'!S45","v":0},{"$f":"'Liste Beginner'!T45","v":""},{"$f":"'Liste Beginner'!U45","v":0}]
[{"$f":"IF('Liste Beginner'!A46=\"\",\"\",'Liste Beginner'!A46&\" / \"&'Liste Beginner'!B46&\" / Beginner\")","v":""},{"$f":"IF('Liste Beginner'!C46=\"\",\"\",'Liste Beginner'!C46)","v":""},{"$f":"IF('Liste Beginner'!D46=\"\",\"\",'Liste Beginner'!D46&CHAR(10)&'Liste Beginner'!E46)","v":""},{"$f":"IF('Liste Beginner'!F46=\"\",\"\",'Liste Beginner'!F46&CHAR(10)&'Liste Beginner'!G46)","v":""},{"$f":"IF('Liste Beginner'!H46=\"\",\"\",'Liste Beginner'!H46)","v":""},{"$f":"IF('Liste Beginner'!I46=\"\",\"\",'Liste Beginner'!I46)","v":""},{"$f":"IF('Liste Beginner'!J46=\"\",\"\",'Liste Beginner'!J46)","v":""},{"$f":"IF('Liste Beginner'!K46=\"\",\"\",'Liste Beginner'!K46)","v":""},{"$f":"IF('Liste Beginner'!L46=\"\",\"\",'Liste Beginner'!L46)","v":""},{"$f":"IF('Liste Beginner'!M46=\"\",\"\",'Liste Beginner'!M46)","v":""},{"$f":"IF('Liste Beginner'!N46=\"\",\"\",'Liste Beginner'!N46)","v":""},{"$f":"IF('Liste Beginner'!O46=\"\",\"\",'Liste Beginner'!O46)","v":""},{"$f":"IF('Liste Beginner'!P46=\"\",\"\",'Liste Beginner'!P46)","v":""},{"$f":"IF('Liste Beginner'!Q46=\"\",\"\",'Liste Beginner'!Q46)","v":""},{"$f":"IF('Liste Beginner'!R46=\"\",\"\",'Liste Beginner'!R46)","v":""},{"$f":"'Liste Beginner'!S46","v":0},{"$f":"'Liste Beginner'!T46","v":""},{"$f":"'Liste Beginner'!U46","v":0}]
[{"$f":"IF('Liste Beginner'!A47=\"\",\"\",'Liste Beginner'!A47&\" / \"&'Liste Beginner'!B47&\" / Beginner\")","v":""},{"$f":"IF('Liste Beginner'!C47=\"\",\"\",'Liste Beginner'!C47)","v":""},{"$f":"IF('Liste Beginner'!D47=\"\",\"\",'Liste Beginner'!D47&CHAR(10)&'Liste Beginner'!E47)","v":""},{"$f":"IF('Liste Beginner'!F47=\"\",\"\",'Liste Beginner'!F47&CHAR(10)&'Liste Beginner'!G47)","v":""},{"$f":"IF('Liste Beginner'!H47=\"\",\"\",'Liste Beginner'!H47)","v":""},{"$f":"IF('Liste Beginner'!I47=\"\",\"\",'Liste Beginner'!I47)","v":""},{"$f":"IF('Liste Beginner'!J47=\"\",\"\",'Liste Beginner'!J47)","v":""},{"$f":"IF('Liste Beginner'!K47=\"\",\"\",'Liste Beginner'!K47)","v":""},{"$f":"IF('Liste Beginner'!L47=\"\",\"\",'Liste Beginner'!L47)","v":""},{"$f":"IF('Liste Beginner'!M47=\"\",\"\",'Liste Beginner'!M47)","v":""},{"$f":"IF('Liste Beginner'!N47=\"\",\"\",'Liste Beginner'!N47)","v":""},{"$f":"IF('Liste Beginner'!O47=\"\",\"\",'Liste Beginner'!O47)","v":""},{"$f":"IF('Liste Beginner'!P47=\"\",\"\",'Liste Beginner'!P47)","v":""},{"$f":"IF('Liste Beginner'!Q47=\"\",\"\",'Liste Beginner'!Q47)","v":""},{"$f":"IF('Liste Beginner'!R47=\"\",\"\",'Liste Beginner'!R47)","v":""},{"$f":"'Liste Beginner'!S47","v":0},{"$f":"'Liste Beginner'!T47","v":""},{"$f":"'Liste Beginner'!U47","v":0}]
[{"$f":"IF('Liste Beginner'!A48=\"\",\"\",'Liste Beginner'!A48&\" / \"&'Liste Beginner'!B48&\" / Beginner\")","v":""},{"$f":"IF('Liste Beginner'!C48=\"\",\"\",'Liste Beginner'!C48)","v":""},{"$f":"IF('Liste Beginner'!D48=\"\",\"\",'Liste Beginner'!D48&CHAR(10)&'Liste Beginner'!E48)","v":""},{"$f":"IF('Liste Beginner'!F48=\"\",\"\",'Liste Beginner'!F48&CHAR(10)&'Liste Beginner'!G48)","v":""},{"$f":"IF('Liste Beginner'!H48=\"\",\"\",'Liste Beginner'!H48)","v":""},{"$f":"IF('Liste Beginner'!I48=\"\",\"\",'Liste Beginner'!I48)","v":""},{"$f":"IF('Liste Beginner'!J48=\"\",\"\",'Liste Beginner'!J48)","v":""},{"$f":"IF('Liste Beginner'!K48=\"\",\"\",'Liste Beginner'!K48)","v":""},{"$f":"IF('Liste Beginner'!L48=\"\",\"\",'Liste Beginner'!L48)","v":""},{"$f":"IF('Liste Beginner'!M48=\"\",\"\",'Liste Beginner'!M48)","v":""},{"$f":"IF('Liste Beginner'!N48=\"\",\"\",'Liste Beginner'!N48)","v":""},{"$f":"IF('Liste Beginner'!O48=\"\",\"\",'Liste Beginner'!O48)","v":""},{"$f":"IF('Liste Beginner'!P48=\"\",\"\",'Liste Beginner'!P48)","v":""},{"$f":"IF('Liste Beginner'!Q48=\"\",\"\",'Liste Beginner'!Q48)","v":""},{"$f":"IF('Liste Beginner'!R48=\"\",\"\",'Liste Beginner'!R48)","v":""},{"$f":"'Liste Beginner'!S48","v":0},{"$f":"'Liste Beginner'!T48","v":""},{"$f":"'Liste Beginner'!U48","v":0}]
["Start / Los / Klasse","Hundeführer/-in","Verein","Hund",{"$f":"IF('Liste Klasse 1'!H$4=0,\"\",'Liste Klasse 1'!H$4)","v":1},{"$f":"IF('Liste Klasse 1'!I$4=0,\"\",'Liste Klasse 1'!I$4)","v":2},{"$f":"IF('Liste Klasse 1'!J$4=0,\"\",'Liste Klasse 1'!J$4)","v":3},{"$f":"IF('Liste Klasse 1'!K$4=0,\"\",'Liste Klasse 1'!K$4)","v":4},{"$f":"IF('Liste Klasse 1'!L$4=0,\"\",'Liste Klasse 1'!L$4)","v":5},{"$f":"IF('Liste Klasse 1'!M$4=0,\"\",'Liste Klasse 1'!M$4)","v":6},{"$f":"IF('Liste Klasse 1'!N$4=0,\"\",'Liste Klasse 1'!N$4)","v":7},{"$f":"IF('Liste Klasse 1'!O$4=0,\"\",'Liste Klasse 1'!O$4)","v":8},{"$f":"IF('Liste Klasse 1'!P$4=0,\"\",'Liste Klasse 1'!P$4)","v":9},{"$f":"IF('Liste Klasse 1'!Q$4=0,\"\",'Liste Klasse 1'!Q$4)","v":10},{"$f":"IF('Liste Klasse 1'!R$4=0,\"\",'Liste Klasse 1'!R$4)","v":11},"Gesamt","WN","Platz"]
[{"$f":"IF('Liste Klasse 1'!A8=\"\",\"\",'Liste Klasse 1'!A8&\" / \"&'Liste Klasse 1'!B8&\" / Klasse 1\")","v":""},{"$f":"IF('Liste Klasse 1'!C8=\"\",\"\",'Liste Klasse 1'!C8)","v":""},{"$f":"IF('Liste Klasse 1'!D8=\"\",\"\",'Liste Klasse 1'!D8&CHAR(10)&'Liste Klasse 1'!E8)","v":""},{"$f":"IF('Liste Klasse 1'!F8=\"\",\"\",'Liste Klasse 1'!F8&CHAR(10)&'Liste Klasse 1'!G8)","v":""},{"$f":"IF('Liste Klasse 1'!H8=\"\",\"\",'Liste Klasse 1'!H8)","v":""},{"$f":"IF('Liste Klasse 1'!I8=\"\",\"\",'Liste Klasse 1'!I8)","v":""},{"$f":"IF('Liste Klasse 1'!J8=\"\",\"\",'Liste Klasse 1'!J8)","v":""},{"$f":"IF('Liste Klasse 1'!K8=\"\",\"\",'Liste Klasse 1'!K8)","v":""},{"$f":"IF('Liste Klasse 1'!L8=\"\",\"\",'Liste Klasse 1'!L8)","v":""},{"$f":"IF('Liste Klasse 1'!M8=\"\",\"\",'Liste Klasse 1'!M8)","v":""},{"$f":"IF('Liste Klasse 1'!N8=\"\",\"\",'Liste Klasse 1'!N8)","v":""},{"$f":"IF('Liste Klasse 1'!O8=\"\",\"\",'Liste Klasse 1'!O8)","v":""},{"$f":"IF('Liste Klasse 1'!P8=\"\",\"\",'Liste Klasse 1'!P8)","v":""},{"$f":"IF('Liste Klasse 1'!Q8=\"\",\"\",'Liste Klasse 1'!Q8)","v":""},{"$f":"IF('Liste Klasse 1'!R8=\"\",\"\",'Liste Klasse 1'!R8)","v":""},{"$f":"'Liste Klasse 1'!S8","v":0},{"$f":"'Liste Klasse 1'!T8","v":""},{"$f":"'Liste Klasse 1'!U8","v":0}]
[{"$f":"IF('Liste Klasse 1'!A9=\"\",\"\",'Liste Klasse 1'!A9&\" / \"&'Liste Klasse 1'!B9&\" / Klasse 1\")","v":""},{"$f":"IF('Liste Klasse 1'!C9=\"\",\"\",'Liste Klasse 1'!C9)","v":""},{"$f":"IF('Liste Klasse 1'!D9=\"\",\"\",'Liste Klasse 1'!D9&CHAR(10)&'Liste Klasse 1'!E9)","v":""},{"$f":"IF('Liste Klasse 1'!F9=\"\",\"\",'Liste Klasse 1'!F9&CHAR(10)&'Liste Klasse 1'!G9)","v":""},{"$f":"IF('Liste Klasse 1'!H9=\"\",\"\",'Liste Klasse 1'!H9)","v":""},{"$f":"IF('Liste Klasse 1'!I9=\"\",\"\",'Liste Klasse 1'!I9)","v":""},{"$f":"IF('Liste Klasse 1'!J9=\"\",\"\",'Liste Klasse 1'!J9)","v":""},{"$f":"IF('Liste Klasse 1'!K9=\"\",\"\",'Liste Klasse 1'!K9)","v":""},{"$f":"IF('Liste Klasse 1'!L9=\"\",\"\",'Liste Klasse 1'!L9)","v":""},{"$f":"IF('Liste Klasse 1'!M9=\"\",\"\",'Liste Klasse 1'!M9)","v":""},{"$f":"IF('Liste Klasse 1'!N9=\"\",\"\",'Liste Klasse 1'!N9)","v":""},{"$f":"IF('Liste Klasse 1'!O9=\"\",\"\",'Liste Klasse 1'!O9)","v":""},{"$f":"IF('Liste Klasse 1'!P9=\"\",\"\",'Liste Klasse 1'!P9)","v":""},{"$f":"IF('Liste Klasse 1'!Q9=\"\",\"\",'Liste Klasse 1'!Q9)","v":""},{"$f":"IF('Liste Klasse 1'!R9=\"\",\"\",'Liste Klasse 1'!R9)","v":""},{"$f":"'Liste Klasse 1'!S9","v":0},{"$f":"'Liste Klasse 1'!T9","v":""},{"$f":"'Liste Klasse 1'!U9","v":0}]
[{"$f":"IF('Liste Klasse 1'!A10=\"\",\"\",'Liste Klasse 1'!A10&\" / \"&'Liste Klasse 1'!B10&\" / Klasse 1\")","v":""},{"$f":"IF('Liste Klasse 1'!C10=\"\",\"\",'Liste Klasse 1'!C10)","v":""},{"$f":"IF('Liste Klasse 1'!D10=\"\",\"\",'Liste Klasse 1'!D10&CHAR(10)&'Liste Klasse 1'!E10)","v":""},{"$f":"IF('Liste Klasse 1'!F10=\"\",\"\",'Liste Klasse 1'!F10&CHAR(10)&'Liste Klasse 1'!G10)","v":""},{"$f":"IF('Liste Klasse 1'!H10=\"\",\"\",'Liste Klasse 1'!H10)","v":""},{"$f":"IF('Liste Klasse 1'!I10=\"\",\"\",'Liste Klasse 1'!I10)","v":""},{"$f":"IF('Liste Klasse 1'!J10=\"\",\"\",'Liste Klasse 1'!J10)","v":""},{"$f":"IF('Liste Klasse 1'!K10=\"\",\"\",'Liste Klasse 1'!K10)","v":""},{"$f":"IF('Liste Klasse 1'!L10=\"\",\"\",'Liste Klasse 1'!L10)","v":""},{"$f":"IF('Liste Klasse 1'!M10=\"\",\"\",'Liste Klasse 1'!M10)","v":""},{"$f":"IF('Liste Klasse 1'!N10=\"\",\"\",'Liste Klasse 1'!N10)","v":""},{"$f":"IF('Liste Klasse 1'!O10=\"\",\"\",'Liste Klasse 1'!O10)","v":""},{"$f":"IF('Liste Klasse 1'!P10=\"\",\"\",'Liste Klasse 1'!P10)","v":""},{"$f":"IF('Liste Klasse 1'!Q10=\"\",\"\",'Liste Klasse 1'!Q10)","v":""},{"$f":"IF('Liste Klasse 1'!R10=\"\",\"\",'Liste Klasse 1'!R10)","v":""},{"$f":"'Liste Klasse 1'!S10","v":0},{"$f":"'Liste Klasse 1'!T10","v":""},{"$f":"'Liste Klasse 1'!U10","v":0}]
[{"$f":"IF('Liste Klasse 1'!A11=\"\",\"\",'Liste Klasse 1'!A11&\" / \"&'Liste Klasse 1'!B11&\" / Klasse 1\")","v":""},{"$f":"IF('Liste Klasse 1'!C11=\"\",\"\",'Liste Klasse 1'!C11)","v":""},{"$f":"IF('Liste Klasse 1'!D11=\"\",\"\",'Liste Klasse 1'!D11&CHAR(10)&'Liste Klasse 1'!E11)","v":""},{"$f":"IF('Liste Klasse 1'!F11=\"\",\"\",'Liste Klasse 1'!F11&CHAR(10)&'Liste Klasse 1'!G11)","v":""},{"$f":"IF('Liste Klasse 1'!H11=\"\",\"\",'Liste Klasse 1'!H11)","v":""},{"$f":"IF('Liste Klasse 1'!I11=\"\",\"\",'Liste Klasse 1'!I11)","v":""},{"$f":"IF('Liste Klasse 1'!J11=\"\",\"\",'Liste Klasse 1'!J11)","v":""},{"$f":"IF('Liste Klasse 1'!K11=\"\",\"\",'Liste Klasse 1'!K11)","v":""},{"$f":"IF('Liste Klasse 1'!L11=\"\",\"\",'Liste Klasse 1'!L11)","v":""},{"$f":"IF('Liste Klasse 1'!M11=\"\",\"\",'Liste Klasse 1'!M11)","v":""},{"$f":"IF('Liste Klasse 1'!N11=\"\",\"\",'Liste Klasse 1'!N11)","v":""},{"$f":"IF('Liste Klasse 1'!O11=\"\",\"\",'Liste Klasse 1'!O11)","v":""},{"$f":"IF('Liste Klasse 1'!P11=\"\",\"\",'Liste Klasse 1'!P11)","v":""},{"$f":"IF('Liste Klasse 1'!Q11=\"\",\"\",'Liste Klasse 1'!Q11)","v":""},{"$f":"IF('Liste Klasse 1'!R11=\"\",\"\",'Liste Klasse 1'!R11)","v":""},{"$f":"'Liste Klasse 1'!S11","v":0},{"$f":"'Liste Klasse 1'!T11","v":""},{"$f":"'Liste Klasse 1'!U11","v":0}]
[{"$f":"IF('Liste Klasse 1'!A12=\"\",\"\",'Liste Klasse 1'!A12&\" / \"&'Liste Klasse 1'!B12&\" / Klasse 1\")","v":""},{"$f":"IF('Liste Klasse 1'!C12=\"\",\"\",'Liste Klasse 1'!C12)","v":""},{"$f":"IF('Liste Klasse 1'!D12=\"\",\"\",'Liste Klasse 1'!D12&CHAR(10)&'Liste Klasse 1'!E12)","v":""},{"$f":"IF('Liste Klasse 1'!F12=\"\",\"\",'Liste Klasse 1'!F12&CHAR(10)&'Liste Klasse 1'!G12)","v":""},{"$f":"IF('Liste Klasse 1'!H12=\"\",\"\",'Liste Klasse 1'!H12)","v":""},{"$f":"IF('Liste Klasse 1'!I12=\"\",\"\",'Liste Klasse 1'!I12)","v":""},{"$f":"IF('Liste Klasse 1'!J12=\"\",\"\",'Liste Klasse 1'!J12)","v":""},{"$f":"IF('Liste Klasse 1'!K12=\"\",\"\",'Liste Klasse 1'!K12)","v":""},{"$f":"IF('Liste Klasse 1'!L12=\"\",\"\",'Liste Klasse 1'!L12)","v":""},{"$f":"IF('Liste Klasse 1'!M12=\"\",\"\",'Liste Klasse 1'!M12)","v":""},{"$f":"IF('Liste Klasse 1'!N12=\"\",\"\",'Liste Klasse 1'!N12)","v":""},{"$f":"IF('Liste Klasse 1'!O12=\"\",\"\",'Liste Klasse 1'!O12)","v":""},{"$f":"IF('Liste Klasse 1'!P12=\"\",\"\",'Liste Klasse 1'!P12)","v":""},{"$f":"IF('Liste Klasse 1'!Q12=\"\",\"\",'Liste Klasse 1'!Q12)","v":""},{"$f":"IF('Liste Klasse 1'!R12=\"\",\"\",'Liste Klasse 1'!R12)","v":""},{"$f":"'Liste Klasse 1'!S12","v":0},{"$f":"'Liste Klasse 1'!T12","v":""},{"$f":"'Liste Klasse 1'!U12","v":0}]
[{"$f":"IF('Liste Klasse 1'!A13=\"\",\"\",'Liste Klasse 1'!A13&\" / \"&'Liste Klasse 1'!B13&\" / Klasse 1\")","v":""},{"$f":"IF('Liste Klasse 1'!C13=\"\",\"\",'Liste Klasse 1'!C13)","v":""},{"$f":"IF('Liste Klasse 1'!D13=\"\",\"\",'Liste Klasse 1'!D13&CHAR(10)&'Liste Klasse 1'!E13)","v":""},{"$f":"IF('Liste Klasse 1'!F13=\"\",\"\",'Liste Klasse 1'!F13&CHAR(10)&'Liste Klasse 1'!G13)","v":""},{"$f":"IF('Liste Klasse 1'!H13=\"\",\"\",'Liste Klasse 1'!H13)","v":""},{"$f":"IF('Liste Klasse 1'!I13=\"\",\"\",'Liste Klasse 1'!I13)","v":""},{"$f":"IF('Liste Klasse 1'!J13=\"\",\"\",'Liste Klasse 1'!J13)","v":""},{"$f":"IF('Liste Klasse 1'!K13=\"\",\"\",'Liste Klasse 1'!K13)","v":""},{"$f":"IF('Liste Klasse 1'!L13=\"\",\"\",'Liste Klasse 1'!L13)","v":""},{"$f":"IF('Liste Klasse 1'!M13=\"\",\"\",'Liste Klasse 1'!M13)","v":""},{"$f":"IF('Liste Klasse 1'!N13=\"\",\"\",'Liste Klasse 1'!N13)","v":""},{"$f":"IF('Liste Klasse 1'!O13=\"\",\"\",'Liste Klasse 1'!O13)","v":""},{"$f":"IF('Liste Klasse 1'!P13=\"\",\"\",'Liste Klasse 1'!P13)","v":""},{"$f":"IF('Liste Klasse 1'!Q13=\"\",\"\",'Liste Klasse 1'!Q13)","v":""},{"$f":"IF('Liste Klasse 1'!R13=\"\",\"\",'Liste Klasse 1'!R13)","v":""},{"$f":"'Liste Klasse 1'!S13","v":0},{"$f":"'Liste Klasse 1'!T13","v":""},{"$f":"'Liste Klasse 1'!U13","v":0}]
[{"$f":"IF('Liste Klasse 1'!A14=\"\",\"\",'Liste Klasse 1'!A14&\" / \"&'Liste Klasse 1'!B14&\" / Klasse 1\")","v":""},{"$f":"IF('Liste Klasse 1'!C14=\"\",\"\",'Liste Klasse 1'!C14)","v":""},{"$f":"IF('Liste Klasse 1'!D14=\"\",\"\",'Liste Klasse 1'!D14&CHAR(10)&'Liste Klasse 1'!E14)","v":""},{"$f":"IF('Liste Klasse 1'!F14=\"\",\"\",'Liste Klasse 1'!F14&CHAR(10)&'Liste Klasse 1'!G14)","v":""},{"$f":"IF('Liste Klasse 1'!H14=\"\",\"\",'Liste Klasse 1'!H14)","v":""},{"$f":"IF('Liste Klasse 1'!I14=\"\",\"\",'Liste Klasse 1'!I14)","v":""},{"$f":"IF('Liste Klasse 1'!J14=\"\",\"\",'Liste Klasse 1'!J14)","v":""},{"$f":"IF('Liste Klasse 1'!K14=\"\",\"\",'Liste Klasse 1'!K14)","v":""},{"$f":"IF('Liste Klasse 1'!L14=\"\",\"\",'Liste Klasse 1'!L14)","v":""},{"$f":"IF('Liste Klasse 1'!M14=\"\",\"\",'Liste Klasse 1'!M14)","v":""},{"$f":"IF('Liste Klasse 1'!N14=\"\",\"\",'Liste Klasse 1'!N14)","v":""},{"$f":"IF('Liste Klasse 1'!O14=\"\",\"\",'Liste Klasse 1'!O14)","v":""},{"$f":"IF('Liste Klasse 1'!P14=\"\",\"\",'Liste Klasse 1'!P14)","v":""},{"$f":"IF('Liste Klasse 1'!Q14=\"\",\"\",'Liste Klasse 1'!Q14)","v":""},{"$f":"IF('Liste Klasse 1'!R14=\"\",\"\",'Liste Klasse 1'!R14)","v":""},{"$f":"'Liste Klasse 1'!S14","v":0},{"$f":"'Liste Klasse 1'!T14","v":""},{"$f":"'Liste Klasse 1'!U14","v":0}]
[{"$f":"IF('Liste Klasse 1'!A15=\"\",\"\",'Liste Klasse 1'!A15&\" / \"&'Liste Klasse 1'!B15&\" / Klasse 1\")","v":""},{"$f":"IF('Liste Klasse 1'!C15=\"\",\"\",'Liste Klasse 1'!C15)","v":""},{"$f":"IF('Liste Klasse 1'!D15=\"\",\"\",'Liste Klasse 1'!D15&CHAR(10)&'Liste Klasse 1'!E15)","v":""},{"$f":"IF('Liste Klasse 1'!F15=\"\",\"\",'Liste Klasse 1'!F15&CHAR(10)&'Liste Klasse 1'!G15)","v":""},{"$f":"IF('Liste Klasse 1'!H15=\"\",\"\",'Liste Klasse 1'!H15)","v":""},{"$f":"IF('Liste Klasse 1'!I15=\"\",\"\",'Liste Klasse 1'!I15)","v":""},{"$f":"IF('Liste Klasse 1'!J15=\"\",\"\",'Liste Klasse 1'!J15)","v":""},{"$f":"IF('Liste Klasse 1'!K15=\"\",\"\",'Liste Klasse 1'!K15)","v":""},{"$f":"IF('Liste Klasse 1'!L15=\"\",\"\",'Liste Klasse 1'!L15)","v":""},{"$f":"IF('Liste Klasse 1'!M15=\"\",\"\",'Liste Klasse 1'!M15)","v":""},{"$f":"IF('Liste Klasse 1'!N15=\"\",\"\",'Liste Klasse 1'!N15)","v":""},{"$f":"IF('Liste Klasse 1'!O15=\"\",\"\",'Liste Klasse 1'!O15)","v":""},{"$f":"IF('Liste Klasse 1'!P15=\"\",\"\",'Liste Klasse 1'!P15)","v":""},{"$f":"IF('Liste Klasse 1'!Q15=\"\",\"\",'Liste Klasse 1'!Q15)","v":""},{"$f":"IF('Liste Klasse 1'!R15=\"\",\"\",'Liste Klasse 1'!R15)","v":""},{"$f":"'Liste Klasse 1'!S15","v":0},{"$f":"'Liste Klasse 1'!T15","v":""},{"$f":"'Liste Klasse 1'!U15","v":0}]
[{"$f":"IF('Liste Klasse 1'!A16=\"\",\"\",'Liste Klasse 1'!A16&\" / \"&'Liste Klasse 1'!B16&\" / Klasse 1\")","v":""},{"$f":"IF('Liste Klasse 1'!C16=\"\",\"\",'Liste Klasse 1'!C16)","v":""},{"$f":"IF('Liste Klasse 1'!D16=\"\",\"\",'Liste Klasse 1'!D16&CHAR(10)&'Liste Klasse 1'!E16)","v":""},{"$f":"IF('Liste Klasse 1'!F16=\"\",\"\",'Liste Klasse 1'!F16&CHAR(10)&'Liste Klasse 1'!G16)","v":""},{"$f":"IF('Liste Klasse 1'!H16=\"\",\"\",'Liste Klasse 1'!H16)","v":""},{"$f":"IF('Liste Klasse 1'!I16=\"\",\"\",'Liste Klasse 1'!I16)","v":""},{"$f":"IF('Liste Klasse 1'!J16=\"\",\"\",'Liste Klasse 1'!J16)","v":""},{"$f":"IF('Liste Klasse 1'!K16=\"\",\"\",'Liste Klasse 1'!K16)","v":""},{"$f":"IF('Liste Klasse 1'!L16=\"\",\"\",'Liste Klasse 1'!L16)","v":""},{"$f":"IF('Liste Klasse 1'!M16=\"\",\"\",'Liste Klasse 1'!M16)","v":""},{"$f":"IF('Liste Klasse 1'!N16=\"\",\"\",'Liste Klasse 1'!N16)","v":""},{"$f":"IF('Liste Klasse 1'!O16=\"\",\"\",'Liste Klasse 1'!O16)","v":""},{"$f":"IF('Liste Klasse 1'!P16=\"\",\"\",'Liste Klasse 1'!P16)","v":""},{"$f":"IF('Liste Klasse 1'!Q16=\"\",\"\",'Liste Klasse 1'!Q16)","v":""},{"$f":"IF('Liste Klasse 1'!R16=\"\",\"\",'Liste Klasse 1'!R16)","v":""},{"$f":"'Liste Klasse 1'!S16","v":0},{"$f":"'Liste Klasse 1'!T16","v":""},{"$f":"'Liste Klasse 1'!U16","v":0}]
[{"$f":"IF('Liste Klasse 1'!A17=\"\",\"\",'Liste Klasse 1'!A17&\" / \"&'Liste Klasse 1'!B17&\" / Klasse 1\")","v":""},{"$f":"IF('Liste Klasse 1'!C17=\"\",\"\",'Liste Klasse 1'!C17)","v":""},{"$f":"IF('Liste Klasse 1'!D17=\"\",\"\",'Liste Klasse 1'!D17&CHAR(10)&'Liste Klasse 1'!E17)","v":""},{"$f":"IF('Liste Klasse 1'!F17=\"\",\"\",'Liste Klasse 1'!F17&CHAR(10)&'Liste Klasse 1'!G17)","v":""},{"$f":"IF('Liste Klasse 1'!H17=\"\",\"\",'Liste Klasse 1'!H17)","v":""},{"$f":"IF('Liste Klasse 1'!I17=\"\",\"\",'Liste Klasse 1'!I17)","v":""},{"$f":"IF('Liste Klasse 1'!J17=\"\",\"\",'Liste Klasse 1'!J17)","v":""},{"$f":"IF('Liste Klasse 1'!K17=\"\",\"\",'Liste Klasse 1'!K17)","v":""},{"$f":"IF('Liste Klasse 1'!L17=\"\",\"\",'Liste Klasse 1'!L17)","v":""},{"$f":"IF('Liste Klasse 1'!M17=\"\",\"\",'Liste Klasse 1'!M17)","v":""},{"$f":"IF('Liste Klasse 1'!N17=\"\",\"\",'Liste Klasse 1'!N17)","v":""},{"$f":"IF('Liste Klasse 1'!O17=\"\",\"\",'Liste Klasse 1'!O17)","v":""},{"$f":"IF('Liste Klasse 1'!P17=\"\",\"\",'Liste Klasse 1'!P17)","v":""},{"$f":"IF('Liste Klasse 1'!Q17=\"\",\"\",'Liste Klasse 1'!Q17)","v":""},{"$f":"IF('Liste Klasse 1'!R17=\"\",\"\",'Liste Klasse 1'!R17)","v":""},{"$f":"'Liste Klasse 1'!S17","v":0},{"$f":"'Liste Klasse 1'!T17","v":""},{"$f":"'Liste Klasse 1'!U17","v":0}]
[{"$f":"IF('Liste Klasse 1'!A18=\"\",\"\",'Liste Klasse 1'!A18&\" / \"&'Liste Klasse 1'!B18&\" / Klasse 1\")","v":""},{"$f":"IF('Liste Klasse 1'!C18=\"\",\"\",'Liste Klasse 1'!C18)","v":""},{"$f":"IF('Liste Klasse 1'!D18=\"\",\"\",'Liste Klasse 1'!D18&CHAR(10)&'Liste Klasse 1'!E18)","v":""},{"$f":"IF('Liste Klasse 1'!F18=\"\",\"\",'Liste Klasse 1'!F18&CHAR(10)&'Liste Klasse 1'!G18)","v":""},{"$f":"IF('Liste Klasse 1'!H18=\"\",\"\",'Liste Klasse 1'!H18)","v":""},{"$f":"IF('Liste Klasse 1'!I18=\"\",\"\",'Liste Klasse 1'!I18)","v":""},{"$f":"IF('Liste Klasse 1'!J18=\"\",\"\",'Liste Klasse 1'!J18)","v":""},{"$f":"IF('Liste Klasse 1'!K18=\"\",\"\",'Liste Klasse 1'!K18)","v":""},{"$f":"IF('Liste Klasse 1'!L18=\"\",\"\",'Liste Klasse 1'!L18)","v":""},{"$f":"IF('Liste Klasse 1'!M18=\"\",\"\",'Liste Klasse 1'!M18)","v":""},{"$f":"IF('Liste Klasse 1'!N18=\"\",\"\",'Liste Klasse 1'!N18)","v":""},{"$f":"IF('Liste Klasse 1'!O18=\"\",\"\",'Liste Klasse 1'!O18)","v":""},{"$f":"IF('Liste Klasse 1'!P18=\"\",\"\",'Liste Klasse 1'!P18)","v":""},{"$f":"IF('Liste Klasse 1'!Q18=\"\",\"\",'Liste Klasse 1'!Q18)","v":""},{"$f":"IF('Liste Klasse 1'!R18=\"\",\"\",'Liste Klasse 1'!R18)","v":""},{"$f":"'Liste Klasse 1'!S18","v":0},{"$f":"'Liste Klasse 1'!T18","v":""},{"$f":"'Liste Klasse 1'!U18","v":0}]
[{"$f":"IF('Liste Klasse 1'!A19=\"\",\"\",'Liste Klasse 1'!A19&\" / \"&'Liste Klasse 1'!B19&\" / Klasse 1\")","v":""},{"$f":"IF('Liste Klasse 1'!C19=\"\",\"\",'Liste Klasse 1'!C19)","v":""},{"$f":"IF('Liste Klasse 1'!D19=\"\",\"\",'Liste Klasse 1'!D19&CHAR(10)&'Liste Klasse 1'!E19)","v":""},{"$f":"IF('Liste Klasse 1'!F19=\"\",\"\",'Liste Klasse 1'!F19&CHAR(10)&'Liste Klasse 1'!G19)","v":""},{"$f":"IF('Liste Klasse 1'!H19=\"\",\"\",'Liste Klasse 1'!H19)","v":""},{"$f":"IF('Liste Klasse 1'!I19=\"\",\"\",'Liste Klasse 1'!I19)","v":""},{"$f":"IF('Liste Klasse 1'!J19=\"\",\"\",'Liste Klasse 1'!J19)","v":""},{"$f":"IF('Liste Klasse 1'!K19=\"\",\"\",'Liste Klasse 1'!K19)","v":""},{"$f":"IF('Liste Klasse 1'!L19=\"\",\"\",'Liste Klasse 1'!L19)","v":""},{"$f":"IF('Liste Klasse 1'!M19=\"\",\"\",'Liste Klasse 1'!M19)","v":""},{"$f":"IF('Liste Klasse 1'!N19=\"\",\"\",'Liste Klasse 1'!N19)","v":""},{"$f":"IF('Liste Klasse 1'!O19=\"\",\"\",'Liste Klasse 1'!O19)","v":""},{"$f":"IF('Liste Klasse 1'!P19=\"\",\"\",'Liste Klasse 1'!P19)","v":""},{"$f":"IF('Liste Klasse 1'!Q19=\"\",\"\",'Liste Klasse 1'!Q19)","v":""},{"$f":"IF('Liste Klasse 1'!R19=\"\",\"\",'Liste Klasse 1'!R19)","v":""},{"$f":"'Liste Klasse 1'!S19","v":0},{"$f":"'Liste Klasse 1'!T19","v":""},{"$f":"'Liste Klasse 1'!U19","v":0}]
[{"$f":"IF('Liste Klasse 1'!A20=\"\",\"\",'Liste Klasse 1'!A20&\" / \"&'Liste Klasse 1'!B20&\" / Klasse 1\")","v":""},{"$f":"IF('Liste Klasse 1'!C20=\"\",\"\",'Liste Klasse 1'!C20)","v":""},{"$f":"IF('Liste Klasse 1'!D20=\"\",\"\",'Liste Klasse 1'!D20&CHAR(10)&'Liste Klasse 1'!E20)","v":""},{"$f":"IF('Liste Klasse 1'!F20=\"\",\"\",'Liste Klasse 1'!F20&CHAR(10)&'Liste Klasse 1'!G20)","v":""},{"$f":"IF('Liste Klasse 1'!H20=\"\",\"\",'Liste Klasse 1'!H20)","v":""},{"$f":"IF('Liste Klasse 1'!I20=\"\",\"\",'Liste Klasse 1'!I20)","v":""},{"$f":"IF('Liste Klasse 1'!J20=\"\",\"\",'Liste Klasse 1'!J20)","v":""},{"$f":"IF('Liste Klasse 1'!K20=\"\",\"\",'Liste Klasse 1'!K20)","v":""},{"$f":"IF('Liste Klasse 1'!L20=\"\",\"\",'Liste Klasse 1'!L20)","v":""},{"$f":"IF('Liste Klasse 1'!M20=\"\",\"\",'Liste Klasse 1'!M20)","v":""},{"$f":"IF('Liste Klasse 1'!N20=\"\",\"\",'Liste Klasse 1'!N20)","v":""},{"$f":"IF('Liste Klasse 1'!O20=\"\",\"\",'Liste Klasse 1'!O20)","v":""},{"$f":"IF('Liste Klasse 1'!P20=\"\",\"\",'Liste Klasse 1'!P20)","v":""},{"$f":"IF('Liste Klasse 1'!Q20=\"\",\"\",'Liste Klasse 1'!Q20)","v":""},{"$f":"IF('Liste Klasse 1'!R20=\"\",\"\",'Liste Klasse 1'!R20)","v":""},{"$f":"'Liste Klasse 1'!S20","v":0},{"$f":"'Liste Klasse 1'!T20","v":""},{"$f":"'Liste Klasse 1'!U20","v":0}]
[{"$f":"IF('Liste Klasse 1'!A21=\"\",\"\",'Liste Klasse 1'!A21&\" / \"&'Liste Klasse 1'!B21&\" / Klasse 1\")","v":""},{"$f":"IF('Liste Klasse 1'!C21=\"\",\"\",'Liste Klasse 1'!C21)","v":""},{"$f":"IF('Liste Klasse 1'!D21=\"\",\"\",'Liste Klasse 1'!D21&CHAR(10)&'Liste Klasse 1'!E21)","v":""},{"$f":"IF('Liste Klasse 1'!F21=\"\",\"\",'Liste Klasse 1'!F21&CHAR(10)&'Liste Klasse 1'!G21)","v":""},{"$f":"IF('Liste Klasse 1'!H21=\"\",\"\",'Liste Klasse 1'!H21)","v":""},{"$f":"IF('Liste Klasse 1'!I21=\"\",\"\",'Liste Klasse 1'!I21)","v":""},{"$f":"IF('Liste Klasse 1'!J21=\"\",\"\",'Liste Klasse 1'!J21)","v":""},{"$f":"IF('Liste Klasse 1'!K21=\"\",\"\",'Liste Klasse 1'!K21)","v":""},{"$f":"IF('Liste Klasse 1'!L21=\"\",\"\",'Liste Klasse 1'!L21)","v":""},{"$f":"IF('Liste Klasse 1'!M21=\"\",\"\",'Liste Klasse 1'!M21)","v":""},{"$f":"IF('Liste Klasse 1'!N21=\"\",\"\",'Liste Klasse 1'!N21)","v":""},{"$f":"IF('Liste Klasse 1'!O21=\"\",\"\",'Liste Klasse 1'!O21)","v":""},{"$f":"IF('Liste Klasse 1'!P21=\"\",\"\",'Liste Klasse 1'!P21)","v":""},{"$f":"IF('Liste Klasse 1'!Q21=\"\",\"\",'Liste Klasse 1'!Q21)","v":""},{"$f":"IF('Liste Klasse 1'!R21=\"\",\"\",'Liste Klasse 1'!R21)","v":""},{"$f":"'Liste Klasse 1'!S21","v":0},{"$f":"'Liste Klasse 1'!T21","v":""},{"$f":"'Liste Klasse 1'!U21","v":0}]
[{"$f":"IF('Liste Klasse 1'!A22=\"\",\"\",'Liste Klasse 1'!A22&\" / \"&'Liste Klasse 1'!B22&\" / Klasse 1\")","v":""},{"$f":"IF('Liste Klasse 1'!C22=\"\",\"\",'Liste Klasse 1'!C22)","v":""},{"$f":"IF('Liste Klasse 1'!D22=\"\",\"\",'Liste Klasse 1'!D22&CHAR(10)&'Liste Klasse 1'!E22)","v":""},{"$f":"IF('Liste Klasse 1'!F22=\"\",\"\",'Liste Klasse 1'!F22&CHAR(10)&'Liste Klasse 1'!G22)","v":""},{"$f":"IF('Liste Klasse 1'!H22=\"\",\"\",'Liste Klasse 1'!H22)","v":""},{"$f":"IF('Liste Klasse 1'!I22=\"\",\"\",'Liste Klasse 1'!I22)","v":""},{"$f":"IF('Liste Klasse 1'!J22=\"\",\"\",'Liste Klasse 1'!J22)","v":""},{"$f":"IF('Liste Klasse 1'!K22=\"\",\"\",'Liste Klasse 1'!K22)","v":""},{"$f":"IF('Liste Klasse 1'!L22=\"\",\"\",'Liste Klasse 1'!L22)","v":""},{"$f":"IF('Liste Klasse 1'!M22=\"\",\"\",'Liste Klasse 1'!M22)","v":""},{"$f":"IF('Liste Klasse 1'!N22=\"\",\"\",'Liste Klasse 1'!N22)","v":""},{"$f":"IF('Liste Klasse 1'!O22=\"\",\"\",'Liste Klasse 1'!O22)","v":""},{"$f":"IF('Liste Klasse 1'!P22=\"\",\"\",'Liste Klasse 1'!P22)","v":""},{"$f":"IF('Liste Klasse 1'!Q22=\"\",\"\",'Liste Klasse 1'!Q22)","v":""},{"$f":"IF('Liste Klasse 1'!R22=\"\",\"\",'Liste Klasse 1'!R22)","v":""},{"$f":"'Liste Klasse 1'!S22","v":0},{"$f":"'Liste Klasse 1'!T22","v":""},{"$f":"'Liste Klasse 1'!U22","v":0}]
[{"$f":"IF('Liste Klasse 1'!A23=\"\",\"\",'Liste Klasse 1'!A23&\" / \"&'Liste Klasse 1'!B23&\" / Klasse 1\")","v":""},{"$f":"IF('Liste Klasse 1'!C23=\"\",\"\",'Liste Klasse 1'!C23)","v":""},{"$f":"IF('Liste Klasse 1'!D23=\"\",\"\",'Liste Klasse 1'!D23&CHAR(10)&'Liste Klasse 1'!E23)","v":""},{"$f":"IF('Liste Klasse 1'!F23=\"\",\"\",'Liste Klasse 1'!F23&CHAR(10)&'Liste Klasse 1'!G23)","v":""},{"$f":"IF('Liste Klasse 1'!H23=\"\",\"\",'Liste Klasse 1'!H23)","v":""},{"$f":"IF('Liste Klasse 1'!I23=\"\",\"\",'Liste Klasse 1'!I23)","v":""},{"$f":"IF('Liste Klasse 1'!J23=\"\",\"\",'Liste Klasse 1'!J23)","v":""},{"$f":"IF('Liste Klasse 1'!K23=\"\",\"\",'Liste Klasse 1'!K23)","v":""},{"$f":"IF('Liste Klasse 1'!L23=\"\",\"\",'Liste Klasse 1'!L23)","v":""},{"$f":"IF('Liste Klasse 1'!M23=\"\",\"\",'Liste Klasse 1'!M23)","v":""},{"$f":"IF('Liste Klasse 1'!N23=\"\",\"\",'Liste Klasse 1'!N23)","v":""},{"$f":"IF('Liste Klasse 1'!O23=\"\",\"\",'Liste Klasse 1'!O23)","v":""},{"$f":"IF('Liste Klasse 1'!P23=\"\",\"\",'Liste Klasse 1'!P23)","v":""},{"$f":"IF('Liste Klasse 1'!Q23=\"\",\"\",'Liste Klasse 1'!Q23)","v":""},{"$f":"IF('Liste Klasse 1'!R23=\"\",\"\",'Liste Klasse 1'!R23)","v":""},{"$f":"'Liste Klasse 1'!S23","v":0},{"$f":"'Liste Klasse 1'!T23","v":""},{"$f":"'Liste Klasse 1'!U23","v":0}]
[{"$f":"IF('Liste Klasse 1'!A24=\"\",\"\",'Liste Klasse 1'!A24&\" / \"&'Liste Klasse 1'!B24&\" / Klasse 1\")","v":""},{"$f":"IF('Liste Klasse 1'!C24=\"\",\"\",'Liste Klasse 1'!C24)","v":""},{"$f":"IF('Liste Klasse 1'!D24=\"\",\"\",'Liste Klasse 1'!D24&CHAR(10)&'Liste Klasse 1'!E24)","v":""},{"$f":"IF('Liste Klasse 1'!F24=\"\",\"\",'Liste Klasse 1'!F24&CHAR(10)&'Liste Klasse 1'!G24)","v":""},{"$f":"IF('Liste Klasse 1'!H24=\"\",\"\",'Liste Klasse 1'!H24)","v":""},{"$f":"IF('Liste Klasse 1'!I24=\"\",\"\",'Liste Klasse 1'!I24)","v":""},{"$f":"IF('Liste Klasse 1'!J24=\"\",\"\",'Liste Klasse 1'!J24)","v":""},{"$f":"IF('Liste Klasse 1'!K24=\"\",\"\",'Liste Klasse 1'!K24)","v":""},{"$f":"IF('Liste Klasse 1'!L24=\"\",\"\",'Liste Klasse 1'!L24)","v":""},{"$f":"IF('Liste Klasse 1'!M24=\"\",\"\",'Liste Klasse 1'!M24)","v":""},{"$f":"IF('Liste Klasse 1'!N24=\"\",\"\",'Liste Klasse 1'!N24)","v":""},{"$f":"IF('Liste Klasse 1'!O24=\"\",\"\",'Liste Klasse 1'!O24)","v":""},{"$f":"IF('Liste Klasse 1'!P24=\"\",\"\",'Liste Klasse 1'!P24)","v":""},{"$f":"IF('Liste Klasse 1'!Q24=\"\",\"\",'Liste Klasse 1'!Q24)","v":""},{"$f":"IF('Liste Klasse 1'!R24=\"\",\"\",'Liste Klasse 1'!R24)","v":""},{"$f":"'Liste Klasse 1'!S24","v":0},{"$f":"'Liste Klasse 1'!T24","v":""},{"$f":"'Liste Klasse 1'!U24","v":0}]
[{"$f":"IF('Liste Klasse 1'!A25=\"\",\"\",'Liste Klasse 1'!A25&\" / \"&'Liste Klasse 1'!B25&\" / Klasse 1\")","v":""},{"$f":"IF('Liste Klasse 1'!C25=\"\",\"\",'Liste Klasse 1'!C25)","v":""},{"$f":"IF('Liste Klasse 1'!D25=\"\",\"\",'Liste Klasse 1'!D25&CHAR(10)&'Liste Klasse 1'!E25)","v":""},{"$f":"IF('Liste Klasse 1'!F25=\"\",\"\",'Liste Klasse 1'!F25&CHAR(10)&'Liste Klasse 1'!G25)","v":""},{"$f":"IF('Liste Klasse 1'!H25=\"\",\"\",'Liste Klasse 1'!H25)","v":""},{"$f":"IF('Liste Klasse 1'!I25=\"\",\"\",'Liste Klasse 1'!I25)","v":""},{"$f":"IF('Liste Klasse 1'!J25=\"\",\"\",'Liste Klasse 1'!J25)","v":""},{"$f":"IF('Liste Klasse 1'!K25=\"\",\"\",'Liste Klasse 1'!K25)","v":""},{"$f":"IF('Liste Klasse 1'!L25=\"\",\"\",'Liste Klasse 1'!L25)","v":""},{"$f":"IF('Liste Klasse 1'!M25=\"\",\"\",'Liste Klasse 1'!M25)","v":""},{"$f":"IF('Liste Klasse 1'!N25=\"\",\"\",'Liste Klasse 1'!N25)","v":""},{"$f":"IF('Liste Klasse 1'!O25=\"\",\"\",'Liste Klasse 1'!O25)","v":""},{"$f":"IF('Liste Klasse 1'!P25=\"\",\"\",'Liste Klasse 1'!P25)","v":""},{"$f":"IF('Liste Klasse 1'!Q25=\"\",\"\",'Liste Klasse 1'!Q25)","v":""},{"$f":"IF('Liste Klasse 1'!R25=\"\",\"\",'Liste Klasse 1'!R25)","v":""},{"$f":"'Liste Klasse 1'!S25","v":0},{"$f":"'Liste Klasse 1'!T25","v":""},{"$f":"'Liste Klasse 1'!U25","v":0}]
[{"$f":"IF('Liste Klasse 1'!A26=\"\",\"\",'Liste Klasse 1'!A26&\" / \"&'Liste Klasse 1'!B26&\" / Klasse 1\")","v":""},{"$f":"IF('Liste Klasse 1'!C26=\"\",\"\",'Liste Klasse 1'!C26)","v":""},{"$f":"IF('Liste Klasse 1'!D26=\"\",\"\",'Liste Klasse 1'!D26&CHAR(10)&'Liste Klasse 1'!E26)","v":""},{"$f":"IF('Liste Klasse 1'!F26=\"\",\"\",'Liste Klasse 1'!F26&CHAR(10)&'Liste Klasse 1'!G26)","v":""},{"$f":"IF('Liste Klasse 1'!H26=\"\",\"\",'Liste Klasse 1'!H26)","v":""},{"$f":"IF('Liste Klasse 1'!I26=\"\",\"\",'Liste Klasse 1'!I26)","v":""},{"$f":"IF('Liste Klasse 1'!J26=\"\",\"\",'Liste Klasse 1'!J26)","v":""},{"$f":"IF('Liste Klasse 1'!K26=\"\",\"\",'Liste Klasse 1'!K26)","v":""},{"$f":"IF('Liste Klasse 1'!L26=\"\",\"\",'Liste Klasse 1'!L26)","v":""},{"$f":"IF('Liste Klasse 1'!M26=\"\",\"\",'Liste Klasse 1'!M26)","v":""},{"$f":"IF('Liste Klasse 1'!N26=\"\",\"\",'Liste Klasse 1'!N26)","v":""},{"$f":"IF('Liste Klasse 1'!O26=\"\",\"\",'Liste Klasse 1'!O26)","v":""},{"$f":"IF('Liste Klasse 1'!P26=\"\",\"\",'Liste Klasse 1'!P26)","v":""},{"$f":"IF('Liste Klasse 1'!Q26=\"\",\"\",'Liste Klasse 1'!Q26)","v":""},{"$f":"IF('Liste Klasse 1'!R26=\"\",\"\",'Liste Klasse 1'!R26)","v":""},{"$f":"'Liste Klasse 1'!S26","v":0},{"$f":"'Liste Klasse 1'!T26","v":""},{"$f":"'Liste Klasse 1'!U26","v":0}]
[{"$f":"IF('Liste Klasse 1'!A27=\"\",\"\",'Liste Klasse 1'!A27&\" / \"&'Liste Klasse 1'!B27&\" / Klasse 1\")","v":""},{"$f":"IF('Liste Klasse 1'!C27=\"\",\"\",'Liste Klasse 1'!C27)","v":""},{"$f":"IF('Liste Klasse 1'!D27=\"\",\"\",'Liste Klasse 1'!D27&CHAR(10)&'Liste Klasse 1'!E27)","v":""},{"$f":"IF('Liste Klasse 1'!F27=\"\",\"\",'Liste Klasse 1'!F27&CHAR(10)&'Liste Klasse 1'!G27)","v":""},{"$f":"IF('Liste Klasse 1'!H27=\"\",\"\",'Liste Klasse 1'!H27)","v":""},{"$f":"IF('Liste Klasse 1'!I27=\"\",\"\",'Liste Klasse 1'!I27)","v":""},{"$f":"IF('Liste Klasse 1'!J27=\"\",\"\",'Liste Klasse 1'!J27)","v":""},{"$f":"IF('Liste Klasse 1'!K27=\"\",\"\",'Liste Klasse 1'!K27)","v":""},{"$f":"IF('Liste Klasse 1'!L27=\"\",\"\",'Liste Klasse 1'!L27)","v":""},{"$f":"IF('Liste Klasse 1'!M27=\"\",\"\",'Liste Klasse 1'!M27)","v":""},{"$f":"IF('Liste Klasse 1'!N27=\"\",\"\",'Liste Klasse 1'!N27)","v":""},{"$f":"IF('Liste Klasse 1'!O27=\"\",\"\",'Liste Klasse 1'!O27)","v":""},{"$f":"IF('Liste Klasse 1'!P27=\"\",\"\",'Liste Klasse 1'!P27)","v":""},{"$f":"IF('Liste Klasse 1'!Q27=\"\",\"\",'Liste Klasse 1'!Q27)","v":""},{"$f":"IF('Liste Klasse 1'!R27=\"\",\"\",'Liste Klasse 1'!R27)","v":""},{"$f":"'Liste Klasse 1'!S27","v":0},{"$f":"'Liste Klasse 1'!T27","v":""},{"$f":"'Liste Klasse 1'!U27","v":0}]
[{"$f":"IF('Liste Klasse 1'!A28=\"\",\"\",'Liste Klasse 1'!A28&\" / \"&'Liste Klasse 1'!B28&\" / Klasse 1\")","v":""},{"$f":"IF('Liste Klasse 1'!C28=\"\",\"\",'Liste Klasse 1'!C28)","v":""},{"$f":"IF('Liste Klasse 1'!D28=\"\",\"\",'Liste Klasse 1'!D28&CHAR(10)&'Liste Klasse 1'!E28)","v":""},{"$f":"IF('Liste Klasse 1'!F28=\"\",\"\",'Liste Klasse 1'!F28&CHAR(10)&'Liste Klasse 1'!G28)","v":""},{"$f":"IF('Liste Klasse 1'!H28=\"\",\"\",'Liste Klasse 1'!H28)","v":""},{"$f":"IF('Liste Klasse 1'!I28=\"\",\"\",'Liste Klasse 1'!I28)","v":""},{"$f":"IF('Liste Klasse 1'!J28=\"\",\"\",'Liste Klasse 1'!J28)","v":""},{"$f":"IF('Liste Klasse 1'!K28=\"\",\"\",'Liste Klasse 1'!K28)","v":""},{"$f":"IF('Liste Klasse 1'!L28=\"\",\"\",'Liste Klasse 1'!L28)","v":""},{"$f":"IF('Liste Klasse 1'!M28=\"\",\"\",'Liste Klasse 1'!M28)","v":""},{"$f":"IF('Liste Klasse 1'!N28=\"\",\"\",'Liste Klasse 1'!N28)","v":""},{"$f":"IF('Liste Klasse 1'!O28=\"\",\"\",'Liste Klasse 1'!O28)","v":""},{"$f":"IF('Liste Klasse 1'!P28=\"\",\"\",'Liste Klasse 1'!P28)","v":""},{"$f":"IF('Liste Klasse 1'!Q28=\"\",\"\",'Liste Klasse 1'!Q28)","v":""},{"$f":"IF('Liste Klasse 1'!R28=\"\",\"\",'Liste Klasse 1'!R28)","v":""},{"$f":"'Liste Klasse 1'!S28","v":0},{"$f":"'Liste Klasse 1'!T28","v":""},{"$f":"'Liste Klasse 1'!U28","v":0}]
[{"$f":"IF('Liste Klasse 1'!A29=\"\",\"\",'Liste Klasse 1'!A29&\" / \"&'Liste Klasse 1'!B29&\" / Klasse 1\")","v":""},{"$f":"IF('Liste Klasse 1'!C29=\"\",\"\",'Liste Klasse 1'!C29)","v":""},{"$f":"IF('Liste Klasse 1'!D29=\"\",\"\",'Liste Klasse 1'!D29&CHAR(10)&'Liste Klasse 1'!E29)","v":""},{"$f":"IF('Liste Klasse 1'!F29=\"\",\"\",'Liste Klasse 1'!F29&CHAR(10)&'Liste Klasse 1'!G29)","v":""},{"$f":"IF('Liste Klasse 1'!H29=\"\",\"\",'Liste Klasse 1'!H29)","v":""},{"$f":"IF('Liste Klasse 1'!I29=\"\",\"\",'Liste Klasse 1'!I29)","v":""},{"$f":"IF('Liste Klasse 1'!J29=\"\",\"\",'Liste Klasse 1'!J29)","v":""},{"$f":"IF('Liste Klasse 1'!K29=\"\",\"\",'Liste Klasse 1'!K29)","v":""},{"$f":"IF('Liste Klasse 1'!L29=\"\",\"\",'Liste Klasse 1'!L29)","v":""},{"$f":"IF('Liste Klasse 1'!M29=\"\",\"\",'Liste Klasse 1'!M29)","v":""},{"$f":"IF('Liste Klasse 1'!N29=\"\",\"\",'Liste Klasse 1'!N29)","v":""},{"$f":"IF('Liste Klasse 1'!O29=\"\",\"\",'Liste Klasse 1'!O29)","v":""},{"$f":"IF('Liste Klasse 1'!P29=\"\",\"\",'Liste Klasse 1'!P29)","v":""},{"$f":"IF('Liste Klasse 1'!Q29=\"\",\"\",'Liste Klasse 1'!Q29)","v":""},{"$f":"IF('Liste Klasse 1'!R29=\"\",\"\",'Liste Klasse 1'!R29)","v":""},{"$f":"'Liste Klasse 1'!S29","v":0},{"$f":"'Liste Klasse 1'!T29","v":""},{"$f":"'Liste Klasse 1'!U29","v":0}]
[{"$f":"IF('Liste Klasse 1'!A30=\"\",\"\",'Liste Klasse 1'!A30&\" / \"&'Liste Klasse 1'!B30&\" / Klasse 1\")","v":""},{"$f":"IF('Liste Klasse 1'!C30=\"\",\"\",'Liste Klasse 1'!C30)","v":""},{"$f":"IF('Liste Klasse 1'!D30=\"\",\"\",'Liste Klasse 1'!D30&CHAR(10)&'Liste Klasse 1'!E30)","v":""},{"$f":"IF('Liste Klasse 1'!F30=\"\",\"\",'Liste Klasse 1'!F30&CHAR(10)&'Liste Klasse 1'!G30)","v":""},{"$f":"IF('Liste Klasse 1'!H30=\"\",\"\",'Liste Klasse 1'!H30)","v":""},{"$f":"IF('Liste Klasse 1'!I30=\"\",\"\",'Liste Klasse 1'!I30)","v":""},{"$f":"IF('Liste Klasse 1'!J30=\"\",\"\",'Liste Klasse 1'!J30)","v":""},{"$f":"IF('Liste Klasse 1'!K30=\"\",\"\",'Liste Klasse 1'!K30)","v":""},{"$f":"IF('Liste Klasse 1'!L30=\"\",\"\",'Liste Klasse 1'!L30)","v":""},{"$f":"IF('Liste Klasse 1'!M30=\"\",\"\",'Liste Klasse 1'!M30)","v":""},{"$f":"IF('Liste Klasse 1'!N30=\"\",\"\",'Liste Klasse 1'!N30)","v":""},{"$f":"IF('Liste Klasse 1'!O30=\"\",\"\",'Liste Klasse 1'!O30)","v":""},{"$f":"IF('Liste Klasse 1'!P30=\"\",\"\",'Liste Klasse 1'!P30)","v":""},{"$f":"IF('Liste Klasse 1'!Q30=\"\",\"\",'Liste Klasse 1'!Q30)","v":""},{"$f":"IF('Liste Klasse 1'!R30=\"\",\"\",'Liste Klasse 1'!R30)","v":""},{"$f":"'Liste Klasse 1'!S30","v":0},{"$f":"'Liste Klasse 1'!T30","v":""},{"$f":"'Liste Klasse 1'!U30","v":0}]
[{"$f":"IF('Liste Klasse 1'!A31=\"\",\"\",'Liste Klasse 1'!A31&\" / \"&'Liste Klasse 1'!B31&\" / Klasse 1\")","v":""},{"$f":"IF('Liste Klasse 1'!C31=\"\",\"\",'Liste Klasse 1'!C31)","v":""},{"$f":"IF('Liste Klasse 1'!D31=\"\",\"\",'Liste Klasse 1'!D31&CHAR(10)&'Liste Klasse 1'!E31)","v":""},{"$f":"IF('Liste Klasse 1'!F31=\"\",\"\",'Liste Klasse 1'!F31&CHAR(10)&'Liste Klasse 1'!G31)","v":""},{"$f":"IF('Liste Klasse 1'!H31=\"\",\"\",'Liste Klasse 1'!H31)","v":""},{"$f":"IF('Liste Klasse 1'!I31=\"\",\"\",'Liste Klasse 1'!I31)","v":""},{"$f":"IF('Liste Klasse 1'!J31=\"\",\"\",'Liste Klasse 1'!J31)","v":""},{"$f":"IF('Liste Klasse 1'!K31=\"\",\"\",'Liste Klasse 1'!K31)","v":""},{"$f":"IF('Liste Klasse 1'!L31=\"\",\"\",'Liste Klasse 1'!L31)","v":""},{"$f":"IF('Liste Klasse 1'!M31=\"\",\"\",'Liste Klasse 1'!M31)","v":""},{"$f":"IF('Liste Klasse 1'!N31=\"\",\"\",'Liste Klasse 1'!N31)","v":""},{"$f":"IF('Liste Klasse 1'!O31=\"\",\"\",'Liste Klasse 1'!O31)","v":""},{"$f":"IF('Liste Klasse 1'!P31=\"\",\"\",'Liste Klasse 1'!P31)","v":""},{"$f":"IF('Liste Klasse 1'!Q31=\"\",\"\",'Liste Klasse 1'!Q31)","v":""},{"$f":"IF('Liste Klasse 1'!R31=\"\",\"\",'Liste Klasse 1'!R31)","v":""},{"$f":"'Liste Klasse 1'!S31","v":0},{"$f":"'Liste Klasse 1'!T31","v":""},{"$f":"'Liste Klasse 1'!U31","v":0}]
[{"$f":"IF('Liste Klasse 1'!A32=\"\",\"\",'Liste Klasse 1'!A32&\" / \"&'Liste Klasse 1'!B32&\" / Klasse 1\")","v":""},{"$f":"IF('Liste Klasse 1'!C32=\"\",\"\",'Liste Klasse 1'!C32)","v":""},{"$f":"IF('Liste Klasse 1'!D32=\"\",\"\",'Liste Klasse 1'!D32&CHAR(10)&'Liste Klasse 1'!E32)","v":""},{"$f":"IF('Liste Klasse 1'!F32=\"\",\"\",'Liste Klasse 1'!F32&CHAR(10)&'Liste Klasse 1'!G32)","v":""},{"$f":"IF('Liste Klasse 1'!H32=\"\",\"\",'Liste Klasse 1'!H32)","v":""},{"$f":"IF('Liste Klasse 1'!I32=\"\",\"\",'Liste Klasse 1'!I32)","v":""},{"$f":"IF('Liste Klasse 1'!J32=\"\",\"\",'Liste Klasse 1'!J32)","v":""},{"$f":"IF('Liste Klasse 1'!K32=\"\",\"\",'Liste Klasse 1'!K32)","v":""},{"$f":"IF('Liste Klasse 1'!L32=\"\",\"\",'Liste Klasse 1'!L32)","v":""},{"$f":"IF('Liste Klasse 1'!M32=\"\",\"\",'Liste Klasse 1'!M32)","v":""},{"$f":"IF('Liste Klasse 1'!N32=\"\",\"\",'Liste Klasse 1'!N32)","v":""},{"$f":"IF('Liste Klasse 1'!O32=\"\",\"\",'Liste Klasse 1'!O32)","v":""},{"$f":"IF('Liste Klasse 1'!P32=\"\",\"\",'Liste Klasse 1'!P32)","v":""},{"$f":"IF('Liste Klasse 1'!Q32=\"\",\"\",'Liste Klasse 1'!Q32)","v":""},{"$f":"IF('Liste Klasse 1'!R32=\"\",\"\",'Liste Klasse 1'!R32)","v":""},{"$f":"'Liste Klasse 1'!S32","v":0},{"$f":"'Liste Klasse 1'!T32","v":""},{"$f":"'Liste Klasse 1'!U32","v":0}]
[{"$f":"IF('Liste Klasse 1'!A33=\"\",\"\",'Liste Klasse 1'!A33&\" / \"&'Liste Klasse 1'!B33&\" / Klasse 1\")","v":""},{"$f":"IF('Liste Klasse 1'!C33=\"\",\"\",'Liste Klasse 1'!C33)","v":""},{"$f":"IF('Liste Klasse 1'!D33=\"\",\"\",'Liste Klasse 1'!D33&CHAR(10)&'Liste Klasse 1'!E33)","v":""},{"$f":"IF('Liste Klasse 1'!F33=\"\",\"\",'Liste Klasse 1'!F33&CHAR(10)&'Liste Klasse 1'!G33)","v":""},{"$f":"IF('Liste Klasse 1'!H33=\"\",\"\",'Liste Klasse 1'!H33)","v":""},{"$f":"IF('Liste Klasse 1'!I33=\"\",\"\",'Liste Klasse 1'!I33)","v":""},{"$f":"IF('Liste Klasse 1'!J33=\"\",\"\",'Liste Klasse 1'!J33)","v":""},{"$f":"IF('Liste Klasse 1'!K33=\"\",\"\",'Liste Klasse 1'!K33)","v":""},{"$f":"IF('Liste Klasse 1'!L33=\"\",\"\",'Liste Klasse 1'!L33)","v":""},{"$f":"IF('Liste Klasse 1'!M33=\"\",\"\",'Liste Klasse 1'!M33)","v":""},{"$f":"IF('Liste Klasse 1'!N33=\"\",\"\",'Liste Klasse 1'!N33)","v":""},{"$f":"IF('Liste Klasse 1'!O33=\"\",\"\",'Liste Klasse 1'!O33)","v":""},{"$f":"IF('Liste Klasse 1'!P33=\"\",\"\",'Liste Klasse 1'!P33)","v":""},{"$f":"IF('Liste Klasse 1'!Q33=\"\",\"\",'Liste Klasse 1'!Q33)","v":""},{"$f":"IF('Liste Klasse 1'!R33=\"\",\"\",'Liste Klasse 1'!R33)","v":""},{"$f":"'Liste Klasse 1'!S33","v":0},{"$f":"'Liste Klasse 1'!T33","v":""},{"$f":"'Liste Klasse 1'!U33","v":0}]
[{"$f":"IF('Liste Klasse 1'!A34=\"\",\"\",'Liste Klasse 1'!A34&\" / \"&'Liste Klasse 1'!B34&\" / Klasse 1\")","v":""},{"$f":"IF('Liste Klasse 1'!C34=\"\",\"\",'Liste Klasse 1'!C34)","v":""},{"$f":"IF('Liste Klasse 1'!D34=\"\",\"\",'Liste Klasse 1'!D34&CHAR(10)&'Liste Klasse 1'!E34)","v":""},{"$f":"IF('Liste Klasse 1'!F34=\"\",\"\",'Liste Klasse 1'!F34&CHAR(10)&'Liste Klasse 1'!G34)","v":""},{"$f":"IF('Liste Klasse 1'!H34=\"\",\"\",'Liste Klasse 1'!H34)","v":""},{"$f":"IF('Liste Klasse 1'!I34=\"\",\"\",'Liste Klasse 1'!I34)","v":""},{"$f":"IF('Liste Klasse 1'!J34=\"\",\"\",'Liste Klasse 1'!J34)","v":""},{"$f":"IF('Liste Klasse 1'!K34=\"\",\"\",'Liste Klasse 1'!K34)","v":""},{"$f":"IF('Liste Klasse 1'!L34=\"\",\"\",'Liste Klasse 1'!L34)","v":""},{"$f":"IF('Liste Klasse 1'!M34=\"\",\"\",'Liste Klasse 1'!M34)","v":""},{"$f":"IF('Liste Klasse 1'!N34=\"\",\"\",'Liste Klasse 1'!N34)","v":""},{"$f":"IF('Liste Klasse 1'!O34=\"\",\"\",'Liste Klasse 1'!O34)","v":""},{"$f":"IF('Liste Klasse 1'!P34=\"\",\"\",'Liste Klasse 1'!P34)","v":""},{"$f":"IF('Liste Klasse 1'!Q34=\"\",\"\",'Liste Klasse 1'!Q34)","v":""},{"$f":"IF('Liste Klasse 1'!R34=\"\",\"\",'Liste Klasse 1'!R34)","v":""},{"$f":"'Liste Klasse 1'!S34","v":0},{"$f":"'Liste Klasse 1'!T34","v":""},{"$f":"'Liste Klasse 1'!U34","v":0}]
[{"$f":"IF('Liste Klasse 1'!A35=\"\",\"\",'Liste Klasse 1'!A35&\" / \"&'Liste Klasse 1'!B35&\" / Klasse 1\")","v":""},{"$f":"IF('Liste Klasse 1'!C35=\"\",\"\",'Liste Klasse 1'!C35)","v":""},{"$f":"IF('Liste Klasse 1'!D35=\"\",\"\",'Liste Klasse 1'!D35&CHAR(10)&'Liste Klasse 1'!E35)","v":""},{"$f":"IF('Liste Klasse 1'!F35=\"\",\"\",'Liste Klasse 1'!F35&CHAR(10)&'Liste Klasse 1'!G35)","v":""},{"$f":"IF('Liste Klasse 1'!H35=\"\",\"\",'Liste Klasse 1'!H35)","v":""},{"$f":"IF('Liste Klasse 1'!I35=\"\",\"\",'Liste Klasse 1'!I35)","v":""},{"$f":"IF('Liste Klasse 1'!J35=\"\",\"\",'Liste Klasse 1'!J35)","v":""},{"$f":"IF('Liste Klasse 1'!K35=\"\",\"\",'Liste Klasse 1'!K35)","v":""},{"$f":"IF('Liste Klasse 1'!L35=\"\",\"\",'Liste Klasse 1'!L35)","v":""},{"$f":"IF('Liste Klasse 1'!M35=\"\",\"\",'Liste Klasse 1'!M35)","v":""},{"$f":"IF('Liste Klasse 1'!N35=\"\",\"\",'Liste Klasse 1'!N35)","v":""},{"$f":"IF('Liste Klasse 1'!O35=\"\",\"\",'Liste Klasse 1'!O35)","v":""},{"$f":"IF('Liste Klasse 1'!P35=\"\",\"\",'Liste Klasse 1'!P35)","v":""},{"$f":"IF('Liste Klasse 1'!Q35=\"\",\"\",'Liste Klasse 1'!Q35)","v":""},{"$f":"IF('Liste Klasse 1'!R35=\"\",\"\",'Liste Klasse 1'!R35)","v":""},{"$f":"'Liste Klasse 1'!S35","v":0},{"$f":"'Liste Klasse 1'!T35","v":""},{"$f":"'Liste Klasse 1'!U35","v":0}]
[{"$f":"IF('Liste Klasse 1'!A36=\"\",\"\",'Liste Klasse 1'!A36&\" / \"&'Liste Klasse 1'!B36&\" / Klasse 1\")","v":""},{"$f":"IF('Liste Klasse 1'!C36=\"\",\"\",'Liste Klasse 1'!C36)","v":""},{"$f":"IF('Liste Klasse 1'!D36=\"\",\"\",'Liste Klasse 1'!D36&CHAR(10)&'Liste Klasse 1'!E36)","v":""},{"$f":"IF('Liste Klasse 1'!F36=\"\",\"\",'Liste Klasse 1'!F36&CHAR(10)&'Liste Klasse 1'!G36)","v":""},{"$f":"IF('Liste Klasse 1'!H36=\"\",\"\",'Liste Klasse 1'!H36)","v":""},{"$f":"IF('Liste Klasse 1'!I36=\"\",\"\",'Liste Klasse 1'!I36)","v":""},{"$f":"IF('Liste Klasse 1'!J36=\"\",\"\",'Liste Klasse 1'!J36)","v":""},{"$f":"IF('Liste Klasse 1'!K36=\"\",\"\",'Liste Klasse 1'!K36)","v":""},{"$f":"IF('Liste Klasse 1'!L36=\"\",\"\",'Liste Klasse 1'!L36)","v":""},{"$f":"IF('Liste Klasse 1'!M36=\"\",\"\",'Liste Klasse 1'!M36)","v":""},{"$f":"IF('Liste Klasse 1'!N36=\"\",\"\",'Liste Klasse 1'!N36)","v":""},{"$f":"IF('Liste Klasse 1'!O36=\"\",\"\",'Liste Klasse 1'!O36)","v":""},{"$f":"IF('Liste Klasse 1'!P36=\"\",\"\",'Liste Klasse 1'!P36)","v":""},{"$f":"IF('Liste Klasse 1'!Q36=\"\",\"\",'Liste Klasse 1'!Q36)","v":""},{"$f":"IF('Liste Klasse 1'!R36=\"\",\"\",'Liste Klasse 1'!R36)","v":""},{"$f":"'Liste Klasse 1'!S36","v":0},{"$f":"'Liste Klasse 1'!T36","v":""},{"$f":"'Liste Klasse 1'!U36","v":0}]
[{"$f":"IF('Liste Klasse 1'!A37=\"\",\"\",'Liste Klasse 1'!A37&\" / \"&'Liste Klasse 1'!B37&\" / Klasse 1\")","v":""},{"$f":"IF('Liste Klasse 1'!C37=\"\",\"\",'Liste Klasse 1'!C37)","v":""},{"$f":"IF('Liste Klasse 1'!D37=\"\",\"\",'Liste Klasse 1'!D37&CHAR(10)&'Liste Klasse 1'!E37)","v":""},{"$f":"IF('Liste Klasse 1'!F37=\"\",\"\",'Liste Klasse 1'!F37&CHAR(10)&'Liste Klasse 1'!G37)","v":""},{"$f":"IF('Liste Klasse 1'!H37=\"\",\"\",'Liste Klasse 1'!H37)","v":""},{"$f":"IF('Liste Klasse 1'!I37=\"\",\"\",'Liste Klasse 1'!I37)","v":""},{"$f":"IF('Liste Klasse 1'!J37=\"\",\"\",'Liste Klasse 1'!J37)","v":""},{"$f":"IF('Liste Klasse 1'!K37=\"\",\"\",'Liste Klasse 1'!K37)","v":""},{"$f":"IF('Liste Klasse 1'!L37=\"\",\"\",'Liste Klasse 1'!L37)","v":""},{"$f":"IF('Liste Klasse 1'!M37=\"\",\"\",'Liste Klasse 1'!M37)","v":""},{"$f":"IF('Liste Klasse 1'!N37=\"\",\"\",'Liste Klasse 1'!N37)","v":""},{"$f":"IF('Liste Klasse 1'!O37=\"\",\"\",'Liste Klasse 1'!O37)","v":""},{"$f":"IF('Liste Klasse 1'!P37=\"\",\"\",'Liste Klasse 1'!P37)","v":""},{"$f":"IF('Liste Klasse 1'!Q37=\"\",\"\",'Liste Klasse 1'!Q37)","v":""},{"$f":"IF('Liste Klasse 1'!R37=\"\",\"\",'Liste Klasse 1'!R37)","v":""},{"$f":"'Liste Klasse 1'!S37","v":0},{"$f":"'Liste Klasse 1'!T37","v":""},{"$f":"'Liste Klasse 1'!U37","v":0}]
[{"$f":"IF('Liste Klasse 1'!A38=\"\",\"\",'Liste Klasse 1'!A38&\" / \"&'Liste Klasse 1'!B38&\" / Klasse 1\")","v":""},{"$f":"IF('Liste Klasse 1'!C38=\"\",\"\",'Liste Klasse 1'!C38)","v":""},{"$f":"IF('Liste Klasse 1'!D38=\"\",\"\",'Liste Klasse 1'!D38&CHAR(10)&'Liste Klasse 1'!E38)","v":""},{"$f":"IF('Liste Klasse 1'!F38=\"\",\"\",'Liste Klasse 1'!F38&CHAR(10)&'Liste Klasse 1'!G38)","v":""},{"$f":"IF('Liste Klasse 1'!H38=\"\",\"\",'Liste Klasse 1'!H38)","v":""},{"$f":"IF('Liste Klasse 1'!I38=\"\",\"\",'Liste Klasse 1'!I38)","v":""},{"$f":"IF('Liste Klasse 1'!J38=\"\",\"\",'Liste Klasse 1'!J38)","v":""},{"$f":"IF('Liste Klasse 1'!K38=\"\",\"\",'Liste Klasse 1'!K38)","v":""},{"$f":"IF('Liste Klasse 1'!L38=\"\",\"\",'Liste Klasse 1'!L38)","v":""},{"$f":"IF('Liste Klasse 1'!M38=\"\",\"\",'Liste Klasse 1'!M38)","v":""},{"$f":"IF('Liste Klasse 1'!N38=\"\",\"\",'Liste Klasse 1'!N38)","v":""},{"$f":"IF('Liste Klasse 1'!O38=\"\",\"\",'Liste Klasse 1'!O38)","v":""},{"$f":"IF('Liste Klasse 1'!P38=\"\",\"\",'Liste Klasse 1'!P38)","v":""},{"$f":"IF('Liste Klasse 1'!Q38=\"\",\"\",'Liste Klasse 1'!Q38)","v":""},{"$f":"IF('Liste Klasse 1'!R38=\"\",\"\",'Liste Klasse 1'!R38)","v":""},{"$f":"'Liste Klasse 1'!S38","v":0},{"$f":"'Liste Klasse 1'!T38","v":""},{"$f":"'Liste Klasse 1'!U38","v":0}]
["Start / Los / Klasse","Hundeführer/-in","Verein","Hund",{"$f":"IF('Liste Klasse 2'!H$4=0,\"\",'Liste Klasse 2'!H$4)","v":1},{"$f":"IF('Liste Klasse 2'!I$4=0,\"\",'Liste Klasse 2'!I$4)","v":2},{"$f":"IF('Liste Klasse 2'!J$4=0,\"\",'Liste Klasse 2'!J$4)","v":3},{"$f":"IF('Liste Klasse 2'!K$4=0,\"\",'Liste Klasse 2'!K$4)","v":4},{"$f":"IF('Liste Klasse 2'!L$4=0,\"\",'Liste Klasse 2'!L$4)","v":5},{"$f":"IF('Liste Klasse 2'!M$4=0,\"\",'Liste Klasse 2'!M$4)","v":6},{"$f":"IF('Liste Klasse 2'!N$4=0,\"\",'Liste Klasse 2'!N$4)","v":7},{"$f":"IF('Liste Klasse 2'!O$4=0,\"\",'Liste Klasse 2'!O$4)","v":8},{"$f":"IF('Liste Klasse 2'!P$4=0,\"\",'Liste Klasse 2'!P$4)","v":9},{"$f":"IF('Liste Klasse 2'!Q$4=0,\"\",'Liste Klasse 2'!Q$4)","v":10},{"$f":"IF('Liste Klasse 2'!R$4=0,\"\",'Liste Klasse 2'!R$4)","v":""},"Gesamt","WN","Platz"]
[{"$f":"IF('Liste Klasse 2'!A8=\"\",\"\",'Liste Klasse 2'!A8&\" / \"&'Liste Klasse 2'!B8&\" / Klasse 2\")","v":""},{"$f":"IF('Liste Klasse 2'!C8=\"\",\"\",'Liste Klasse 2'!C8)","v":""},{"$f":"IF('Liste Klasse 2'!D8=\"\",\"\",'Liste Klasse 2'!D8&CHAR(10)&'Liste Klasse 2'!E8)","v":""},{"$f":"IF('Liste Klasse 2'!F8=\"\",\"\",'Liste Klasse 2'!F8&CHAR(10)&'Liste Klasse 2'!G8)","v":""},{"$f":"IF('Liste Klasse 2'!H8=\"\",\"\",'Liste Klasse 2'!H8)","v":""},{"$f":"IF('Liste Klasse 2'!I8=\"\",\"\",'Liste Klasse 2'!I8)","v":""},{"$f":"IF('Liste Klasse 2'!J8=\"\",\"\",'Liste Klasse 2'!J8)","v":""},{"$f":"IF('Liste Klasse 2'!K8=\"\",\"\",'Liste Klasse 2'!K8)","v":""},{"$f":"IF('Liste Klasse 2'!L8=\"\",\"\",'Liste Klasse 2'!L8)","v":""},{"$f":"IF('Liste Klasse 2'!M8=\"\",\"\",'Liste Klasse 2'!M8)","v":""},{"$f":"IF('Liste Klasse 2'!N8=\"\",\"\",'Liste Klasse 2'!N8)","v":""},{"$f":"IF('Liste Klasse 2'!O8=\"\",\"\",'Liste Klasse 2'!O8)","v":""},{"$f":"IF('Liste Klasse 2'!P8=\"\",\"\",'Liste Klasse 2'!P8)","v":""},{"$f":"IF('Liste Klasse 2'!Q8=\"\",\"\",'Liste Klasse 2'!Q8)","v":""},{"$f":"IF('Liste Klasse 2'!R8=\"\",\"\",'Liste Klasse 2'!R8)","v":""},{"$f":"'Liste Klasse 2'!S8","v":0},{"$f":"'Liste Klasse 2'!T8","v":""},{"$f":"'Liste Klasse 2'!U8","v":0}]
[{"$f":"IF('Liste Klasse 2'!A9=\"\",\"\",'Liste Klasse 2'!A9&\" / \"&'Liste Klasse 2'!B9&\" / Klasse 2\")","v":""},{"$f":"IF('Liste Klasse 2'!C9=\"\",\"\",'Liste Klasse 2'!C9)","v":""},{"$f":"IF('Liste Klasse 2'!D9=\"\",\"\",'Liste Klasse 2'!D9&CHAR(10)&'Liste Klasse 2'!E9)","v":""},{"$f":"IF('Liste Klasse 2'!F9=\"\",\"\",'Liste Klasse 2'!F9&CHAR(10)&'Liste Klasse 2'!G9)","v":""},{"$f":"IF('Liste Klasse 2'!H9=\"\",\"\",'Liste Klasse 2'!H9)","v":""},{"$f":"IF('Liste Klasse 2'!I9=\"\",\"\",'Liste Klasse 2'!I9)","v":""},{"$f":"IF('Liste Klasse 2'!J9=\"\",\"\",'Liste Klasse 2'!J9)","v":""},{"$f":"IF('Liste Klasse 2'!K9=\"\",\"\",'Liste Klasse 2'!K9)","v":""},{"$f":"IF('Liste Klasse 2'!L9=\"\",\"\",'Liste Klasse 2'!L9)","v":""},{"$f":"IF('Liste Klasse 2'!M9=\"\",\"\",'Liste Klasse 2'!M9)","v":""},{"$f":"IF('Liste Klasse 2'!N9=\"\",\"\",'Liste Klasse 2'!N9)","v":""},{"$f":"IF('Liste Klasse 2'!O9=\"\",\"\",'Liste Klasse 2'!O9)","v":""},{"$f":"IF('Liste Klasse 2'!P9=\"\",\"\",'Liste Klasse 2'!P9)","v":""},{"$f":"IF('Liste Klasse 2'!Q9=\"\",\"\",'Liste Klasse 2'!Q9)","v":""},{"$f":"IF('Liste Klasse 2'!R9=\"\",\"\",'Liste Klasse 2'!R9)","v":""},{"$f":"'Liste Klasse 2'!S9","v":0},{"$f":"'Liste Klasse 2'!T9","v":""},{"$f":"'Liste Klasse 2'!U9","v":0}]
[{"$f":"IF('Liste Klasse 2'!A10=\"\",\"\",'Liste Klasse 2'!A10&\" / \"&'Liste Klasse 2'!B10&\" / Klasse 2\")","v":""},{"$f":"IF('Liste Klasse 2'!C10=\"\",\"\",'Liste Klasse 2'!C10)","v":""},{"$f":"IF('Liste Klasse 2'!D10=\"\",\"\",'Liste Klasse 2'!D10&CHAR(10)&'Liste Klasse 2'!E10)","v":""},{"$f":"IF('Liste Klasse 2'!F10=\"\",\"\",'Liste Klasse 2'!F10&CHAR(10)&'Liste Klasse 2'!G10)","v":""},{"$f":"IF('Liste Klasse 2'!H10=\"\",\"\",'Liste Klasse 2'!H10)","v":""},{"$f":"IF('Liste Klasse 2'!I10=\"\",\"\",'Liste Klasse 2'!I10)","v":""},{"$f":"IF('Liste Klasse 2'!J10=\"\",\"\",'Liste Klasse 2'!J10)","v":""},{"$f":"IF('Liste Klasse 2'!K10=\"\",\"\",'Liste Klasse 2'!K10)","v":""},{"$f":"IF('Liste Klasse 2'!L10=\"\",\"\",'Liste Klasse 2'!L10)","v":""},{"$f":"IF('Liste Klasse 2'!M10=\"\",\"\",'Liste Klasse 2'!M10)","v":""},{"$f":"IF('Liste Klasse 2'!N10=\"\",\"\",'Liste Klasse 2'!N10)","v":""},{"$f":"IF('Liste Klasse 2'!O10=\"\",\"\",'Liste Klasse 2'!O10)","v":""},{"$f":"IF('Liste Klasse 2'!P10=\"\",\"\",'Liste Klasse 2'!P10)","v":""},{"$f":"IF('Liste Klasse 2'!Q10=\"\",\"\",'Liste Klasse 2'!Q10)","v":""},{"$f":"IF('Liste Klasse 2'!R10=\"\",\"\",'Liste Klasse 2'!R10)","v":""},{"$f":"'Liste Klasse 2'!S10","v":0},{"$f":"'Liste Klasse 2'!T10","v":""},{"$f":"'Liste Klasse 2'!U10","v":0}]
[{"$f":"IF('Liste Klasse 2'!A11=\"\",\"\",'Liste Klasse 2'!A11&\" / \"&'Liste Klasse 2'!B11&\" / Klasse 2\")","v":""},{"$f":"IF('Liste Klasse 2'!C11=\"\",\"\",'Liste Klasse 2'!C11)","v":""},{"$f":"IF('Liste Klasse 2'!D11=\"\",\"\",'Liste Klasse 2'!D11&CHAR(10)&'Liste Klasse 2'!E11)","v":""},{"$f":"IF('Liste Klasse 2'!F11=\"\",\"\",'Liste Klasse 2'!F11&CHAR(10)&'Liste Klasse 2'!G11)","v":""},{"$f":"IF('Liste Klasse 2'!H11=\"\",\"\",'Liste Klasse 2'!H11)","v":""},{"$f":"IF('Liste Klasse 2'!I11=\"\",\"\",'Liste Klasse 2'!I11)","v":""},{"$f":"IF('Liste Klasse 2'!J11=\"\",\"\",'Liste Klasse 2'!J11)","v":""},{"$f":"IF('Liste Klasse 2'!K11=\"\",\"\",'Liste Klasse 2'!K11)","v":""},{"$f":"IF('Liste Klasse 2'!L11=\"\",\"\",'Liste Klasse 2'!L11)","v":""},{"$f":"IF('Liste Klasse 2'!M11=\"\",\"\",'Liste Klasse 2'!M11)","v":""},{"$f":"IF('Liste Klasse 2'!N11=\"\",\"\",'Liste Klasse 2'!N11)","v":""},{"$f":"IF('Liste Klasse 2'!O11=\"\",\"\",'Liste Klasse 2'!O11)","v":""},{"$f":"IF('Liste Klasse 2'!P11=\"\",\"\",'Liste Klasse 2'!P11)","v":""},{"$f":"IF('Liste Klasse 2'!Q11=\"\",\"\",'Liste Klasse 2'!Q11)","v":""},{"$f":"IF('Liste Klasse 2'!R11=\"\",\"\",'Liste Klasse 2'!R11)","v":""},{"$f":"'Liste Klasse 2'!S11","v":0},{"$f":"'Liste Klasse 2'!T11","v":""},{"$f":"'Liste Klasse 2'!U11","v":0}]
[{"$f":"IF('Liste Klasse 2'!A12=\"\",\"\",'Liste Klasse 2'!A12&\" / \"&'Liste Klasse 2'!B12&\" / Klasse 2\")","v":""},{"$f":"IF('Liste Klasse 2'!C12=\"\",\"\",'Liste Klasse 2'!C12)","v":""},{"$f":"IF('Liste Klasse 2'!D12=\"\",\"\",'Liste Klasse 2'!D12&CHAR(10)&'Liste Klasse 2'!E12)","v":""},{"$f":"IF('Liste Klasse 2'!F12=\"\",\"\",'Liste Klasse 2'!F12&CHAR(10)&'Liste Klasse 2'!G12)","v":""},{"$f":"IF('Liste Klasse 2'!H12=\"\",\"\",'Liste Klasse 2'!H12)","v":""},{"$f":"IF('Liste Klasse 2'!I12=\"\",\"\",'Liste Klasse 2'!I12)","v":""},{"$f":"IF('Liste Klasse 2'!J12=\"\",\"\",'Liste Klasse 2'!J12)","v":""},{"$f":"IF('Liste Klasse 2'!K12=\"\",\"\",'Liste Klasse 2'!K12)","v":""},{"$f":"IF('Liste Klasse 2'!L12=\"\",\"\",'Liste Klasse 2'!L12)","v":""},{"$f":"IF('Liste Klasse 2'!M12=\"\",\"\",'Liste Klasse 2'!M12)","v":""},{"$f":"IF('Liste Klasse 2'!N12=\"\",\"\",'Liste Klasse 2'!N12)","v":""},{"$f":"IF('Liste Klasse 2'!O12=\"\",\"\",'Liste Klasse 2'!O12)","v":""},{"$f":"IF('Liste Klasse 2'!P12=\"\",\"\",'Liste Klasse 2'!P12)","v":""},{"$f":"IF('Liste Klasse 2'!Q12=\"\",\"\",'Liste Klasse 2'!Q12)","v":""},{"$f":"IF('Liste Klasse 2'!R12=\"\",\"\",'Liste Klasse 2'!R12)","v":""},{"$f":"'Liste Klasse 2'!S12","v":0},{"$f":"'Liste Klasse 2'!T12","v":""},{"$f":"'Liste Klasse 2'!U12","v":0}]
[{"$f":"IF('Liste Klasse 2'!A13=\"\",\"\",'Liste Klasse 2'!A13&\" / \"&'Liste Klasse 2'!B13&\" / Klasse 2\")","v":""},{"$f":"IF('Liste Klasse 2'!C13=\"\",\"\",'Liste Klasse 2'!C13)","v":""},{"$f":"IF('Liste Klasse 2'!D13=\"\",\"\",'Liste Klasse 2'!D13&CHAR(10)&'Liste Klasse 2'!E13)","v":""},{"$f":"IF('Liste Klasse 2'!F13=\"\",\"\",'Liste Klasse 2'!F13&CHAR(10)&'Liste Klasse 2'!G13)","v":""},{"$f":"IF('Liste Klasse 2'!H13=\"\",\"\",'Liste Klasse 2'!H13)","v":""},{"$f":"IF('Liste Klasse 2'!I13=\"\",\"\",'Liste Klasse 2'!I13)","v":""},{"$f":"IF('Liste Klasse 2'!J13=\"\",\"\",'Liste Klasse 2'!J13)","v":""},{"$f":"IF('Liste Klasse 2'!K13=\"\",\"\",'Liste Klasse 2'!K13)","v":""},{"$f":"IF('Liste Klasse 2'!L13=\"\",\"\",'Liste Klasse 2'!L13)","v":""},{"$f":"IF('Liste Klasse 2'!M13=\"\",\"\",'Liste Klasse 2'!M13)","v":""},{"$f":"IF('Liste Klasse 2'!N13=\"\",\"\",'Liste Klasse 2'!N13)","v":""},{"$f":"IF('Liste Klasse 2'!O13=\"\",\"\",'Liste Klasse 2'!O13)","v":""},{"$f":"IF('Liste Klasse 2'!P13=\"\",\"\",'Liste Klasse 2'!P13)","v":""},{"$f":"IF('Liste Klasse 2'!Q13=\"\",\"\",'Liste Klasse 2'!Q13)","v":""},{"$f":"IF('Liste Klasse 2'!R13=\"\",\"\",'Liste Klasse 2'!R13)","v":""},{"$f":"'Liste Klasse 2'!S13","v":0},{"$f":"'Liste Klasse 2'!T13","v":""},{"$f":"'Liste Klasse 2'!U13","v":0}]
[{"$f":"IF('Liste Klasse 2'!A14=\"\",\"\",'Liste Klasse 2'!A14&\" / \"&'Liste Klasse 2'!B14&\" / Klasse 2\")","v":""},{"$f":"IF('Liste Klasse 2'!C14=\"\",\"\",'Liste Klasse 2'!C14)","v":""},{"$f":"IF('Liste Klasse 2'!D14=\"\",\"\",'Liste Klasse 2'!D14&CHAR(10)&'Liste Klasse 2'!E14)","v":""},{"$f":"IF('Liste Klasse 2'!F14=\"\",\"\",'Liste Klasse 2'!F14&CHAR(10)&'Liste Klasse 2'!G14)","v":""},{"$f":"IF('Liste Klasse 2'!H14=\"\",\"\",'Liste Klasse 2'!H14)","v":""},{"$f":"IF('Liste Klasse 2'!I14=\"\",\"\",'Liste Klasse 2'!I14)","v":""},{"$f":"IF('Liste Klasse 2'!J14=\"\",\"\",'Liste Klasse 2'!J14)","v":""},{"$f":"IF('Liste Klasse 2'!K14=\"\",\"\",'Liste Klasse 2'!K14)","v":""},{"$f":"IF('Liste Klasse 2'!L14=\"\",\"\",'Liste Klasse 2'!L14)","v":""},{"$f":"IF('Liste Klasse 2'!M14=\"\",\"\",'Liste Klasse 2'!M14)","v":""},{"$f":"IF('Liste Klasse 2'!N14=\"\",\"\",'Liste Klasse 2'!N14)","v":""},{"$f":"IF('Liste Klasse 2'!O14=\"\",\"\",'Liste Klasse 2'!O14)","v":""},{"$f":"IF('Liste Klasse 2'!P14=\"\",\"\",'Liste Klasse 2'!P14)","v":""},{"$f":"IF('Liste Klasse 2'!Q14=\"\",\"\",'Liste Klasse 2'!Q14)","v":""},{"$f":"IF('Liste Klasse 2'!R14=\"\",\"\",'Liste Klasse 2'!R14)","v":""},{"$f":"'Liste Klasse 2'!S14","v":0},{"$f":"'Liste Klasse 2'!T14","v":""},{"$f":"'Liste Klasse 2'!U14","v":0}]
[{"$f":"IF('Liste Klasse 2'!A15=\"\",\"\",'Liste Klasse 2'!A15&\" / \"&'Liste Klasse 2'!B15&\" / Klasse 2\")","v":""},{"$f":"IF('Liste Klasse 2'!C15=\"\",\"\",'Liste Klasse 2'!C15)","v":""},{"$f":"IF('Liste Klasse 2'!D15=\"\",\"\",'Liste Klasse 2'!D15&CHAR(10)&'Liste Klasse 2'!E15)","v":""},{"$f":"IF('Liste Klasse 2'!F15=\"\",\"\",'Liste Klasse 2'!F15&CHAR(10)&'Liste Klasse 2'!G15)","v":""},{"$f":"IF('Liste Klasse 2'!H15=\"\",\"\",'Liste Klasse 2'!H15)","v":""},{"$f":"IF('Liste Klasse 2'!I15=\"\",\"\",'Liste Klasse 2'!I15)","v":""},{"$f":"IF('Liste Klasse 2'!J15=\"\",\"\",'Liste Klasse 2'!J15)","v":""},{"$f":"IF('Liste Klasse 2'!K15=\"\",\"\",'Liste Klasse 2'!K15)","v":""},{"$f":"IF('Liste Klasse 2'!L15=\"\",\"\",'Liste Klasse 2'!L15)","v":""},{"$f":"IF('Liste Klasse 2'!M15=\"\",\"\",'Liste Klasse 2'!M15)","v":""},{"$f":"IF('Liste Klasse 2'!N15=\"\",\"\",'Liste Klasse 2'!N15)","v":""},{"$f":"IF('Liste Klasse 2'!O15=\"\",\"\",'Liste Klasse 2'!O15)","v":""},{"$f":"IF('Liste Klasse 2'!P15=\"\",\"\",'Liste Klasse 2'!P15)","v":""},{"$f":"IF('Liste Klasse 2'!Q15=\"\",\"\",'Liste Klasse 2'!Q15)","v":""},{"$f":"IF('Liste Klasse 2'!R15=\"\",\"\",'Liste Klasse 2'!R15)","v":""},{"$f":"'Liste Klasse 2'!S15","v":0},{"$f":"'Liste Klasse 2'!T15","v":""},{"$f":"'Liste Klasse 2'!U15","v":0}]
[{"$f":"IF('Liste Klasse 2'!A16=\"\",\"\",'Liste Klasse 2'!A16&\" / \"&'Liste Klasse 2'!B16&\" / Klasse 2\")","v":""},{"$f":"IF('Liste Klasse 2'!C16=\"\",\"\",'Liste Klasse 2'!C16)","v":""},{"$f":"IF('Liste Klasse 2'!D16=\"\",\"\",'Liste Klasse 2'!D16&CHAR(10)&'Liste Klasse 2'!E16)","v":""},{"$f":"IF('Liste Klasse 2'!F16=\"\",\"\",'Liste Klasse 2'!F16&CHAR(10)&'Liste Klasse 2'!G16)","v":""},{"$f":"IF('Liste Klasse 2'!H16=\"\",\"\",'Liste Klasse 2'!H16)","v":""},{"$f":"IF('Liste Klasse 2'!I16=\"\",\"\",'Liste Klasse 2'!I16)","v":""},{"$f":"IF('Liste Klasse 2'!J16=\"\",\"\",'Liste Klasse 2'!J16)","v":""},{"$f":"IF('Liste Klasse 2'!K16=\"\",\"\",'Liste Klasse 2'!K16)","v":""},{"$f":"IF('Liste Klasse 2'!L16=\"\",\"\",'Liste Klasse 2'!L16)","v":""},{"$f":"IF('Liste Klasse 2'!M16=\"\",\"\",'Liste Klasse 2'!M16)","v":""},{"$f":"IF('Liste Klasse 2'!N16=\"\",\"\",'Liste Klasse 2'!N16)","v":""},{"$f":"IF('Liste Klasse 2'!O16=\"\",\"\",'Liste Klasse 2'!O16)","v":""},{"$f":"IF('Liste Klasse 2'!P16=\"\",\"\",'Liste Klasse 2'!P16)","v":""},{"$f":"IF('Liste Klasse 2'!Q16=\"\",\"\",'Liste Klasse 2'!Q16)","v":""},{"$f":"IF('Liste Klasse 2'!R16=\"\",\"\",'Liste Klasse 2'!R16)","v":""},{"$f":"'Liste Klasse 2'!S16","v":0},{"$f":"'Liste Klasse 2'!T16","v":""},{"$f":"'Liste Klasse 2'!U16","v":0}]
[{"$f":"IF('Liste Klasse 2'!A17=\"\",\"\",'Liste Klasse 2'!A17&\" / \"&'Liste Klasse 2'!B17&\" / Klasse 2\")","v":""},{"$f":"IF('Liste Klasse 2'!C17=\"\",\"\",'Liste Klasse 2'!C17)","v":""},{"$f":"IF('Liste Klasse 2'!D17=\"\",\"\",'Liste Klasse 2'!D17&CHAR(10)&'Liste Klasse 2'!E17)","v":""},{"$f":"IF('Liste Klasse 2'!F17=\"\",\"\",'Liste Klasse 2'!F17&CHAR(10)&'Liste Klasse 2'!G17)","v":""},{"$f":"IF('Liste Klasse 2'!H17=\"\",\"\",'Liste Klasse 2'!H17)","v":""},{"$f":"IF('Liste Klasse 2'!I17=\"\",\"\",'Liste Klasse 2'!I17)","v":""},{"$f":"IF('Liste Klasse 2'!J17=\"\",\"\",'Liste Klasse 2'!J17)","v":""},{"$f":"IF('Liste Klasse 2'!K17=\"\",\"\",'Liste Klasse 2'!K17)","v":""},{"$f":"IF('Liste Klasse 2'!L17=\"\",\"\",'Liste Klasse 2'!L17)","v":""},{"$f":"IF('Liste Klasse 2'!M17=\"\",\"\",'Liste Klasse 2'!M17)","v":""},{"$f":"IF('Liste Klasse 2'!N17=\"\",\"\",'Liste Klasse 2'!N17)","v":""},{"$f":"IF('Liste Klasse 2'!O17=\"\",\"\",'Liste Klasse 2'!O17)","v":""},{"$f":"IF('Liste Klasse 2'!P17=\"\",\"\",'Liste Klasse 2'!P17)","v":""},{"$f":"IF('Liste Klasse 2'!Q17=\"\",\"\",'Liste Klasse 2'!Q17)","v":""},{"$f":"IF('Liste Klasse 2'!R17=\"\",\"\",'Liste Klasse 2'!R17)","v":""},{"$f":"'Liste Klasse 2'!S17","v":0},{"$f":"'Liste Klasse 2'!T17","v":""},{"$f":"'Liste Klasse 2'!U17","v":0}]
[{"$f":"IF('Liste Klasse 2'!A18=\"\",\"\",'Liste Klasse 2'!A18&\" / \"&'Liste Klasse 2'!B18&\" / Klasse 2\")","v":""},{"$f":"IF('Liste Klasse 2'!C18=\"\",\"\",'Liste Klasse 2'!C18)","v":""},{"$f":"IF('Liste Klasse 2'!D18=\"\",\"\",'Liste Klasse 2'!D18&CHAR(10)&'Liste Klasse 2'!E18)","v":""},{"$f":"IF('Liste Klasse 2'!F18=\"\",\"\",'Liste Klasse 2'!F18&CHAR(10)&'Liste Klasse 2'!G18)","v":""},{"$f":"IF('Liste Klasse 2'!H18=\"\",\"\",'Liste Klasse 2'!H18)","v":""},{"$f":"IF('Liste Klasse 2'!I18=\"\",\"\",'Liste Klasse 2'!I18)","v":""},{"$f":"IF('Liste Klasse 2'!J18=\"\",\"\",'Liste Klasse 2'!J18)","v":""},{"$f":"IF('Liste Klasse 2'!K18=\"\",\"\",'Liste Klasse 2'!K18)","v":""},{"$f":"IF('Liste Klasse 2'!L18=\"\",\"\",'Liste Klasse 2'!L18)","v":""},{"$f":"IF('Liste Klasse 2'!M18=\"\",\"\",'Liste Klasse 2'!M18)","v":""},{"$f":"IF('Liste Klasse 2'!N18=\"\",\"\",'Liste Klasse 2'!N18)","v":""},{"$f":"IF('Liste Klasse 2'!O18=\"\",\"\",'Liste Klasse 2'!O18)","v":""},{"$f":"IF('Liste Klasse 2'!P18=\"\",\"\",'Liste Klasse 2'!P18)","v":""},{"$f":"IF('Liste Klasse 2'!Q18=\"\",\"\",'Liste Klasse 2'!Q18)","v":""},{"$f":"IF('Liste Klasse 2'!R18=\"\",\"\",'Liste Klasse 2'!R18)","v":""},{"$f":"'Liste Klasse 2'!S18","v":0},{"$f":"'Liste Klasse 2'!T18","v":""},{"$f":"'Liste Klasse 2'!U18","v":0}]
[{"$f":"IF('Liste Klasse 2'!A19=\"\",\"\",'Liste Klasse 2'!A19&\" / \"&'Liste Klasse 2'!B19&\" / Klasse 2\")","v":""},{"$f":"IF('Liste Klasse 2'!C19=\"\",\"\",'Liste Klasse 2'!C19)","v":""},{"$f":"IF('Liste Klasse 2'!D19=\"\",\"\",'Liste Klasse 2'!D19&CHAR(10)&'Liste Klasse 2'!E19)","v":""},{"$f":"IF('Liste Klasse 2'!F19=\"\",\"\",'Liste Klasse 2'!F19&CHAR(10)&'Liste Klasse 2'!G19)","v":""},{"$f":"IF('Liste Klasse 2'!H19=\"\",\"\",'Liste Klasse 2'!H19)","v":""},{"$f":"IF('Liste Klasse 2'!I19=\"\",\"\",'Liste Klasse 2'!I19)","v":""},{"$f":"IF('Liste Klasse 2'!J19=\"\",\"\",'Liste Klasse 2'!J19)","v":""},{"$f":"IF('Liste Klasse 2'!K19=\"\",\"\",'Liste Klasse 2'!K19)","v":""},{"$f":"IF('Liste Klasse 2'!L19=\"\",\"\",'Liste Klasse 2'!L19)","v":""},{"$f":"IF('Liste Klasse 2'!M19=\"\",\"\",'Liste Klasse 2'!M19)","v":""},{"$f":"IF('Liste Klasse 2'!N19=\"\",\"\",'Liste Klasse 2'!N19)","v":""},{"$f":"IF('Liste Klasse 2'!O19=\"\",\"\",'Liste Klasse 2'!O19)","v":""},{"$f":"IF('Liste Klasse 2'!P19=\"\",\"\",'Liste Klasse 2'!P19)","v":""},{"$f":"IF('Liste Klasse 2'!Q19=\"\",\"\",'Liste Klasse 2'!Q19)","v":""},{"$f":"IF('Liste Klasse 2'!R19=\"\",\"\",'Liste Klasse 2'!R19)","v":""},{"$f":"'Liste Klasse 2'!S19","v":0},{"$f":"'Liste Klasse 2'!T19","v":""},{"$f":"'Liste Klasse 2'!U19","v":0}]
[{"$f":"IF('Liste Klasse 2'!A20=\"\",\"\",'Liste Klasse 2'!A20&\" / \"&'Liste Klasse 2'!B20&\" / Klasse 2\")","v":""},{"$f":"IF('Liste Klasse 2'!C20=\"\",\"\",'Liste Klasse 2'!C20)","v":""},{"$f":"IF('Liste Klasse 2'!D20=\"\",\"\",'Liste Klasse 2'!D20&CHAR(10)&'Liste Klasse 2'!E20)","v":""},{"$f":"IF('Liste Klasse 2'!F20=\"\",\"\",'Liste Klasse 2'!F20&CHAR(10)&'Liste Klasse 2'!G20)","v":""},{"$f":"IF('Liste Klasse 2'!H20=\"\",\"\",'Liste Klasse 2'!H20)","v":""},{"$f":"IF('Liste Klasse 2'!I20=\"\",\"\",'Liste Klasse 2'!I20)","v":""},{"$f":"IF('Liste Klasse 2'!J20=\"\",\"\",'Liste Klasse 2'!J20)","v":""},{"$f":"IF('Liste Klasse 2'!K20=\"\",\"\",'Liste Klasse 2'!K20)","v":""},{"$f":"IF('Liste Klasse 2'!L20=\"\",\"\",'Liste Klasse 2'!L20)","v":""},{"$f":"IF('Liste Klasse 2'!M20=\"\",\"\",'Liste Klasse 2'!M20)","v":""},{"$f":"IF('Liste Klasse 2'!N20=\"\",\"\",'Liste Klasse 2'!N20)","v":""},{"$f":"IF('Liste Klasse 2'!O20=\"\",\"\",'Liste Klasse 2'!O20)","v":""},{"$f":"IF('Liste Klasse 2'!P20=\"\",\"\",'Liste Klasse 2'!P20)","v":""},{"$f":"IF('Liste Klasse 2'!Q20=\"\",\"\",'Liste Klasse 2'!Q20)","v":""},{"$f":"IF('Liste Klasse 2'!R20=\"\",\"\",'Liste Klasse 2'!R20)","v":""},{"$f":"'Liste Klasse 2'!S20","v":0},{"$f":"'Liste Klasse 2'!T20","v":""},{"$f":"'Liste Klasse 2'!U20","v":0}]
[{"$f":"IF('Liste Klasse 2'!A21=\"\",\"\",'Liste Klasse 2'!A21&\" / \"&'Liste Klasse 2'!B21&\" / Klasse 2\")","v":""},{"$f":"IF('Liste Klasse 2'!C21=\"\",\"\",'Liste Klasse 2'!C21)","v":""},{"$f":"IF('Liste Klasse 2'!D21=\"\",\"\",'Liste Klasse 2'!D21&CHAR(10)&'Liste Klasse 2'!E21)","v":""},{"$f":"IF('Liste Klasse 2'!F21=\"\",\"\",'Liste Klasse 2'!F21&CHAR(10)&'Liste Klasse 2'!G21)","v":""},{"$f":"IF('Liste Klasse 2'!H21=\"\",\"\",'Liste Klasse 2'!H21)","v":""},{"$f":"IF('Liste Klasse 2'!I21=\"\",\"\",'Liste Klasse 2'!I21)","v":""},{"$f":"IF('Liste Klasse 2'!J21=\"\",\"\",'Liste Klasse 2'!J21)","v":""},{"$f":"IF('Liste Klasse 2'!K21=\"\",\"\",'Liste Klasse 2'!K21)","v":""},{"$f":"IF('Liste Klasse 2'!L21=\"\",\"\",'Liste Klasse 2'!L21)","v":""},{"$f":"IF('Liste Klasse 2'!M21=\"\",\"\",'Liste Klasse 2'!M21)","v":""},{"$f":"IF('Liste Klasse 2'!N21=\"\",\"\",'Liste Klasse 2'!N21)","v":""},{"$f":"IF('Liste Klasse 2'!O21=\"\",\"\",'Liste Klasse 2'!O21)","v":""},{"$f":"IF('Liste Klasse 2'!P21=\"\",\"\",'Liste Klasse 2'!P21)","v":""},{"$f":"IF('Liste Klasse 2'!Q21=\"\",\"\",'Liste Klasse 2'!Q21)","v":""},{"$f":"IF('Liste Klasse 2'!R21=\"\",\"\",'Liste Klasse 2'!R21)","v":""},{"$f":"'Liste Klasse 2'!S21","v":0},{"$f":"'Liste Klasse 2'!T21","v":""},{"$f":"'Liste Klasse 2'!U21","v":0}]
[{"$f":"IF('Liste Klasse 2'!A22=\"\",\"\",'Liste Klasse 2'!A22&\" / \"&'Liste Klasse 2'!B22&\" / Klasse 2\")","v":""},{"$f":"IF('Liste Klasse 2'!C22=\"\",\"\",'Liste Klasse 2'!C22)","v":""},{"$f":"IF('Liste Klasse 2'!D22=\"\",\"\",'Liste Klasse 2'!D22&CHAR(10)&'Liste Klasse 2'!E22)","v":""},{"$f":"IF('Liste Klasse 2'!F22=\"\",\"\",'Liste Klasse 2'!F22&CHAR(10)&'Liste Klasse 2'!G22)","v":""},{"$f":"IF('Liste Klasse 2'!H22=\"\",\"\",'Liste Klasse 2'!H22)","v":""},{"$f":"IF('Liste Klasse 2'!I22=\"\",\"\",'Liste Klasse 2'!I22)","v":""},{"$f":"IF('Liste Klasse 2'!J22=\"\",\"\",'Liste Klasse 2'!J22)","v":""},{"$f":"IF('Liste Klasse 2'!K22=\"\",\"\",'Liste Klasse 2'!K22)","v":""},{"$f":"IF('Liste Klasse 2'!L22=\"\",\"\",'Liste Klasse 2'!L22)","v":""},{"$f":"IF('Liste Klasse 2'!M22=\"\",\"\",'Liste Klasse 2'!M22)","v":""},{"$f":"IF('Liste Klasse 2'!N22=\"\",\"\",'Liste Klasse 2'!N22)","v":""},{"$f":"IF('Liste Klasse 2'!O22=\"\",\"\",'Liste Klasse 2'!O22)","v":""},{"$f":"IF('Liste Klasse 2'!P22=\"\",\"\",'Liste Klasse 2'!P22)","v":""},{"$f":"IF('Liste Klasse 2'!Q22=\"\",\"\",'Liste Klasse 2'!Q22)","v":""},{"$f":"IF('Liste Klasse 2'!R22=\"\",\"\",'Liste Klasse 2'!R22)","v":""},{"$f":"'Liste Klasse 2'!S22","v":0},{"$f":"'Liste Klasse 2'!T22","v":""},{"$f":"'Liste Klasse 2'!U22","v":0}]
[{"$f":"IF('Liste Klasse 2'!A23=\"\",\"\",'Liste Klasse 2'!A23&\" / \"&'Liste Klasse 2'!B23&\" / Klasse 2\")","v":""},{"$f":"IF('Liste Klasse 2'!C23=\"\",\"\",'Liste Klasse 2'!C23)","v":""},{"$f":"IF('Liste Klasse 2'!D23=\"\",\"\",'Liste Klasse 2'!D23&CHAR(10)&'Liste Klasse 2'!E23)","v":""},{"$f":"IF('Liste Klasse 2'!F23=\"\",\"\",'Liste Klasse 2'!F23&CHAR(10)&'Liste Klasse 2'!G23)","v":""},{"$f":"IF('Liste Klasse 2'!H23=\"\",\"\",'Liste Klasse 2'!H23)","v":""},{"$f":"IF('Liste Klasse 2'!I23=\"\",\"\",'Liste Klasse 2'!I23)","v":""},{"$f":"IF('Liste Klasse 2'!J23=\"\",\"\",'Liste Klasse 2'!J23)","v":""},{"$f":"IF('Liste Klasse 2'!K23=\"\",\"\",'Liste Klasse 2'!K23)","v":""},{"$f":"IF('Liste Klasse 2'!L23=\"\",\"\",'Liste Klasse 2'!L23)","v":""},{"$f":"IF('Liste Klasse 2'!M23=\"\",\"\",'Liste Klasse 2'!M23)","v":""},{"$f":"IF('Liste Klasse 2'!N23=\"\",\"\",'Liste Klasse 2'!N23)","v":""},{"$f":"IF('Liste Klasse 2'!O23=\"\",\"\",'Liste Klasse 2'!O23)","v":""},{"$f":"IF('Liste Klasse 2'!P23=\"\",\"\",'Liste Klasse 2'!P23)","v":""},{"$f":"IF('Liste Klasse 2'!Q23=\"\",\"\",'Liste Klasse 2'!Q23)","v":""},{"$f":"IF('Liste Klasse 2'!R23=\"\",\"\",'Liste Klasse 2'!R23)","v":""},{"$f":"'Liste Klasse 2'!S23","v":0},{"$f":"'Liste Klasse 2'!T23","v":""},{"$f":"'Liste Klasse 2'!U23","v":0}]
[{"$f":"IF('Liste Klasse 2'!A24=\"\",\"\",'Liste Klasse 2'!A24&\" / \"&'Liste Klasse 2'!B24&\" / Klasse 2\")","v":""},{"$f":"IF('Liste Klasse 2'!C24=\"\",\"\",'Liste Klasse 2'!C24)","v":""},{"$f":"IF('Liste Klasse 2'!D24=\"\",\"\",'Liste Klasse 2'!D24&CHAR(10)&'Liste Klasse 2'!E24)","v":""},{"$f":"IF('Liste Klasse 2'!F24=\"\",\"\",'Liste Klasse 2'!F24&CHAR(10)&'Liste Klasse 2'!G24)","v":""},{"$f":"IF('Liste Klasse 2'!H24=\"\",\"\",'Liste Klasse 2'!H24)","v":""},{"$f":"IF('Liste Klasse 2'!I24=\"\",\"\",'Liste Klasse 2'!I24)","v":""},{"$f":"IF('Liste Klasse 2'!J24=\"\",\"\",'Liste Klasse 2'!J24)","v":""},{"$f":"IF('Liste Klasse 2'!K24=\"\",\"\",'Liste Klasse 2'!K24)","v":""},{"$f":"IF('Liste Klasse 2'!L24=\"\",\"\",'Liste Klasse 2'!L24)","v":""},{"$f":"IF('Liste Klasse 2'!M24=\"\",\"\",'Liste Klasse 2'!M24)","v":""},{"$f":"IF('Liste Klasse 2'!N24=\"\",\"\",'Liste Klasse 2'!N24)","v":""},{"$f":"IF('Liste Klasse 2'!O24=\"\",\"\",'Liste Klasse 2'!O24)","v":""},{"$f":"IF('Liste Klasse 2'!P24=\"\",\"\",'Liste Klasse 2'!P24)","v":""},{"$f":"IF('Liste Klasse 2'!Q24=\"\",\"\",'Liste Klasse 2'!Q24)","v":""},{"$f":"IF('Liste Klasse 2'!R24=\"\",\"\",'Liste Klasse 2'!R24)","v":""},{"$f":"'Liste Klasse 2'!S24","v":0},{"$f":"'Liste Klasse 2'!T24","v":""},{"$f":"'Liste Klasse 2'!U24","v":0}]
[{"$f":"IF('Liste Klasse 2'!A25=\"\",\"\",'Liste Klasse 2'!A25&\" / \"&'Liste Klasse 2'!B25&\" / Klasse 2\")","v":""},{"$f":"IF('Liste Klasse 2'!C25=\"\",\"\",'Liste Klasse 2'!C25)","v":""},{"$f":"IF('Liste Klasse 2'!D25=\"\",\"\",'Liste Klasse 2'!D25&CHAR(10)&'Liste Klasse 2'!E25)","v":""},{"$f":"IF('Liste Klasse 2'!F25=\"\",\"\",'Liste Klasse 2'!F25&CHAR(10)&'Liste Klasse 2'!G25)","v":""},{"$f":"IF('Liste Klasse 2'!H25=\"\",\"\",'Liste Klasse 2'!H25)","v":""},{"$f":"IF('Liste Klasse 2'!I25=\"\",\"\",'Liste Klasse 2'!I25)","v":""},{"$f":"IF('Liste Klasse 2'!J25=\"\",\"\",'Liste Klasse 2'!J25)","v":""},{"$f":"IF('Liste Klasse 2'!K25=\"\",\"\",'Liste Klasse 2'!K25)","v":""},{"$f":"IF('Liste Klasse 2'!L25=\"\",\"\",'Liste Klasse 2'!L25)","v":""},{"$f":"IF('Liste Klasse 2'!M25=\"\",\"\",'Liste Klasse 2'!M25)","v":""},{"$f":"IF('Liste Klasse 2'!N25=\"\",\"\",'Liste Klasse 2'!N25)","v":""},{"$f":"IF('Liste Klasse 2'!O25=\"\",\"\",'Liste Klasse 2'!O25)","v":""},{"$f":"IF('Liste Klasse 2'!P25=\"\",\"\",'Liste Klasse 2'!P25)","v":""},{"$f":"IF('Liste Klasse 2'!Q25=\"\",\"\",'Liste Klasse 2'!Q25)","v":""},{"$f":"IF('Liste Klasse 2'!R25=\"\",\"\",'Liste Klasse 2'!R25)","v":""},{"$f":"'Liste Klasse 2'!S25","v":0},{"$f":"'Liste Klasse 2'!T25","v":""},{"$f":"'Liste Klasse 2'!U25","v":0}]
[{"$f":"IF('Liste Klasse 2'!A26=\"\",\"\",'Liste Klasse 2'!A26&\" / \"&'Liste Klasse 2'!B26&\" / Klasse 2\")","v":""},{"$f":"IF('Liste Klasse 2'!C26=\"\",\"\",'Liste Klasse 2'!C26)","v":""},{"$f":"IF('Liste Klasse 2'!D26=\"\",\"\",'Liste Klasse 2'!D26&CHAR(10)&'Liste Klasse 2'!E26)","v":""},{"$f":"IF('Liste Klasse 2'!F26=\"\",\"\",'Liste Klasse 2'!F26&CHAR(10)&'Liste Klasse 2'!G26)","v":""},{"$f":"IF('Liste Klasse 2'!H26=\"\",\"\",'Liste Klasse 2'!H26)","v":""},{"$f":"IF('Liste Klasse 2'!I26=\"\",\"\",'Liste Klasse 2'!I26)","v":""},{"$f":"IF('Liste Klasse 2'!J26=\"\",\"\",'Liste Klasse 2'!J26)","v":""},{"$f":"IF('Liste Klasse 2'!K26=\"\",\"\",'Liste Klasse 2'!K26)","v":""},{"$f":"IF('Liste Klasse 2'!L26=\"\",\"\",'Liste Klasse 2'!L26)","v":""},{"$f":"IF('Liste Klasse 2'!M26=\"\",\"\",'Liste Klasse 2'!M26)","v":""},{"$f":"IF('Liste Klasse 2'!N26=\"\",\"\",'Liste Klasse 2'!N26)","v":""},{"$f":"IF('Liste Klasse 2'!O26=\"\",\"\",'Liste Klasse 2'!O26)","v":""},{"$f":"IF('Liste Klasse 2'!P26=\"\",\"\",'Liste Klasse 2'!P26)","v":""},{"$f":"IF('Liste Klasse 2'!Q26=\"\",\"\",'Liste Klasse 2'!Q26)","v":""},{"$f":"IF('Liste Klasse 2'!R26=\"\",\"\",'Liste Klasse 2'!R26)","v":""},{"$f":"'Liste Klasse 2'!S26","v":0},{"$f":"'Liste Klasse 2'!T26","v":""},{"$f":"'Liste Klasse 2'!U26","v":0}]
[{"$f":"IF('Liste Klasse 2'!A27=\"\",\"\",'Liste Klasse 2'!A27&\" / \"&'Liste Klasse 2'!B27&\" / Klasse 2\")","v":""},{"$f":"IF('Liste Klasse 2'!C27=\"\",\"\",'Liste Klasse 2'!C27)","v":""},{"$f":"IF('Liste Klasse 2'!D27=\"\",\"\",'Liste Klasse 2'!D27&CHAR(10)&'Liste Klasse 2'!E27)","v":""},{"$f":"IF('Liste Klasse 2'!F27=\"\",\"\",'Liste Klasse 2'!F27&CHAR(10)&'Liste Klasse 2'!G27)","v":""},{"$f":"IF('Liste Klasse 2'!H27=\"\",\"\",'Liste Klasse 2'!H27)","v":""},{"$f":"IF('Liste Klasse 2'!I27=\"\",\"\",'Liste Klasse 2'!I27)","v":""},{"$f":"IF('Liste Klasse 2'!J27=\"\",\"\",'Liste Klasse 2'!J27)","v":""},{"$f":"IF('Liste Klasse 2'!K27=\"\",\"\",'Liste Klasse 2'!K27)","v":""},{"$f":"IF('Liste Klasse 2'!L27=\"\",\"\",'Liste Klasse 2'!L27)","v":""},{"$f":"IF('Liste Klasse 2'!M27=\"\",\"\",'Liste Klasse 2'!M27)","v":""},{"$f":"IF('Liste Klasse 2'!N27=\"\",\"\",'Liste Klasse 2'!N27)","v":""},{"$f":"IF('Liste Klasse 2'!O27=\"\",\"\",'Liste Klasse 2'!O27)","v":""},{"$f":"IF('Liste Klasse 2'!P27=\"\",\"\",'Liste Klasse 2'!P27)","v":""},{"$f":"IF('Liste Klasse 2'!Q27=\"\",\"\",'Liste Klasse 2'!Q27)","v":""},{"$f":"IF('Liste Klasse 2'!R27=\"\",\"\",'Liste Klasse 2'!R27)","v":""},{"$f":"'Liste Klasse 2'!S27","v":0},{"$f":"'Liste Klasse 2'!T27","v":""},{"$f":"'Liste Klasse 2'!U27","v":0}]
[{"$f":"IF('Liste Klasse 2'!A28=\"\",\"\",'Liste Klasse 2'!A28&\" / \"&'Liste Klasse 2'!B28&\" / Klasse 2\")","v":""},{"$f":"IF('Liste Klasse 2'!C28=\"\",\"\",'Liste Klasse 2'!C28)","v":""},{"$f":"IF('Liste Klasse 2'!D28=\"\",\"\",'Liste Klasse 2'!D28&CHAR(10)&'Liste Klasse 2'!E28)","v":""},{"$f":"IF('Liste Klasse 2'!F28=\"\",\"\",'Liste Klasse 2'!F28&CHAR(10)&'Liste Klasse 2'!G28)","v":""},{"$f":"IF('Liste Klasse 2'!H28=\"\",\"\",'Liste Klasse 2'!H28)","v":""},{"$f":"IF('Liste Klasse 2'!I28=\"\",\"\",'Liste Klasse 2'!I28)","v":""},{"$f":"IF('Liste Klasse 2'!J28=\"\",\"\",'Liste Klasse 2'!J28)","v":""},{"$f":"IF('Liste Klasse 2'!K28=\"\",\"\",'Liste Klasse 2'!K28)","v":""},{"$f":"IF('Liste Klasse 2'!L28=\"\",\"\",'Liste Klasse 2'!L28)","v":""},{"$f":"IF('Liste Klasse 2'!M28=\"\",\"\",'Liste Klasse 2'!M28)","v":""},{"$f":"IF('Liste Klasse 2'!N28=\"\",\"\",'Liste Klasse 2'!N28)","v":""},{"$f":"IF('Liste Klasse 2'!O28=\"\",\"\",'Liste Klasse 2'!O28)","v":""},{"$f":"IF('Liste Klasse 2'!P28=\"\",\"\",'Liste Klasse 2'!P28)","v":""},{"$f":"IF('Liste Klasse 2'!Q28=\"\",\"\",'Liste Klasse 2'!Q28)","v":""},{"$f":"IF('Liste Klasse 2'!R28=\"\",\"\",'Liste Klasse 2'!R28)","v":""},{"$f":"'Liste Klasse 2'!S28","v":0},{"$f":"'Liste Klasse 2'!T28","v":""},{"$f":"'Liste Klasse 2'!U28","v":0}]
[{"$f":"IF('Liste Klasse 2'!A29=\"\",\"\",'Liste Klasse 2'!A29&\" / \"&'Liste Klasse 2'!B29&\" / Klasse 2\")","v":""},{"$f":"IF('Liste Klasse 2'!C29=\"\",\"\",'Liste Klasse 2'!C29)","v":""},{"$f":"IF('Liste Klasse 2'!D29=\"\",\"\",'Liste Klasse 2'!D29&CHAR(10)&'Liste Klasse 2'!E29)","v":""},{"$f":"IF('Liste Klasse 2'!F29=\"\",\"\",'Liste Klasse 2'!F29&CHAR(10)&'Liste Klasse 2'!G29)","v":""},{"$f":"IF('Liste Klasse 2'!H29=\"\",\"\",'Liste Klasse 2'!H29)","v":""},{"$f":"IF('Liste Klasse 2'!I29=\"\",\"\",'Liste Klasse 2'!I29)","v":""},{"$f":"IF('Liste Klasse 2'!J29=\"\",\"\",'Liste Klasse 2'!J29)","v":""},{"$f":"IF('Liste Klasse 2'!K29=\"\",\"\",'Liste Klasse 2'!K29)","v":""},{"$f":"IF('Liste Klasse 2'!L29=\"\",\"\",'Liste Klasse 2'!L29)","v":""},{"$f":"IF('Liste Klasse 2'!M29=\"\",\"\",'Liste Klasse 2'!M29)","v":""},{"$f":"IF('Liste Klasse 2'!N29=\"\",\"\",'Liste Klasse 2'!N29)","v":""},{"$f":"IF('Liste Klasse 2'!O29=\"\",\"\",'Liste Klasse 2'!O29)","v":""},{"$f":"IF('Liste Klasse 2'!P29=\"\",\"\",'Liste Klasse 2'!P29)","v":""},{"$f":"IF('Liste Klasse 2'!Q29=\"\",\"\",'Liste Klasse 2'!Q29)","v":""},{"$f":"IF('Liste Klasse 2'!R29=\"\",\"\",'Liste Klasse 2'!R29)","v":""},{"$f":"'Liste Klasse 2'!S29","v":0},{"$f":"'Liste Klasse 2'!T29","v":""},{"$f":"'Liste Klasse 2'!U29","v":0}]
[{"$f":"IF('Liste Klasse 2'!A30=\"\",\"\",'Liste Klasse 2'!A30&\" / \"&'Liste Klasse 2'!B30&\" / Klasse 2\")","v":""},{"$f":"IF('Liste Klasse 2'!C30=\"\",\"\",'Liste Klasse 2'!C30)","v":""},{"$f":"IF('Liste Klasse 2'!D30=\"\",\"\",'Liste Klasse 2'!D30&CHAR(10)&'Liste Klasse 2'!E30)","v":""},{"$f":"IF('Liste Klasse 2'!F30=\"\",\"\",'Liste Klasse 2'!F30&CHAR(10)&'Liste Klasse 2'!G30)","v":""},{"$f":"IF('Liste Klasse 2'!H30=\"\",\"\",'Liste Klasse 2'!H30)","v":""},{"$f":"IF('Liste Klasse 2'!I30=\"\",\"\",'Liste Klasse 2'!I30)","v":""},{"$f":"IF('Liste Klasse 2'!J30=\"\",\"\",'Liste Klasse 2'!J30)","v":""},{"$f":"IF('Liste Klasse 2'!K30=\"\",\"\",'Liste Klasse 2'!K30)","v":""},{"$f":"IF('Liste Klasse 2'!L30=\"\",\"\",'Liste Klasse 2'!L30)","v":""},{"$f":"IF('Liste Klasse 2'!M30=\"\",\"\",'Liste Klasse 2'!M30)","v":""},{"$f":"IF('Liste Klasse 2'!N30=\"\",\"\",'Liste Klasse 2'!N30)","v":""},{"$f":"IF('Liste Klasse 2'!O30=\"\",\"\",'Liste Klasse 2'!O30)","v":""},{"$f":"IF('Liste Klasse 2'!P30=\"\",\"\",'Liste Klasse 2'!P30)","v":""},{"$f":"IF('Liste Klasse 2'!Q30=\"\",\"\",'Liste Klasse 2'!Q30)","v":""},{"$f":"IF('Liste Klasse 2'!R30=\"\",\"\",'Liste Klasse 2'!R30)","v":""},{"$f":"'Liste Klasse 2'!S30","v":0},{"$f":"'Liste Klasse 2'!T30","v":""},{"$f":"'Liste Klasse 2'!U30","v":0}]
[{"$f":"IF('Liste Klasse 2'!A31=\"\",\"\",'Liste Klasse 2'!A31&\" / \"&'Liste Klasse 2'!B31&\" / Klasse 2\")","v":""},{"$f":"IF('Liste Klasse 2'!C31=\"\",\"\",'Liste Klasse 2'!C31)","v":""},{"$f":"IF('Liste Klasse 2'!D31=\"\",\"\",'Liste Klasse 2'!D31&CHAR(10)&'Liste Klasse 2'!E31)","v":""},{"$f":"IF('Liste Klasse 2'!F31=\"\",\"\",'Liste Klasse 2'!F31&CHAR(10)&'Liste Klasse 2'!G31)","v":""},{"$f":"IF('Liste Klasse 2'!H31=\"\",\"\",'Liste Klasse 2'!H31)","v":""},{"$f":"IF('Liste Klasse 2'!I31=\"\",\"\",'Liste Klasse 2'!I31)","v":""},{"$f":"IF('Liste Klasse 2'!J31=\"\",\"\",'Liste Klasse 2'!J31)","v":""},{"$f":"IF('Liste Klasse 2'!K31=\"\",\"\",'Liste Klasse 2'!K31)","v":""},{"$f":"IF('Liste Klasse 2'!L31=\"\",\"\",'Liste Klasse 2'!L31)","v":""},{"$f":"IF('Liste Klasse 2'!M31=\"\",\"\",'Liste Klasse 2'!M31)","v":""},{"$f":"IF('Liste Klasse 2'!N31=\"\",\"\",'Liste Klasse 2'!N31)","v":""},{"$f":"IF('Liste Klasse 2'!O31=\"\",\"\",'Liste Klasse 2'!O31)","v":""},{"$f":"IF('Liste Klasse 2'!P31=\"\",\"\",'Liste Klasse 2'!P31)","v":""},{"$f":"IF('Liste Klasse 2'!Q31=\"\",\"\",'Liste Klasse 2'!Q31)","v":""},{"$f":"IF('Liste Klasse 2'!R31=\"\",\"\",'Liste Klasse 2'!R31)","v":""},{"$f":"'Liste Klasse 2'!S31","v":0},{"$f":"'Liste Klasse 2'!T31","v":""},{"$f":"'Liste Klasse 2'!U31","v":0}]
[{"$f":"IF('Liste Klasse 2'!A32=\"\",\"\",'Liste Klasse 2'!A32&\" / \"&'Liste Klasse 2'!B32&\" / Klasse 2\")","v":""},{"$f":"IF('Liste Klasse 2'!C32=\"\",\"\",'Liste Klasse 2'!C32)","v":""},{"$f":"IF('Liste Klasse 2'!D32=\"\",\"\",'Liste Klasse 2'!D32&CHAR(10)&'Liste Klasse 2'!E32)","v":""},{"$f":"IF('Liste Klasse 2'!F32=\"\",\"\",'Liste Klasse 2'!F32&CHAR(10)&'Liste Klasse 2'!G32)","v":""},{"$f":"IF('Liste Klasse 2'!H32=\"\",\"\",'Liste Klasse 2'!H32)","v":""},{"$f":"IF('Liste Klasse 2'!I32=\"\",\"\",'Liste Klasse 2'!I32)","v":""},{"$f":"IF('Liste Klasse 2'!J32=\"\",\"\",'Liste Klasse 2'!J32)","v":""},{"$f":"IF('Liste Klasse 2'!K32=\"\",\"\",'Liste Klasse 2'!K32)","v":""},{"$f":"IF('Liste Klasse 2'!L32=\"\",\"\",'Liste Klasse 2'!L32)","v":""},{"$f":"IF('Liste Klasse 2'!M32=\"\",\"\",'Liste Klasse 2'!M32)","v":""},{"$f":"IF('Liste Klasse 2'!N32=\"\",\"\",'Liste Klasse 2'!N32)","v":""},{"$f":"IF('Liste Klasse 2'!O32=\"\",\"\",'Liste Klasse 2'!O32)","v":""},{"$f":"IF('Liste Klasse 2'!P32=\"\",\"\",'Liste Klasse 2'!P32)","v":""},{"$f":"IF('Liste Klasse 2'!Q32=\"\",\"\",'Liste Klasse 2'!Q32)","v":""},{"$f":"IF('Liste Klasse 2'!R32=\"\",\"\",'Liste Klasse 2'!R32)","v":""},{"$f":"'Liste Klasse 2'!S32","v":0},{"$f":"'Liste Klasse 2'!T32","v":""},{"$f":"'Liste Klasse 2'!U32","v":0}]
[{"$f":"IF('Liste Klasse 2'!A33=\"\",\"\",'Liste Klasse 2'!A33&\" / \"&'Liste Klasse 2'!B33&\" / Klasse 2\")","v":""},{"$f":"IF('Liste Klasse 2'!C33=\"\",\"\",'Liste Klasse 2'!C33)","v":""},{"$f":"IF('Liste Klasse 2'!D33=\"\",\"\",'Liste Klasse 2'!D33&CHAR(10)&'Liste Klasse 2'!E33)","v":""},{"$f":"IF('Liste Klasse 2'!F33=\"\",\"\",'Liste Klasse 2'!F33&CHAR(10)&'Liste Klasse 2'!G33)","v":""},{"$f":"IF('Liste Klasse 2'!H33=\"\",\"\",'Liste Klasse 2'!H33)","v":""},{"$f":"IF('Liste Klasse 2'!I33=\"\",\"\",'Liste Klasse 2'!I33)","v":""},{"$f":"IF('Liste Klasse 2'!J33=\"\",\"\",'Liste Klasse 2'!J33)","v":""},{"$f":"IF('Liste Klasse 2'!K33=\"\",\"\",'Liste Klasse 2'!K33)","v":""},{"$f":"IF('Liste Klasse 2'!L33=\"\",\"\",'Liste Klasse 2'!L33)","v":""},{"$f":"IF('Liste Klasse 2'!M33=\"\",\"\",'Liste Klasse 2'!M33)","v":""},{"$f":"IF('Liste Klasse 2'!N33=\"\",\"\",'Liste Klasse 2'!N33)","v":""},{"$f":"IF('Liste Klasse 2'!O33=\"\",\"\",'Liste Klasse 2'!O33)","v":""},{"$f":"IF('Liste Klasse 2'!P33=\"\",\"\",'Liste Klasse 2'!P33)","v":""},{"$f":"IF('Liste Klasse 2'!Q33=\"\",\"\",'Liste Klasse 2'!Q33)","v":""},{"$f":"IF('Liste Klasse 2'!R33=\"\",\"\",'Liste Klasse 2'!R33)","v":""},{"$f":"'Liste Klasse 2'!S33","v":0},{"$f":"'Liste Klasse 2'!T33","v":""},{"$f":"'Liste Klasse 2'!U33","v":0}]
[{"$f":"IF('Liste Klasse 2'!A34=\"\",\"\",'Liste Klasse 2'!A34&\" / \"&'Liste Klasse 2'!B34&\" / Klasse 2\")","v":""},{"$f":"IF('Liste Klasse 2'!C34=\"\",\"\",'Liste Klasse 2'!C34)","v":""},{"$f":"IF('Liste Klasse 2'!D34=\"\",\"\",'Liste Klasse 2'!D34&CHAR(10)&'Liste Klasse 2'!E34)","v":""},{"$f":"IF('Liste Klasse 2'!F34=\"\",\"\",'Liste Klasse 2'!F34&CHAR(10)&'Liste Klasse 2'!G34)","v":""},{"$f":"IF('Liste Klasse 2'!H34=\"\",\"\",'Liste Klasse 2'!H34)","v":""},{"$f":"IF('Liste Klasse 2'!I34=\"\",\"\",'Liste Klasse 2'!I34)","v":""},{"$f":"IF('Liste Klasse 2'!J34=\"\",\"\",'Liste Klasse 2'!J34)","v":""},{"$f":"IF('Liste Klasse 2'!K34=\"\",\"\",'Liste Klasse 2'!K34)","v":""},{"$f":"IF('Liste Klasse 2'!L34=\"\",\"\",'Liste Klasse 2'!L34)","v":""},{"$f":"IF('Liste Klasse 2'!M34=\"\",\"\",'Liste Klasse 2'!M34)","v":""},{"$f":"IF('Liste Klasse 2'!N34=\"\",\"\",'Liste Klasse 2'!N34)","v":""},{"$f":"IF('Liste Klasse 2'!O34=\"\",\"\",'Liste Klasse 2'!O34)","v":""},{"$f":"IF('Liste Klasse 2'!P34=\"\",\"\",'Liste Klasse 2'!P34)","v":""},{"$f":"IF('Liste Klasse 2'!Q34=\"\",\"\",'Liste Klasse 2'!Q34)","v":""},{"$f":"IF('Liste Klasse 2'!R34=\"\",\"\",'Liste Klasse 2'!R34)","v":""},{"$f":"'Liste Klasse 2'!S34","v":0},{"$f":"'Liste Klasse 2'!T34","v":""},{"$f":"'Liste Klasse 2'!U34","v":0}]
[{"$f":"IF('Liste Klasse 2'!A35=\"\",\"\",'Liste Klasse 2'!A35&\" / \"&'Liste Klasse 2'!B35&\" / Klasse 2\")","v":""},{"$f":"IF('Liste Klasse 2'!C35=\"\",\"\",'Liste Klasse 2'!C35)","v":""},{"$f":"IF('Liste Klasse 2'!D35=\"\",\"\",'Liste Klasse 2'!D35&CHAR(10)&'Liste Klasse 2'!E35)","v":""},{"$f":"IF('Liste Klasse 2'!F35=\"\",\"\",'Liste Klasse 2'!F35&CHAR(10)&'Liste Klasse 2'!G35)","v":""},{"$f":"IF('Liste Klasse 2'!H35=\"\",\"\",'Liste Klasse 2'!H35)","v":""},{"$f":"IF('Liste Klasse 2'!I35=\"\",\"\",'Liste Klasse 2'!I35)","v":""},{"$f":"IF('Liste Klasse 2'!J35=\"\",\"\",'Liste Klasse 2'!J35)","v":""},{"$f":"IF('Liste Klasse 2'!K35=\"\",\"\",'Liste Klasse 2'!K35)","v":""},{"$f":"IF('Liste Klasse 2'!L35=\"\",\"\",'Liste Klasse 2'!L35)","v":""},{"$f":"IF('Liste Klasse 2'!M35=\"\",\"\",'Liste Klasse 2'!M35)","v":""},{"$f":"IF('Liste Klasse 2'!N35=\"\",\"\",'Liste Klasse 2'!N35)","v":""},{"$f":"IF('Liste Klasse 2'!O35=\"\",\"\",'Liste Klasse 2'!O35)","v":""},{"$f":"IF('Liste Klasse 2'!P35=\"\",\"\",'Liste Klasse 2'!P35)","v":""},{"$f":"IF('Liste Klasse 2'!Q35=\"\",\"\",'Liste Klasse 2'!Q35)","v":""},{"$f":"IF('Liste Klasse 2'!R35=\"\",\"\",'Liste Klasse 2'!R35)","v":""},{"$f":"'Liste Klasse 2'!S35","v":0},{"$f":"'Liste Klasse 2'!T35","v":""},{"$f":"'Liste Klasse 2'!U35","v":0}]
[{"$f":"IF('Liste Klasse 2'!A36=\"\",\"\",'Liste Klasse 2'!A36&\" / \"&'Liste Klasse 2'!B36&\" / Klasse 2\")","v":""},{"$f":"IF('Liste Klasse 2'!C36=\"\",\"\",'Liste Klasse 2'!C36)","v":""},{"$f":"IF('Liste Klasse 2'!D36=\"\",\"\",'Liste Klasse 2'!D36&CHAR(10)&'Liste Klasse 2'!E36)","v":""},{"$f":"IF('Liste Klasse 2'!F36=\"\",\"\",'Liste Klasse 2'!F36&CHAR(10)&'Liste Klasse 2'!G36)","v":""},{"$f":"IF('Liste Klasse 2'!H36=\"\",\"\",'Liste Klasse 2'!H36)","v":""},{"$f":"IF('Liste Klasse 2'!I36=\"\",\"\",'Liste Klasse 2'!I36)","v":""},{"$f":"IF('Liste Klasse 2'!J36=\"\",\"\",'Liste Klasse 2'!J36)","v":""},{"$f":"IF('Liste Klasse 2'!K36=\"\",\"\",'Liste Klasse 2'!K36)","v":""},{"$f":"IF('Liste Klasse 2'!L36=\"\",\"\",'Liste Klasse 2'!L36)","v":""},{"$f":"IF('Liste Klasse 2'!M36=\"\",\"\",'Liste Klasse 2'!M36)","v":""},{"$f":"IF('Liste Klasse 2'!N36=\"\",\"\",'Liste Klasse 2'!N36)","v":""},{"$f":"IF('Liste Klasse 2'!O36=\"\",\"\",'Liste Klasse 2'!O36)","v":""},{"$f":"IF('Liste Klasse 2'!P36=\"\",\"\",'Liste Klasse 2'!P36)","v":""},{"$f":"IF('Liste Klasse 2'!Q36=\"\",\"\",'Liste Klasse 2'!Q36)","v":""},{"$f":"IF('Liste Klasse 2'!R36=\"\",\"\",'Liste Klasse 2'!R36)","v":""},{"$f":"'Liste Klasse 2'!S36","v":0},{"$f":"'Liste Klasse 2'!T36","v":""},{"$f":"'Liste Klasse 2'!U36","v":0}]
[{"$f":"IF('Liste Klasse 2'!A37=\"\",\"\",'Liste Klasse 2'!A37&\" / \"&'Liste Klasse 2'!B37&\" / Klasse 2\")","v":""},{"$f":"IF('Liste Klasse 2'!C37=\"\",\"\",'Liste Klasse 2'!C37)","v":""},{"$f":"IF('Liste Klasse 2'!D37=\"\",\"\",'Liste Klasse 2'!D37&CHAR(10)&'Liste Klasse 2'!E37)","v":""},{"$f":"IF('Liste Klasse 2'!F37=\"\",\"\",'Liste Klasse 2'!F37&CHAR(10)&'Liste Klasse 2'!G37)","v":""},{"$f":"IF('Liste Klasse 2'!H37=\"\",\"\",'Liste Klasse 2'!H37)","v":""},{"$f":"IF('Liste Klasse 2'!I37=\"\",\"\",'Liste Klasse 2'!I37)","v":""},{"$f":"IF('Liste Klasse 2'!J37=\"\",\"\",'Liste Klasse 2'!J37)","v":""},{"$f":"IF('Liste Klasse 2'!K37=\"\",\"\",'Liste Klasse 2'!K37)","v":""},{"$f":"IF('Liste Klasse 2'!L37=\"\",\"\",'Liste Klasse 2'!L37)","v":""},{"$f":"IF('Liste Klasse 2'!M37=\"\",\"\",'Liste Klasse 2'!M37)","v":""},{"$f":"IF('Liste Klasse 2'!N37=\"\",\"\",'Liste Klasse 2'!N37)","v":""},{"$f":"IF('Liste Klasse 2'!O37=\"\",\"\",'Liste Klasse 2'!O37)","v":""},{"$f":"IF('Liste Klasse 2'!P37=\"\",\"\",'Liste Klasse 2'!P37)","v":""},{"$f":"IF('Liste Klasse 2'!Q37=\"\",\"\",'Liste Klasse 2'!Q37)","v":""},{"$f":"IF('Liste Klasse 2'!R37=\"\",\"\",'Liste Klasse 2'!R37)","v":""},{"$f":"'Liste Klasse 2'!S37","v":0},{"$f":"'Liste Klasse 2'!T37","v":""},{"$f":"'Liste Klasse 2'!U37","v":0}]
[{"$f":"IF('Liste Klasse 2'!A38=\"\",\"\",'Liste Klasse 2'!A38&\" / \"&'Liste Klasse 2'!B38&\" / Klasse 2\")","v":""},{"$f":"IF('Liste Klasse 2'!C38=\"\",\"\",'Liste Klasse 2'!C38)","v":""},{"$f":"IF('Liste Klasse 2'!D38=\"\",\"\",'Liste Klasse 2'!D38&CHAR(10)&'Liste Klasse 2'!E38)","v":""},{"$f":"IF('Liste Klasse 2'!F38=\"\",\"\",'Liste Klasse 2'!F38&CHAR(10)&'Liste Klasse 2'!G38)","v":""},{"$f":"IF('Liste Klasse 2'!H38=\"\",\"\",'Liste Klasse 2'!H38)","v":""},{"$f":"IF('Liste Klasse 2'!I38=\"\",\"\",'Liste Klasse 2'!I38)","v":""},{"$f":"IF('Liste Klasse 2'!J38=\"\",\"\",'Liste Klasse 2'!J38)","v":""},{"$f":"IF('Liste Klasse 2'!K38=\"\",\"\",'Liste Klasse 2'!K38)","v":""},{"$f":"IF('Liste Klasse 2'!L38=\"\",\"\",'Liste Klasse 2'!L38)","v":""},{"$f":"IF('Liste Klasse 2'!M38=\"\",\"\",'Liste Klasse 2'!M38)","v":""},{"$f":"IF('Liste Klasse 2'!N38=\"\",\"\",'Liste Klasse 2'!N38)","v":""},{"$f":"IF('Liste Klasse 2'!O38=\"\",\"\",'Liste Klasse 2'!O38)","v":""},{"$f":"IF('Liste Klasse 2'!P38=\"\",\"\",'Liste Klasse 2'!P38)","v":""},{"$f":"IF('Liste Klasse 2'!Q38=\"\",\"\",'Liste Klasse 2'!Q38)","v":""},{"$f":"IF('Liste Klasse 2'!R38=\"\",\"\",'Liste Klasse 2'!R38)","v":""},{"$f":"'Liste Klasse 2'!S38","v":0},{"$f":"'Liste Klasse 2'!T38","v":""},{"$f":"'Liste Klasse 2'!U38","v":0}]
["Start / Los / Klasse","Hundeführer/-in","Verein","Hund",{"$f":"IF('Liste Klasse 3'!H$4=0,\"\",'Liste Klasse 3'!H$4)","v":1},{"$f":"IF('Liste Klasse 3'!I$4=0,\"\",'Liste Klasse 3'!I$4)","v":2},{"$f":"IF('Liste Klasse 3'!J$4=0,\"\",'Liste Klasse 3'!J$4)","v":3},{"$f":"IF('Liste Klasse 3'!K$4=0,\"\",'Liste Klasse 3'!K$4)","v":4},{"$f":"IF('Liste Klasse 3'!L$4=0,\"\",'Liste Klasse 3'!L$4)","v":5},{"$f":"IF('Liste Klasse 3'!M$4=0,\"\",'Liste Klasse 3'!M$4)","v":6},{"$f":"IF('Liste Klasse 3'!N$4=0,\"\",'Liste Klasse 3'!N$4)","v":7},{"$f":"IF('Liste Klasse 3'!O$4=0,\"\",'Liste Klasse 3'!O$4)","v":8},{"$f":"IF('Liste Klasse 3'!P$4=0,\"\",'Liste Klasse 3'!P$4)","v":9},{"$f":"IF('Liste Klasse 3'!Q$4=0,\"\",'Liste Klasse 3'!Q$4)","v":10},{"$f":"IF('Liste Klasse 3'!R$4=0,\"\",'Liste Klasse 3'!R$4)","v":""},"Gesamt","WN","Platz"]
[{"$f":"IF('Liste Klasse 3'!A8=\"\",\"\",'Liste Klasse 3'!A8&\" / \"&'Liste Klasse 3'!B8&\" / Klasse 3\")","v":""},{"$f":"IF('Liste Klasse 3'!C8=\"\",\"\",'Liste Klasse 3'!C8)","v":""},{"$f":"IF('Liste Klasse 3'!D8=\"\",\"\",'Liste Klasse 3'!D8&CHAR(10)&'Liste Klasse 3'!E8)","v":""},{"$f":"IF('Liste Klasse 3'!F8=\"\",\"\",'Liste Klasse 3'!F8&CHAR(10)&'Liste Klasse 3'!G8)","v":""},{"$f":"IF('Liste Klasse 3'!H8=\"\",\"\",'Liste Klasse 3'!H8)","v":""},{"$f":"IF('Liste Klasse 3'!I8=\"\",\"\",'Liste Klasse 3'!I8)","v":""},{"$f":"IF('Liste Klasse 3'!J8=\"\",\"\",'Liste Klasse 3'!J8)","v":""},{"$f":"IF('Liste Klasse 3'!K8=\"\",\"\",'Liste Klasse 3'!K8)","v":""},{"$f":"IF('Liste Klasse 3'!L8=\"\",\"\",'Liste Klasse 3'!L8)","v":""},{"$f":"IF('Liste Klasse 3'!M8=\"\",\"\",'Liste Klasse 3'!M8)","v":""},{"$f":"IF('Liste Klasse 3'!N8=\"\",\"\",'Liste Klasse 3'!N8)","v":""},{"$f":"IF('Liste Klasse 3'!O8=\"\",\"\",'Liste Klasse 3'!O8)","v":""},{"$f":"IF('Liste Klasse 3'!P8=\"\",\"\",'Liste Klasse 3'!P8)","v":""},{"$f":"IF('Liste Klasse 3'!Q8=\"\",\"\",'Liste Klasse 3'!Q8)","v":""},{"$f":"IF('Liste Klasse 3'!R8=\"\",\"\",'Liste Klasse 3'!R8)","v":""},{"$f":"'Liste Klasse 3'!S8","v":0},{"$f":"'Liste Klasse 3'!T8","v":""},{"$f":"'Liste Klasse 3'!U8","v":0}]
[{"$f":"IF('Liste Klasse 3'!A9=\"\",\"\",'Liste Klasse 3'!A9&\" / \"&'Liste Klasse 3'!B9&\" / Klasse 3\")","v":""},{"$f":"IF('Liste Klasse 3'!C9=\"\",\"\",'Liste Klasse 3'!C9)","v":""},{"$f":"IF('Liste Klasse 3'!D9=\"\",\"\",'Liste Klasse 3'!D9&CHAR(10)&'Liste Klasse 3'!E9)","v":""},{"$f":"IF('Liste Klasse 3'!F9=\"\",\"\",'Liste Klasse 3'!F9&CHAR(10)&'Liste Klasse 3'!G9)","v":""},{"$f":"IF('Liste Klasse 3'!H9=\"\",\"\",'Liste Klasse 3'!H9)","v":""},{"$f":"IF('Liste Klasse 3'!I9=\"\",\"\",'Liste Klasse 3'!I9)","v":""},{"$f":"IF('Liste Klasse 3'!J9=\"\",\"\",'Liste Klasse 3'!J9)","v":""},{"$f":"IF('Liste Klasse 3'!K9=\"\",\"\",'Liste Klasse 3'!K9)","v":""},{"$f":"IF('Liste Klasse 3'!L9=\"\",\"\",'Liste Klasse 3'!L9)","v":""},{"$f":"IF('Liste Klasse 3'!M9=\"\",\"\",'Liste Klasse 3'!M9)","v":""},{"$f":"IF('Liste Klasse 3'!N9=\"\",\"\",'Liste Klasse 3'!N9)","v":""},{"$f":"IF('Liste Klasse 3'!O9=\"\",\"\",'Liste Klasse 3'!O9)","v":""},{"$f":"IF('Liste Klasse 3'!P9=\"\",\"\",'Liste Klasse 3'!P9)","v":""},{"$f":"IF('Liste Klasse 3'!Q9=\"\",\"\",'Liste Klasse 3'!Q9)","v":""},{"$f":"IF('Liste Klasse 3'!R9=\"\",\"\",'Liste Klasse 3'!R9)","v":""},{"$f":"'Liste Klasse 3'!S9","v":0},{"$f":"'Liste Klasse 3'!T9","v":""},{"$f":"'Liste Klasse 3'!U9","v":0}]
[{"$f":"IF('Liste Klasse 3'!A10=\"\",\"\",'Liste Klasse 3'!A10&\" / \"&'Liste Klasse 3'!B10&\" / Klasse 3\")","v":""},{"$f":"IF('Liste Klasse 3'!C10=\"\",\"\",'Liste Klasse 3'!C10)","v":""},{"$f":"IF('Liste Klasse 3'!D10=\"\",\"\",'Liste Klasse 3'!D10&CHAR(10)&'Liste Klasse 3'!E10)","v":""},{"$f":"IF('Liste Klasse 3'!F10=\"\",\"\",'Liste Klasse 3'!F10&CHAR(10)&'Liste Klasse 3'!G10)","v":""},{"$f":"IF('Liste Klasse 3'!H10=\"\",\"\",'Liste Klasse 3'!H10)","v":""},{"$f":"IF('Liste Klasse 3'!I10=\"\",\"\",'Liste Klasse 3'!I10)","v":""},{"$f":"IF('Liste Klasse 3'!J10=\"\",\"\",'Liste Klasse 3'!J10)","v":""},{"$f":"IF('Liste Klasse 3'!K10=\"\",\"\",'Liste Klasse 3'!K10)","v":""},{"$f":"IF('Liste Klasse 3'!L10=\"\",\"\",'Liste Klasse 3'!L10)","v":""},{"$f":"IF('Liste Klasse 3'!M10=\"\",\"\",'Liste Klasse 3'!M10)","v":""},{"$f":"IF('Liste Klasse 3'!N10=\"\",\"\",'Liste Klasse 3'!N10)","v":""},{"$f":"IF('Liste Klasse 3'!O10=\"\",\"\",'Liste Klasse 3'!O10)","v":""},{"$f":"IF('Liste Klasse 3'!P10=\"\",\"\",'Liste Klasse 3'!P10)","v":""},{"$f":"IF('Liste Klasse 3'!Q10=\"\",\"\",'Liste Klasse 3'!Q10)","v":""},{"$f":"IF('Liste Klasse 3'!R10=\"\",\"\",'Liste Klasse 3'!R10)","v":""},{"$f":"'Liste Klasse 3'!S10","v":0},{"$f":"'Liste Klasse 3'!T10","v":""},{"$f":"'Liste Klasse 3'!U10","v":0}]
[{"$f":"IF('Liste Klasse 3'!A11=\"\",\"\",'Liste Klasse 3'!A11&\" / \"&'Liste Klasse 3'!B11&\" / Klasse 3\")","v":""},{"$f":"IF('Liste Klasse 3'!C11=\"\",\"\",'Liste Klasse 3'!C11)","v":""},{"$f":"IF('Liste Klasse 3'!D11=\"\",\"\",'Liste Klasse 3'!D11&CHAR(10)&'Liste Klasse 3'!E11)","v":""},{"$f":"IF('Liste Klasse 3'!F11=\"\",\"\",'Liste Klasse 3'!F11&CHAR(10)&'Liste Klasse 3'!G11)","v":""},{"$f":"IF('Liste Klasse 3'!H11=\"\",\"\",'Liste Klasse 3'!H11)","v":""},{"$f":"IF('Liste Klasse 3'!I11=\"\",\"\",'Liste Klasse 3'!I11)","v":""},{"$f":"IF('Liste Klasse 3'!J11=\"\",\"\",'Liste Klasse 3'!J11)","v":""},{"$f":"IF('Liste Klasse 3'!K11=\"\",\"\",'Liste Klasse 3'!K11)","v":""},{"$f":"IF('Liste Klasse 3'!L11=\"\",\"\",'Liste Klasse 3'!L11)","v":""},{"$f":"IF('Liste Klasse 3'!M11=\"\",\"\",'Liste Klasse 3'!M11)","v":""},{"$f":"IF('Liste Klasse 3'!N11=\"\",\"\",'Liste Klasse 3'!N11)","v":""},{"$f":"IF('Liste Klasse 3'!O11=\"\",\"\",'Liste Klasse 3'!O11)","v":""},{"$f":"IF('Liste Klasse 3'!P11=\"\",\"\",'Liste Klasse 3'!P11)","v":""},{"$f":"IF('Liste Klasse 3'!Q11=\"\",\"\",'Liste Klasse 3'!Q11)","v":""},{"$f":"IF('Liste Klasse 3'!R11=\"\",\"\",'Liste Klasse 3'!R11)","v":""},{"$f":"'Liste Klasse 3'!S11","v":0},{"$f":"'Liste Klasse 3'!T11","v":""},{"$f":"'Liste Klasse 3'!U11","v":0}]
[{"$f":"IF('Liste Klasse 3'!A12=\"\",\"\",'Liste Klasse 3'!A12&\" / \"&'Liste Klasse 3'!B12&\" / Klasse 3\")","v":""},{"$f":"IF('Liste Klasse 3'!C12=\"\",\"\",'Liste Klasse 3'!C12)","v":""},{"$f":"IF('Liste Klasse 3'!D12=\"\",\"\",'Liste Klasse 3'!D12&CHAR(10)&'Liste Klasse 3'!E12)","v":""},{"$f":"IF('Liste Klasse 3'!F12=\"\",\"\",'Liste Klasse 3'!F12&CHAR(10)&'Liste Klasse 3'!G12)","v":""},{"$f":"IF('Liste Klasse 3'!H12=\"\",\"\",'Liste Klasse 3'!H12)","v":""},{"$f":"IF('Liste Klasse 3'!I12=\"\",\"\",'Liste Klasse 3'!I12)","v":""},{"$f":"IF('Liste Klasse 3'!J12=\"\",\"\",'Liste Klasse 3'!J12)","v":""},{"$f":"IF('Liste Klasse 3'!K12=\"\",\"\",'Liste Klasse 3'!K12)","v":""},{"$f":"IF('Liste Klasse 3'!L12=\"\",\"\",'Liste Klasse 3'!L12)","v":""},{"$f":"IF('Liste Klasse 3'!M12=\"\",\"\",'Liste Klasse 3'!M12)","v":""},{"$f":"IF('Liste Klasse 3'!N12=\"\",\"\",'Liste Klasse 3'!N12)","v":""},{"$f":"IF('Liste Klasse 3'!O12=\"\",\"\",'Liste Klasse 3'!O12)","v":""},{"$f":"IF('Liste Klasse 3'!P12=\"\",\"\",'Liste Klasse 3'!P12)","v":""},{"$f":"IF('Liste Klasse 3'!Q12=\"\",\"\",'Liste Klasse 3'!Q12)","v":""},{"$f":"IF('Liste Klasse 3'!R12=\"\",\"\",'Liste Klasse 3'!R12)","v":""},{"$f":"'Liste Klasse 3'!S12","v":0},{"$f":"'Liste Klasse 3'!T12","v":""},{"$f":"'Liste Klasse 3'!U12","v":0}]
[{"$f":"IF('Liste Klasse 3'!A13=\"\",\"\",'Liste Klasse 3'!A13&\" / \"&'Liste Klasse 3'!B13&\" / Klasse 3\")","v":""},{"$f":"IF('Liste Klasse 3'!C13=\"\",\"\",'Liste Klasse 3'!C13)","v":""},{"$f":"IF('Liste Klasse 3'!D13=\"\",\"\",'Liste Klasse 3'!D13&CHAR(10)&'Liste Klasse 3'!E13)","v":""},{"$f":"IF('Liste Klasse 3'!F13=\"\",\"\",'Liste Klasse 3'!F13&CHAR(10)&'Liste Klasse 3'!G13)","v":""},{"$f":"IF('Liste Klasse 3'!H13=\"\",\"\",'Liste Klasse 3'!H13)","v":""},{"$f":"IF('Liste Klasse 3'!I13=\"\",\"\",'Liste Klasse 3'!I13)","v":""},{"$f":"IF('Liste Klasse 3'!J13=\"\",\"\",'Liste Klasse 3'!J13)","v":""},{"$f":"IF('Liste Klasse 3'!K13=\"\",\"\",'Liste Klasse 3'!K13)","v":""},{"$f":"IF('Liste Klasse 3'!L13=\"\",\"\",'Liste Klasse 3'!L13)","v":""},{"$f":"IF('Liste Klasse 3'!M13=\"\",\"\",'Liste Klasse 3'!M13)","v":""},{"$f":"IF('Liste Klasse 3'!N13=\"\",\"\",'Liste Klasse 3'!N13)","v":""},{"$f":"IF('Liste Klasse 3'!O13=\"\",\"\",'Liste Klasse 3'!O13)","v":""},{"$f":"IF('Liste Klasse 3'!P13=\"\",\"\",'Liste Klasse 3'!P13)","v":""},{"$f":"IF('Liste Klasse 3'!Q13=\"\",\"\",'Liste Klasse 3'!Q13)","v":""},{"$f":"IF('Liste Klasse 3'!R13=\"\",\"\",'Liste Klasse 3'!R13)","v":""},{"$f":"'Liste Klasse 3'!S13","v":0},{"$f":"'Liste Klasse 3'!T13","v":""},{"$f":"'Liste Klasse 3'!U13","v":0}]
[{"$f":"IF('Liste Klasse 3'!A14=\"\",\"\",'Liste Klasse 3'!A14&\" / \"&'Liste Klasse 3'!B14&\" / Klasse 3\")","v":""},{"$f":"IF('Liste Klasse 3'!C14=\"\",\"\",'Liste Klasse 3'!C14)","v":""},{"$f":"IF('Liste Klasse 3'!D14=\"\",\"\",'Liste Klasse 3'!D14&CHAR(10)&'Liste Klasse 3'!E14)","v":""},{"$f":"IF('Liste Klasse 3'!F14=\"\",\"\",'Liste Klasse 3'!F14&CHAR(10)&'Liste Klasse 3'!G14)","v":""},{"$f":"IF('Liste Klasse 3'!H14=\"\",\"\",'Liste Klasse 3'!H14)","v":""},{"$f":"IF('Liste Klasse 3'!I14=\"\",\"\",'Liste Klasse 3'!I14)","v":""},{"$f":"IF('Liste Klasse 3'!J14=\"\",\"\",'Liste Klasse 3'!J14)","v":""},{"$f":"IF('Liste Klasse 3'!K14=\"\",\"\",'Liste Klasse 3'!K14)","v":""},{"$f":"IF('Liste Klasse 3'!L14=\"\",\"\",'Liste Klasse 3'!L14)","v":""},{"$f":"IF('Liste Klasse 3'!M14=\"\",\"\",'Liste Klasse 3'!M14)","v":""},{"$f":"IF('Liste Klasse 3'!N14=\"\",\"\",'Liste Klasse 3'!N14)","v":""},{"$f":"IF('Liste Klasse 3'!O14=\"\",\"\",'Liste Klasse 3'!O14)","v":""},{"$f":"IF('Liste Klasse 3'!P14=\"\",\"\",'Liste Klasse 3'!P14)","v":""},{"$f":"IF('Liste Klasse 3'!Q14=\"\",\"\",'Liste Klasse 3'!Q14)","v":""},{"$f":"IF('Liste Klasse 3'!R14=\"\",\"\",'Liste Klasse 3'!R14)","v":""},{"$f":"'Liste Klasse 3'!S14","v":0},{"$f":"'Liste Klasse 3'!T14","v":""},{"$f":"'Liste Klasse 3'!U14","v":0}]
[{"$f":"IF('Liste Klasse 3'!A15=\"\",\"\",'Liste Klasse 3'!A15&\" / \"&'Liste Klasse 3'!B15&\" / Klasse 3\")","v":""},{"$f":"IF('Liste Klasse 3'!C15=\"\",\"\",'Liste Klasse 3'!C15)","v":""},{"$f":"IF('Liste Klasse 3'!D15=\"\",\"\",'Liste Klasse 3'!D15&CHAR(10)&'Liste Klasse 3'!E15)","v":""},{"$f":"IF('Liste Klasse 3'!F15=\"\",\"\",'Liste Klasse 3'!F15&CHAR(10)&'Liste Klasse 3'!G15)","v":""},{"$f":"IF('Liste Klasse 3'!H15=\"\",\"\",'Liste Klasse 3'!H15)","v":""},{"$f":"IF('Liste Klasse 3'!I15=\"\",\"\",'Liste Klasse 3'!I15)","v":""},{"$f":"IF('Liste Klasse 3'!J15=\"\",\"\",'Liste Klasse 3'!J15)","v":""},{"$f":"IF('Liste Klasse 3'!K15=\"\",\"\",'Liste Klasse 3'!K15)","v":""},{"$f":"IF('Liste Klasse 3'!L15=\"\",\"\",'Liste Klasse 3'!L15)","v":""},{"$f":"IF('Liste Klasse 3'!M15=\"\",\"\",'Liste Klasse 3'!M15)","v":""},{"$f":"IF('Liste Klasse 3'!N15=\"\",\"\",'Liste Klasse 3'!N15)","v":""},{"$f":"IF('Liste Klasse 3'!O15=\"\",\"\",'Liste Klasse 3'!O15)","v":""},{"$f":"IF('Liste Klasse 3'!P15=\"\",\"\",'Liste Klasse 3'!P15)","v":""},{"$f":"IF('Liste Klasse 3'!Q15=\"\",\"\",'Liste Klasse 3'!Q15)","v":""},{"$f":"IF('Liste Klasse 3'!R15=\"\",\"\",'Liste Klasse 3'!R15)","v":""},{"$f":"'Liste Klasse 3'!S15","v":0},{"$f":"'Liste Klasse 3'!T15","v":""},{"$f":"'Liste Klasse 3'!U15","v":0}]
[{"$f":"IF('Liste Klasse 3'!A16=\"\",\"\",'Liste Klasse 3'!A16&\" / \"&'Liste Klasse 3'!B16&\" / Klasse 3\")","v":""},{"$f":"IF('Liste Klasse 3'!C16=\"\",\"\",'Liste Klasse 3'!C16)","v":""},{"$f":"IF('Liste Klasse 3'!D16=\"\",\"\",'Liste Klasse 3'!D16&CHAR(10)&'Liste Klasse 3'!E16)","v":""},{"$f":"IF('Liste Klasse 3'!F16=\"\",\"\",'Liste Klasse 3'!F16&CHAR(10)&'Liste Klasse 3'!G16)","v":""},{"$f":"IF('Liste Klasse 3'!H16=\"\",\"\",'Liste Klasse 3'!H16)","v":""},{"$f":"IF('Liste Klasse 3'!I16=\"\",\"\",'Liste Klasse 3'!I16)","v":""},{"$f":"IF('Liste Klasse 3'!J16=\"\",\"\",'Liste Klasse 3'!J16)","v":""},{"$f":"IF('Liste Klasse 3'!K16=\"\",\"\",'Liste Klasse 3'!K16)","v":""},{"$f":"IF('Liste Klasse 3'!L16=\"\",\"\",'Liste Klasse 3'!L16)","v":""},{"$f":"IF('Liste Klasse 3'!M16=\"\",\"\",'Liste Klasse 3'!M16)","v":""},{"$f":"IF('Liste Klasse 3'!N16=\"\",\"\",'Liste Klasse 3'!N16)","v":""},{"$f":"IF('Liste Klasse 3'!O16=\"\",\"\",'Liste Klasse 3'!O16)","v":""},{"$f":"IF('Liste Klasse 3'!P16=\"\",\"\",'Liste Klasse 3'!P16)","v":""},{"$f":"IF('Liste Klasse 3'!Q16=\"\",\"\",'Liste Klasse 3'!Q16)","v":""},{"$f":"IF('Liste Klasse 3'!R16=\"\",\"\",'Liste Klasse 3'!R16)","v":""},{"$f":"'Liste Klasse 3'!S16","v":0},{"$f":"'Liste Klasse 3'!T16","v":""},{"$f":"'Liste Klasse 3'!U16","v":0}]
[{"$f":"IF('Liste Klasse 3'!A17=\"\",\"\",'Liste Klasse 3'!A17&\" / \"&'Liste Klasse 3'!B17&\" / Klasse 3\")","v":""},{"$f":"IF('Liste Klasse 3'!C17=\"\",\"\",'Liste Klasse 3'!C17)","v":""},{"$f":"IF('Liste Klasse 3'!D17=\"\",\"\",'Liste Klasse 3'!D17&CHAR(10)&'Liste Klasse 3'!E17)","v":""},{"$f":"IF('Liste Klasse 3'!F17=\"\",\"\",'Liste Klasse 3'!F17&CHAR(10)&'Liste Klasse 3'!G17)","v":""},{"$f":"IF('Liste Klasse 3'!H17=\"\",\"\",'Liste Klasse 3'!H17)","v":""},{"$f":"IF('Liste Klasse 3'!I17=\"\",\"\",'Liste Klasse 3'!I17)","v":""},{"$f":"IF('Liste Klasse 3'!J17=\"\",\"\",'Liste Klasse 3'!J17)","v":""},{"$f":"IF('Liste Klasse 3'!K17=\"\",\"\",'Liste Klasse 3'!K17)","v":""},{"$f":"IF('Liste Klasse 3'!L17=\"\",\"\",'Liste Klasse 3'!L17)","v":""},{"$f":"IF('Liste Klasse 3'!M17=\"\",\"\",'Liste Klasse 3'!M17)","v":""},{"$f":"IF('Liste Klasse 3'!N17=\"\",\"\",'Liste Klasse 3'!N17)","v":""},{"$f":"IF('Liste Klasse 3'!O17=\"\",\"\",'Liste Klasse 3'!O17)","v":""},{"$f":"IF('Liste Klasse 3'!P17=\"\",\"\",'Liste Klasse 3'!P17)","v":""},{"$f":"IF('Liste Klasse 3'!Q17=\"\",\"\",'Liste Klasse 3'!Q17)","v":""},{"$f":"IF('Liste Klasse 3'!R17=\"\",\"\",'Liste Klasse 3'!R17)","v":""},{"$f":"'Liste Klasse 3'!S17","v":0},{"$f":"'Liste Klasse 3'!T17","v":""},{"$f":"'Liste Klasse 3'!U17","v":0}]
[{"$f":"IF('Liste Klasse 3'!A18=\"\",\"\",'Liste Klasse 3'!A18&\" / \"&'Liste Klasse 3'!B18&\" / Klasse 3\")","v":""},{"$f":"IF('Liste Klasse 3'!C18=\"\",\"\",'Liste Klasse 3'!C18)","v":""},{"$f":"IF('Liste Klasse 3'!D18=\"\",\"\",'Liste Klasse 3'!D18&CHAR(10)&'Liste Klasse 3'!E18)","v":""},{"$f":"IF('Liste Klasse 3'!F18=\"\",\"\",'Liste Klasse 3'!F18&CHAR(10)&'Liste Klasse 3'!G18)","v":""},{"$f":"IF('Liste Klasse 3'!H18=\"\",\"\",'Liste Klasse 3'!H18)","v":""},{"$f":"IF('Liste Klasse 3'!I18=\"\",\"\",'Liste Klasse 3'!I18)","v":""},{"$f":"IF('Liste Klasse 3'!J18=\"\",\"\",'Liste Klasse 3'!J18)","v":""},{"$f":"IF('Liste Klasse 3'!K18=\"\",\"\",'Liste Klasse 3'!K18)","v":""},{"$f":"IF('Liste Klasse 3'!L18=\"\",\"\",'Liste Klasse 3'!L18)","v":""},{"$f":"IF('Liste Klasse 3'!M18=\"\",\"\",'Liste Klasse 3'!M18)","v":""},{"$f":"IF('Liste Klasse 3'!N18=\"\",\"\",'Liste Klasse 3'!N18)","v":""},{"$f":"IF('Liste Klasse 3'!O18=\"\",\"\",'Liste Klasse 3'!O18)","v":""},{"$f":"IF('Liste Klasse 3'!P18=\"\",\"\",'Liste Klasse 3'!P18)","v":""},{"$f":"IF('Liste Klasse 3'!Q18=\"\",\"\",'Liste Klasse 3'!Q18)","v":""},{"$f":"IF('Liste Klasse 3'!R18=\"\",\"\",'Liste Klasse 3'!R18)","v":""},{"$f":"'Liste Klasse 3'!S18","v":0},{"$f":"'Liste Klasse 3'!T18","v":""},{"$f":"'Liste Klasse 3'!U18","v":0}]
[{"$f":"IF('Liste Klasse 3'!A19=\"\",\"\",'Liste Klasse 3'!A19&\" / \"&'Liste Klasse 3'!B19&\" / Klasse 3\")","v":""},{"$f":"IF('Liste Klasse 3'!C19=\"\",\"\",'Liste Klasse 3'!C19)","v":""},{"$f":"IF('Liste Klasse 3'!D19=\"\",\"\",'Liste Klasse 3'!D19&CHAR(10)&'Liste Klasse 3'!E19)","v":""},{"$f":"IF('Liste Klasse 3'!F19=\"\",\"\",'Liste Klasse 3'!F19&CHAR(10)&'Liste Klasse 3'!G19)","v":""},{"$f":"IF('Liste Klasse 3'!H19=\"\",\"\",'Liste Klasse 3'!H19)","v":""},{"$f":"IF('Liste Klasse 3'!I19=\"\",\"\",'Liste Klasse 3'!I19)","v":""},{"$f":"IF('Liste Klasse 3'!J19=\"\",\"\",'Liste Klasse 3'!J19)","v":""},{"$f":"IF('Liste Klasse 3'!K19=\"\",\"\",'Liste Klasse 3'!K19)","v":""},{"$f":"IF('Liste Klasse 3'!L19=\"\",\"\",'Liste Klasse 3'!L19)","v":""},{"$f":"IF('Liste Klasse 3'!M19=\"\",\"\",'Liste Klasse 3'!M19)","v":""},{"$f":"IF('Liste Klasse 3'!N19=\"\",\"\",'Liste Klasse 3'!N19)","v":""},{"$f":"IF('Liste Klasse 3'!O19=\"\",\"\",'Liste Klasse 3'!O19)","v":""},{"$f":"IF('Liste Klasse 3'!P19=\"\",\"\",'Liste Klasse 3'!P19)","v":""},{"$f":"IF('Liste Klasse 3'!Q19=\"\",\"\",'Liste Klasse 3'!Q19)","v":""},{"$f":"IF('Liste Klasse 3'!R19=\"\",\"\",'Liste Klasse 3'!R19)","v":""},{"$f":"'Liste Klasse 3'!S19","v":0},{"$f":"'Liste Klasse 3'!T19","v":""},{"$f":"'Liste Klasse 3'!U19","v":0}]
[{"$f":"IF('Liste Klasse 3'!A20=\"\",\"\",'Liste Klasse 3'!A20&\" / \"&'Liste Klasse 3'!B20&\" / Klasse 3\")","v":""},{"$f":"IF('Liste Klasse 3'!C20=\"\",\"\",'Liste Klasse 3'!C20)","v":""},{"$f":"IF('Liste Klasse 3'!D20=\"\",\"\",'Liste Klasse 3'!D20&CHAR(10)&'Liste Klasse 3'!E20)","v":""},{"$f":"IF('Liste Klasse 3'!F20=\"\",\"\",'Liste Klasse 3'!F20&CHAR(10)&'Liste Klasse 3'!G20)","v":""},{"$f":"IF('Liste Klasse 3'!H20=\"\",\"\",'Liste Klasse 3'!H20)","v":""},{"$f":"IF('Liste Klasse 3'!I20=\"\",\"\",'Liste Klasse 3'!I20)","v":""},{"$f":"IF('Liste Klasse 3'!J20=\"\",\"\",'Liste Klasse 3'!J20)","v":""},{"$f":"IF('Liste Klasse 3'!K20=\"\",\"\",'Liste Klasse 3'!K20)","v":""},{"$f":"IF('Liste Klasse 3'!L20=\"\",\"\",'Liste Klasse 3'!L20)","v":""},{"$f":"IF('Liste Klasse 3'!M20=\"\",\"\",'Liste Klasse 3'!M20)","v":""},{"$f":"IF('Liste Klasse 3'!N20=\"\",\"\",'Liste Klasse 3'!N20)","v":""},{"$f":"IF('Liste Klasse 3'!O20=\"\",\"\",'Liste Klasse 3'!O20)","v":""},{"$f":"IF('Liste Klasse 3'!P20=\"\",\"\",'Liste Klasse 3'!P20)","v":""},{"$f":"IF('Liste Klasse 3'!Q20=\"\",\"\",'Liste Klasse 3'!Q20)","v":""},{"$f":"IF('Liste Klasse 3'!R20=\"\",\"\",'Liste Klasse 3'!R20)","v":""},{"$f":"'Liste Klasse 3'!S20","v":0},{"$f":"'Liste Klasse 3'!T20","v":""},{"$f":"'Liste Klasse 3'!U20","v":0}]
[{"$f":"IF('Liste Klasse 3'!A21=\"\",\"\",'Liste Klasse 3'!A21&\" / \"&'Liste Klasse 3'!B21&\" / Klasse 3\")","v":""},{"$f":"IF('Liste Klasse 3'!C21=\"\",\"\",'Liste Klasse 3'!C21)","v":""},{"$f":"IF('Liste Klasse 3'!D21=\"\",\"\",'Liste Klasse 3'!D21&CHAR(10)&'Liste Klasse 3'!E21)","v":""},{"$f":"IF('Liste Klasse 3'!F21=\"\",\"\",'Liste Klasse 3'!F21&CHAR(10)&'Liste Klasse 3'!G21)","v":""},{"$f":"IF('Liste Klasse 3'!H21=\"\",\"\",'Liste Klasse 3'!H21)","v":""},{"$f":"IF('Liste Klasse 3'!I21=\"\",\"\",'Liste Klasse 3'!I21)","v":""},{"$f":"IF('Liste Klasse 3'!J21=\"\",\"\",'Liste Klasse 3'!J21)","v":""},{"$f":"IF('Liste Klasse 3'!K21=\"\",\"\",'Liste Klasse 3'!K21)","v":""},{"$f":"IF('Liste Klasse 3'!L21=\"\",\"\",'Liste Klasse 3'!L21)","v":""},{"$f":"IF('Liste Klasse 3'!M21=\"\",\"\",'Liste Klasse 3'!M21)","v":""},{"$f":"IF('Liste Klasse 3'!N21=\"\",\"\",'Liste Klasse 3'!N21)","v":""},{"$f":"IF('Liste Klasse 3'!O21=\"\",\"\",'Liste Klasse 3'!O21)","v":""},{"$f":"IF('Liste Klasse 3'!P21=\"\",\"\",'Liste Klasse 3'!P21)","v":""},{"$f":"IF('Liste Klasse 3'!Q21=\"\",\"\",'Liste Klasse 3'!Q21)","v":""},{"$f":"IF('Liste Klasse 3'!R21=\"\",\"\",'Liste Klasse 3'!R21)","v":""},{"$f":"'Liste Klasse 3'!S21","v":0},{"$f":"'Liste Klasse 3'!T21","v":""},{"$f":"'Liste Klasse 3'!U21","v":0}]
[{"$f":"IF('Liste Klasse 3'!A22=\"\",\"\",'Liste Klasse 3'!A22&\" / \"&'Liste Klasse 3'!B22&\" / Klasse 3\")","v":""},{"$f":"IF('Liste Klasse 3'!C22=\"\",\"\",'Liste Klasse 3'!C22)","v":""},{"$f":"IF('Liste Klasse 3'!D22=\"\",\"\",'Liste Klasse 3'!D22&CHAR(10)&'Liste Klasse 3'!E22)","v":""},{"$f":"IF('Liste Klasse 3'!F22=\"\",\"\",'Liste Klasse 3'!F22&CHAR(10)&'Liste Klasse 3'!G22)","v":""},{"$f":"IF('Liste Klasse 3'!H22=\"\",\"\",'Liste Klasse 3'!H22)","v":""},{"$f":"IF('Liste Klasse 3'!I22=\"\",\"\",'Liste Klasse 3'!I22)","v":""},{"$f":"IF('Liste Klasse 3'!J22=\"\",\"\",'Liste Klasse 3'!J22)","v":""},{"$f":"IF('Liste Klasse 3'!K22=\"\",\"\",'Liste Klasse 3'!K22)","v":""},{"$f":"IF('Liste Klasse 3'!L22=\"\",\"\",'Liste Klasse 3'!L22)","v":""},{"$f":"IF('Liste Klasse 3'!M22=\"\",\"\",'Liste Klasse 3'!M22)","v":""},{"$f":"IF('Liste Klasse 3'!N22=\"\",\"\",'Liste Klasse 3'!N22)","v":""},{"$f":"IF('Liste Klasse 3'!O22=\"\",\"\",'Liste Klasse 3'!O22)","v":""},{"$f":"IF('Liste Klasse 3'!P22=\"\",\"\",'Liste Klasse 3'!P22)","v":""},{"$f":"IF('Liste Klasse 3'!Q22=\"\",\"\",'Liste Klasse 3'!Q22)","v":""},{"$f":"IF('Liste Klasse 3'!R22=\"\",\"\",'Liste Klasse 3'!R22)","v":""},{"$f":"'Liste Klasse 3'!S22","v":0},{"$f":"'Liste Klasse 3'!T22","v":""},{"$f":"'Liste Klasse 3'!U22","v":0}]
[{"$f":"IF('Liste Klasse 3'!A23=\"\",\"\",'Liste Klasse 3'!A23&\" / \"&'Liste Klasse 3'!B23&\" / Klasse 3\")","v":""},{"$f":"IF('Liste Klasse 3'!C23=\"\",\"\",'Liste Klasse 3'!C23)","v":""},{"$f":"IF('Liste Klasse 3'!D23=\"\",\"\",'Liste Klasse 3'!D23&CHAR(10)&'Liste Klasse 3'!E23)","v":""},{"$f":"IF('Liste Klasse 3'!F23=\"\",\"\",'Liste Klasse 3'!F23&CHAR(10)&'Liste Klasse 3'!G23)","v":""},{"$f":"IF('Liste Klasse 3'!H23=\"\",\"\",'Liste Klasse 3'!H23)","v":""},{"$f":"IF('Liste Klasse 3'!I23=\"\",\"\",'Liste Klasse 3'!I23)","v":""},{"$f":"IF('Liste Klasse 3'!J23=\"\",\"\",'Liste Klasse 3'!J23)","v":""},{"$f":"IF('Liste Klasse 3'!K23=\"\",\"\",'Liste Klasse 3'!K23)","v":""},{"$f":"IF('Liste Klasse 3'!L23=\"\",\"\",'Liste Klasse 3'!L23)","v":""},{"$f":"IF('Liste Klasse 3'!M23=\"\",\"\",'Liste Klasse 3'!M23)","v":""},{"$f":"IF('Liste Klasse 3'!N23=\"\",\"\",'Liste Klasse 3'!N23)","v":""},{"$f":"IF('Liste Klasse 3'!O23=\"\",\"\",'Liste Klasse 3'!O23)","v":""},{"$f":"IF('Liste Klasse 3'!P23=\"\",\"\",'Liste Klasse 3'!P23)","v":""},{"$f":"IF('Liste Klasse 3'!Q23=\"\",\"\",'Liste Klasse 3'!Q23)","v":""},{"$f":"IF('Liste Klasse 3'!R23=\"\",\"\",'Liste Klasse 3'!R23)","v":""},{"$f":"'Liste Klasse 3'!S23","v":0},{"$f":"'Liste Klasse 3'!T23","v":""},{"$f":"'Liste Klasse 3'!U23","v":0}]
[{"$f":"IF('Liste Klasse 3'!A24=\"\",\"\",'Liste Klasse 3'!A24&\" / \"&'Liste Klasse 3'!B24&\" / Klasse 3\")","v":""},{"$f":"IF('Liste Klasse 3'!C24=\"\",\"\",'Liste Klasse 3'!C24)","v":""},{"$f":"IF('Liste Klasse 3'!D24=\"\",\"\",'Liste Klasse 3'!D24&CHAR(10)&'Liste Klasse 3'!E24)","v":""},{"$f":"IF('Liste Klasse 3'!F24=\"\",\"\",'Liste Klasse 3'!F24&CHAR(10)&'Liste Klasse 3'!G24)","v":""},{"$f":"IF('Liste Klasse 3'!H24=\"\",\"\",'Liste Klasse 3'!H24)","v":""},{"$f":"IF('Liste Klasse 3'!I24=\"\",\"\",'Liste Klasse 3'!I24)","v":""},{"$f":"IF('Liste Klasse 3'!J24=\"\",\"\",'Liste Klasse 3'!J24)","v":""},{"$f":"IF('Liste Klasse 3'!K24=\"\",\"\",'Liste Klasse 3'!K24)","v":""},{"$f":"IF('Liste Klasse 3'!L24=\"\",\"\",'Liste Klasse 3'!L24)","v":""},{"$f":"IF('Liste Klasse 3'!M24=\"\",\"\",'Liste Klasse 3'!M24)","v":""},{"$f":"IF('Liste Klasse 3'!N24=\"\",\"\",'Liste Klasse 3'!N24)","v":""},{"$f":"IF('Liste Klasse 3'!O24=\"\",\"\",'Liste Klasse 3'!O24)","v":""},{"$f":"IF('Liste Klasse 3'!P24=\"\",\"\",'Liste Klasse 3'!P24)","v":""},{"$f":"IF('Liste Klasse 3'!Q24=\"\",\"\",'Liste Klasse 3'!Q24)","v":""},{"$f":"IF('Liste Klasse 3'!R24=\"\",\"\",'Liste Klasse 3'!R24)","v":""},{"$f":"'Liste Klasse 3'!S24","v":0},{"$f":"'Liste Klasse 3'!T24","v":""},{"$f":"'Liste Klasse 3'!U24","v":0}]
[{"$f":"IF('Liste Klasse 3'!A25=\"\",\"\",'Liste Klasse 3'!A25&\" / \"&'Liste Klasse 3'!B25&\" / Klasse 3\")","v":""},{"$f":"IF('Liste Klasse 3'!C25=\"\",\"\",'Liste Klasse 3'!C25)","v":""},{"$f":"IF('Liste Klasse 3'!D25=\"\",\"\",'Liste Klasse 3'!D25&CHAR(10)&'Liste Klasse 3'!E25)","v":""},{"$f":"IF('Liste Klasse 3'!F25=\"\",\"\",'Liste Klasse 3'!F25&CHAR(10)&'Liste Klasse 3'!G25)","v":""},{"$f":"IF('Liste Klasse 3'!H25=\"\",\"\",'Liste Klasse 3'!H25)","v":""},{"$f":"IF('Liste Klasse 3'!I25=\"\",\"\",'Liste Klasse 3'!I25)","v":""},{"$f":"IF('Liste Klasse 3'!J25=\"\",\"\",'Liste Klasse 3'!J25)","v":""},{"$f":"IF('Liste Klasse 3'!K25=\"\",\"\",'Liste Klasse 3'!K25)","v":""},{"$f":"IF('Liste Klasse 3'!L25=\"\",\"\",'Liste Klasse 3'!L25)","v":""},{"$f":"IF('Liste Klasse 3'!M25=\"\",\"\",'Liste Klasse 3'!M25)","v":""},{"$f":"IF('Liste Klasse 3'!N25=\"\",\"\",'Liste Klasse 3'!N25)","v":""},{"$f":"IF('Liste Klasse 3'!O25=\"\",\"\",'Liste Klasse 3'!O25)","v":""},{"$f":"IF('Liste Klasse 3'!P25=\"\",\"\",'Liste Klasse 3'!P25)","v":""},{"$f":"IF('Liste Klasse 3'!Q25=\"\",\"\",'Liste Klasse 3'!Q25)","v":""},{"$f":"IF('Liste Klasse 3'!R25=\"\",\"\",'Liste Klasse 3'!R25)","v":""},{"$f":"'Liste Klasse 3'!S25","v":0},{"$f":"'Liste Klasse 3'!T25","v":""},{"$f":"'Liste Klasse 3'!U25","v":0}]
[{"$f":"IF('Liste Klasse 3'!A26=\"\",\"\",'Liste Klasse 3'!A26&\" / \"&'Liste Klasse 3'!B26&\" / Klasse 3\")","v":""},{"$f":"IF('Liste Klasse 3'!C26=\"\",\"\",'Liste Klasse 3'!C26)","v":""},{"$f":"IF('Liste Klasse 3'!D26=\"\",\"\",'Liste Klasse 3'!D26&CHAR(10)&'Liste Klasse 3'!E26)","v":""},{"$f":"IF('Liste Klasse 3'!F26=\"\",\"\",'Liste Klasse 3'!F26&CHAR(10)&'Liste Klasse 3'!G26)","v":""},{"$f":"IF('Liste Klasse 3'!H26=\"\",\"\",'Liste Klasse 3'!H26)","v":""},{"$f":"IF('Liste Klasse 3'!I26=\"\",\"\",'Liste Klasse 3'!I26)","v":""},{"$f":"IF('Liste Klasse 3'!J26=\"\",\"\",'Liste Klasse 3'!J26)","v":""},{"$f":"IF('Liste Klasse 3'!K26=\"\",\"\",'Liste Klasse 3'!K26)","v":""},{"$f":"IF('Liste Klasse 3'!L26=\"\",\"\",'Liste Klasse 3'!L26)","v":""},{"$f":"IF('Liste Klasse 3'!M26=\"\",\"\",'Liste Klasse 3'!M26)","v":""},{"$f":"IF('Liste Klasse 3'!N26=\"\",\"\",'Liste Klasse 3'!N26)","v":""},{"$f":"IF('Liste Klasse 3'!O26=\"\",\"\",'Liste Klasse 3'!O26)","v":""},{"$f":"IF('Liste Klasse 3'!P26=\"\",\"\",'Liste Klasse 3'!P26)","v":""},{"$f":"IF('Liste Klasse 3'!Q26=\"\",\"\",'Liste Klasse 3'!Q26)","v":""},{"$f":"IF('Liste Klasse 3'!R26=\"\",\"\",'Liste Klasse 3'!R26)","v":""},{"$f":"'Liste Klasse 3'!S26","v":0},{"$f":"'Liste Klasse 3'!T26","v":""},{"$f":"'Liste Klasse 3'!U26","v":0}]
[{"$f":"IF('Liste Klasse 3'!A27=\"\",\"\",'Liste Klasse 3'!A27&\" / \"&'Liste Klasse 3'!B27&\" / Klasse 3\")","v":""},{"$f":"IF('Liste Klasse 3'!C27=\"\",\"\",'Liste Klasse 3'!C27)","v":""},{"$f":"IF('Liste Klasse 3'!D27=\"\",\"\",'Liste Klasse 3'!D27&CHAR(10)&'Liste Klasse 3'!E27)","v":""},{"$f":"IF('Liste Klasse 3'!F27=\"\",\"\",'Liste Klasse 3'!F27&CHAR(10)&'Liste Klasse 3'!G27)","v":""},{"$f":"IF('Liste Klasse 3'!H27=\"\",\"\",'Liste Klasse 3'!H27)","v":""},{"$f":"IF('Liste Klasse 3'!I27=\"\",\"\",'Liste Klasse 3'!I27)","v":""},{"$f":"IF('Liste Klasse 3'!J27=\"\",\"\",'Liste Klasse 3'!J27)","v":""},{"$f":"IF('Liste Klasse 3'!K27=\"\",\"\",'Liste Klasse 3'!K27)","v":""},{"$f":"IF('Liste Klasse 3'!L27=\"\",\"\",'Liste Klasse 3'!L27)","v":""},{"$f":"IF('Liste Klasse 3'!M27=\"\",\"\",'Liste Klasse 3'!M27)","v":""},{"$f":"IF('Liste Klasse 3'!N27=\"\",\"\",'Liste Klasse 3'!N27)","v":""},{"$f":"IF('Liste Klasse 3'!O27=\"\",\"\",'Liste Klasse 3'!O27)","v":""},{"$f":"IF('Liste Klasse 3'!P27=\"\",\"\",'Liste Klasse 3'!P27)","v":""},{"$f":"IF('Liste Klasse 3'!Q27=\"\",\"\",'Liste Klasse 3'!Q27)","v":""},{"$f":"IF('Liste Klasse 3'!R27=\"\",\"\",'Liste Klasse 3'!R27)","v":""},{"$f":"'Liste Klasse 3'!S27","v":0},{"$f":"'Liste Klasse 3'!T27","v":""},{"$f":"'Liste Klasse 3'!U27","v":0}]
[{"$f":"IF('Liste Klasse 3'!A28=\"\",\"\",'Liste Klasse 3'!A28&\" / \"&'Liste Klasse 3'!B28&\" / Klasse 3\")","v":""},{"$f":"IF('Liste Klasse 3'!C28=\"\",\"\",'Liste Klasse 3'!C28)","v":""},{"$f":"IF('Liste Klasse 3'!D28=\"\",\"\",'Liste Klasse 3'!D28&CHAR(10)&'Liste Klasse 3'!E28)","v":""},{"$f":"IF('Liste Klasse 3'!F28=\"\",\"\",'Liste Klasse 3'!F28&CHAR(10)&'Liste Klasse 3'!G28)","v":""},{"$f":"IF('Liste Klasse 3'!H28=\"\",\"\",'Liste Klasse 3'!H28)","v":""},{"$f":"IF('Liste Klasse 3'!I28=\"\",\"\",'Liste Klasse 3'!I28)","v":""},{"$f":"IF('Liste Klasse 3'!J28=\"\",\"\",'Liste Klasse 3'!J28)","v":""},{"$f":"IF('Liste Klasse 3'!K28=\"\",\"\",'Liste Klasse 3'!K28)","v":""},{"$f":"IF('Liste Klasse 3'!L28=\"\",\"\",'Liste Klasse 3'!L28)","v":""},{"$f":"IF('Liste Klasse 3'!M28=\"\",\"\",'Liste Klasse 3'!M28)","v":""},{"$f":"IF('Liste Klasse 3'!N28=\"\",\"\",'Liste Klasse 3'!N28)","v":""},{"$f":"IF('Liste Klasse 3'!O28=\"\",\"\",'Liste Klasse 3'!O28)","v":""},{"$f":"IF('Liste Klasse 3'!P28=\"\",\"\",'Liste Klasse 3'!P28)","v":""},{"$f":"IF('Liste Klasse 3'!Q28=\"\",\"\",'Liste Klasse 3'!Q28)","v":""},{"$f":"IF('Liste Klasse 3'!R28=\"\",\"\",'Liste Klasse 3'!R28)","v":""},{"$f":"'Liste Klasse 3'!S28","v":0},{"$f":"'Liste Klasse 3'!T28","v":""},{"$f":"'Liste Klasse 3'!U28","v":0}]
[{"$f":"IF('Liste Klasse 3'!A29=\"\",\"\",'Liste Klasse 3'!A29&\" / \"&'Liste Klasse 3'!B29&\" / Klasse 3\")","v":""},{"$f":"IF('Liste Klasse 3'!C29=\"\",\"\",'Liste Klasse 3'!C29)","v":""},{"$f":"IF('Liste Klasse 3'!D29=\"\",\"\",'Liste Klasse 3'!D29&CHAR(10)&'Liste Klasse 3'!E29)","v":""},{"$f":"IF('Liste Klasse 3'!F29=\"\",\"\",'Liste Klasse 3'!F29&CHAR(10)&'Liste Klasse 3'!G29)","v":""},{"$f":"IF('Liste Klasse 3'!H29=\"\",\"\",'Liste Klasse 3'!H29)","v":""},{"$f":"IF('Liste Klasse 3'!I29=\"\",\"\",'Liste Klasse 3'!I29)","v":""},{"$f":"IF('Liste Klasse 3'!J29=\"\",\"\",'Liste Klasse 3'!J29)","v":""},{"$f":"IF('Liste Klasse 3'!K29=\"\",\"\",'Liste Klasse 3'!K29)","v":""},{"$f":"IF('Liste Klasse 3'!L29=\"\",\"\",'Liste Klasse 3'!L29)","v":""},{"$f":"IF('Liste Klasse 3'!M29=\"\",\"\",'Liste Klasse 3'!M29)","v":""},{"$f":"IF('Liste Klasse 3'!N29=\"\",\"\",'Liste Klasse 3'!N29)","v":""},{"$f":"IF('Liste Klasse 3'!O29=\"\",\"\",'Liste Klasse 3'!O29)","v":""},{"$f":"IF('Liste Klasse 3'!P29=\"\",\"\",'Liste Klasse 3'!P29)","v":""},{"$f":"IF('Liste Klasse 3'!Q29=\"\",\"\",'Liste Klasse 3'!Q29)","v":""},{"$f":"IF('Liste Klasse 3'!R29=\"\",\"\",'Liste Klasse 3'!R29)","v":""},{"$f":"'Liste Klasse 3'!S29","v":0},{"$f":"'Liste Klasse 3'!T29","v":""},{"$f":"'Liste Klasse 3'!U29","v":0}]
[{"$f":"IF('Liste Klasse 3'!A30=\"\",\"\",'Liste Klasse 3'!A30&\" / \"&'Liste Klasse 3'!B30&\" / Klasse 3\")","v":""},{"$f":"IF('Liste Klasse 3'!C30=\"\",\"\",'Liste Klasse 3'!C30)","v":""},{"$f":"IF('Liste Klasse 3'!D30=\"\",\"\",'Liste Klasse 3'!D30&CHAR(10)&'Liste Klasse 3'!E30)","v":""},{"$f":"IF('Liste Klasse 3'!F30=\"\",\"\",'Liste Klasse 3'!F30&CHAR(10)&'Liste Klasse 3'!G30)","v":""},{"$f":"IF('Liste Klasse 3'!H30=\"\",\"\",'Liste Klasse 3'!H30)","v":""},{"$f":"IF('Liste Klasse 3'!I30=\"\",\"\",'Liste Klasse 3'!I30)","v":""},{"$f":"IF('Liste Klasse 3'!J30=\"\",\"\",'Liste Klasse 3'!J30)","v":""},{"$f":"IF('Liste Klasse 3'!K30=\"\",\"\",'Liste Klasse 3'!K30)","v":""},{"$f":"IF('Liste Klasse 3'!L30=\"\",\"\",'Liste Klasse 3'!L30)","v":""},{"$f":"IF('Liste Klasse 3'!M30=\"\",\"\",'Liste Klasse 3'!M30)","v":""},{"$f":"IF('Liste Klasse 3'!N30=\"\",\"\",'Liste Klasse 3'!N30)","v":""},{"$f":"IF('Liste Klasse 3'!O30=\"\",\"\",'Liste Klasse 3'!O30)","v":""},{"$f":"IF('Liste Klasse 3'!P30=\"\",\"\",'Liste Klasse 3'!P30)","v":""},{"$f":"IF('Liste Klasse 3'!Q30=\"\",\"\",'Liste Klasse 3'!Q30)","v":""},{"$f":"IF('Liste Klasse 3'!R30=\"\",\"\",'Liste Klasse 3'!R30)","v":""},{"$f":"'Liste Klasse 3'!S30","v":0},{"$f":"'Liste Klasse 3'!T30","v":""},{"$f":"'Liste Klasse 3'!U30","v":0}]
[{"$f":"IF('Liste Klasse 3'!A31=\"\",\"\",'Liste Klasse 3'!A31&\" / \"&'Liste Klasse 3'!B31&\" / Klasse 3\")","v":""},{"$f":"IF('Liste Klasse 3'!C31=\"\",\"\",'Liste Klasse 3'!C31)","v":""},{"$f":"IF('Liste Klasse 3'!D31=\"\",\"\",'Liste Klasse 3'!D31&CHAR(10)&'Liste Klasse 3'!E31)","v":""},{"$f":"IF('Liste Klasse 3'!F31=\"\",\"\",'Liste Klasse 3'!F31&CHAR(10)&'Liste Klasse 3'!G31)","v":""},{"$f":"IF('Liste Klasse 3'!H31=\"\",\"\",'Liste Klasse 3'!H31)","v":""},{"$f":"IF('Liste Klasse 3'!I31=\"\",\"\",'Liste Klasse 3'!I31)","v":""},{"$f":"IF('Liste Klasse 3'!J31=\"\",\"\",'Liste Klasse 3'!J31)","v":""},{"$f":"IF('Liste Klasse 3'!K31=\"\",\"\",'Liste Klasse 3'!K31)","v":""},{"$f":"IF('Liste Klasse 3'!L31=\"\",\"\",'Liste Klasse 3'!L31)","v":""},{"$f":"IF('Liste Klasse 3'!M31=\"\",\"\",'Liste Klasse 3'!M31)","v":""},{"$f":"IF('Liste Klasse 3'!N31=\"\",\"\",'Liste Klasse 3'!N31)","v":""},{"$f":"IF('Liste Klasse 3'!O31=\"\",\"\",'Liste Klasse 3'!O31)","v":""},{"$f":"IF('Liste Klasse 3'!P31=\"\",\"\",'Liste Klasse 3'!P31)","v":""},{"$f":"IF('Liste Klasse 3'!Q31=\"\",\"\",'Liste Klasse 3'!Q31)","v":""},{"$f":"IF('Liste Klasse 3'!R31=\"\",\"\",'Liste Klasse 3'!R31)","v":""},{"$f":"'Liste Klasse 3'!S31","v":0},{"$f":"'Liste Klasse 3'!T31","v":""},{"$f":"'Liste Klasse 3'!U31","v":0}]
[{"$f":"IF('Liste Klasse 3'!A32=\"\",\"\",'Liste Klasse 3'!A32&\" / \"&'Liste Klasse 3'!B32&\" / Klasse 3\")","v":""},{"$f":"IF('Liste Klasse 3'!C32=\"\",\"\",'Liste Klasse 3'!C32)","v":""},{"$f":"IF('Liste Klasse 3'!D32=\"\",\"\",'Liste Klasse 3'!D32&CHAR(10)&'Liste Klasse 3'!E32)","v":""},{"$f":"IF('Liste Klasse 3'!F32=\"\",\"\",'Liste Klasse 3'!F32&CHAR(10)&'Liste Klasse 3'!G32)","v":""},{"$f":"IF('Liste Klasse 3'!H32=\"\",\"\",'Liste Klasse 3'!H32)","v":""},{"$f":"IF('Liste Klasse 3'!I32=\"\",\"\",'Liste Klasse 3'!I32)","v":""},{"$f":"IF('Liste Klasse 3'!J32=\"\",\"\",'Liste Klasse 3'!J32)","v":""},{"$f":"IF('Liste Klasse 3'!K32=\"\",\"\",'Liste Klasse 3'!K32)","v":""},{"$f":"IF('Liste Klasse 3'!L32=\"\",\"\",'Liste Klasse 3'!L32)","v":""},{"$f":"IF('Liste Klasse 3'!M32=\"\",\"\",'Liste Klasse 3'!M32)","v":""},{"$f":"IF('Liste Klasse 3'!N32=\"\",\"\",'Liste Klasse 3'!N32)","v":""},{"$f":"IF('Liste Klasse 3'!O32=\"\",\"\",'Liste Klasse 3'!O32)","v":""},{"$f":"IF('Liste Klasse 3'!P32=\"\",\"\",'Liste Klasse 3'!P32)","v":""},{"$f":"IF('Liste Klasse 3'!Q32=\"\",\"\",'Liste Klasse 3'!Q32)","v":""},{"$f":"IF('Liste Klasse 3'!R32=\"\",\"\",'Liste Klasse 3'!R32)","v":""},{"$f":"'Liste Klasse 3'!S32","v":0},{"$f":"'Liste Klasse 3'!T32","v":""},{"$f":"'Liste Klasse 3'!U32","v":0}]
[{"$f":"IF('Liste Klasse 3'!A33=\"\",\"\",'Liste Klasse 3'!A33&\" / \"&'Liste Klasse 3'!B33&\" / Klasse 3\")","v":""},{"$f":"IF('Liste Klasse 3'!C33=\"\",\"\",'Liste Klasse 3'!C33)","v":""},{"$f":"IF('Liste Klasse 3'!D33=\"\",\"\",'Liste Klasse 3'!D33&CHAR(10)&'Liste Klasse 3'!E33)","v":""},{"$f":"IF('Liste Klasse 3'!F33=\"\",\"\",'Liste Klasse 3'!F33&CHAR(10)&'Liste Klasse 3'!G33)","v":""},{"$f":"IF('Liste Klasse 3'!H33=\"\",\"\",'Liste Klasse 3'!H33)","v":""},{"$f":"IF('Liste Klasse 3'!I33=\"\",\"\",'Liste Klasse 3'!I33)","v":""},{"$f":"IF('Liste Klasse 3'!J33=\"\",\"\",'Liste Klasse 3'!J33)","v":""},{"$f":"IF('Liste Klasse 3'!K33=\"\",\"\",'Liste Klasse 3'!K33)","v":""},{"$f":"IF('Liste Klasse 3'!L33=\"\",\"\",'Liste Klasse 3'!L33)","v":""},{"$f":"IF('Liste Klasse 3'!M33=\"\",\"\",'Liste Klasse 3'!M33)","v":""},{"$f":"IF('Liste Klasse 3'!N33=\"\",\"\",'Liste Klasse 3'!N33)","v":""},{"$f":"IF('Liste Klasse 3'!O33=\"\",\"\",'Liste Klasse 3'!O33)","v":""},{"$f":"IF('Liste Klasse 3'!P33=\"\",\"\",'Liste Klasse 3'!P33)","v":""},{"$f":"IF('Liste Klasse 3'!Q33=\"\",\"\",'Liste Klasse 3'!Q33)","v":""},{"$f":"IF('Liste Klasse 3'!R33=\"\",\"\",'Liste Klasse 3'!R33)","v":""},{"$f":"'Liste Klasse 3'!S33","v":0},{"$f":"'Liste Klasse 3'!T33","v":""},{"$f":"'Liste Klasse 3'!U33","v":0}]
[{"$f":"IF('Liste Klasse 3'!A34=\"\",\"\",'Liste Klasse 3'!A34&\" / \"&'Liste Klasse 3'!B34&\" / Klasse 3\")","v":""},{"$f":"IF('Liste Klasse 3'!C34=\"\",\"\",'Liste Klasse 3'!C34)","v":""},{"$f":"IF('Liste Klasse 3'!D34=\"\",\"\",'Liste Klasse 3'!D34&CHAR(10)&'Liste Klasse 3'!E34)","v":""},{"$f":"IF('Liste Klasse 3'!F34=\"\",\"\",'Liste Klasse 3'!F34&CHAR(10)&'Liste Klasse 3'!G34)","v":""},{"$f":"IF('Liste Klasse 3'!H34=\"\",\"\",'Liste Klasse 3'!H34)","v":""},{"$f":"IF('Liste Klasse 3'!I34=\"\",\"\",'Liste Klasse 3'!I34)","v":""},{"$f":"IF('Liste Klasse 3'!J34=\"\",\"\",'Liste Klasse 3'!J34)","v":""},{"$f":"IF('Liste Klasse 3'!K34=\"\",\"\",'Liste Klasse 3'!K34)","v":""},{"$f":"IF('Liste Klasse 3'!L34=\"\",\"\",'Liste Klasse 3'!L34)","v":""},{"$f":"IF('Liste Klasse 3'!M34=\"\",\"\",'Liste Klasse 3'!M34)","v":""},{"$f":"IF('Liste Klasse 3'!N34=\"\",\"\",'Liste Klasse 3'!N34)","v":""},{"$f":"IF('Liste Klasse 3'!O34=\"\",\"\",'Liste Klasse 3'!O34)","v":""},{"$f":"IF('Liste Klasse 3'!P34=\"\",\"\",'Liste Klasse 3'!P34)","v":""},{"$f":"IF('Liste Klasse 3'!Q34=\"\",\"\",'Liste Klasse 3'!Q34)","v":""},{"$f":"IF('Liste Klasse 3'!R34=\"\",\"\",'Liste Klasse 3'!R34)","v":""},{"$f":"'Liste Klasse 3'!S34","v":0},{"$f":"'Liste Klasse 3'!T34","v":""},{"$f":"'Liste Klasse 3'!U34","v":0}]
[{"$f":"IF('Liste Klasse 3'!A35=\"\",\"\",'Liste Klasse 3'!A35&\" / \"&'Liste Klasse 3'!B35&\" / Klasse 3\")","v":""},{"$f":"IF('Liste Klasse 3'!C35=\"\",\"\",'Liste Klasse 3'!C35)","v":""},{"$f":"IF('Liste Klasse 3'!D35=\"\",\"\",'Liste Klasse 3'!D35&CHAR(10)&'Liste Klasse 3'!E35)","v":""},{"$f":"IF('Liste Klasse 3'!F35=\"\",\"\",'Liste Klasse 3'!F35&CHAR(10)&'Liste Klasse 3'!G35)","v":""},{"$f":"IF('Liste Klasse 3'!H35=\"\",\"\",'Liste Klasse 3'!H35)","v":""},{"$f":"IF('Liste Klasse 3'!I35=\"\",\"\",'Liste Klasse 3'!I35)","v":""},{"$f":"IF('Liste Klasse 3'!J35=\"\",\"\",'Liste Klasse 3'!J35)","v":""},{"$f":"IF('Liste Klasse 3'!K35=\"\",\"\",'Liste Klasse 3'!K35)","v":""},{"$f":"IF('Liste Klasse 3'!L35=\"\",\"\",'Liste Klasse 3'!L35)","v":""},{"$f":"IF('Liste Klasse 3'!M35=\"\",\"\",'Liste Klasse 3'!M35)","v":""},{"$f":"IF('Liste Klasse 3'!N35=\"\",\"\",'Liste Klasse 3'!N35)","v":""},{"$f":"IF('Liste Klasse 3'!O35=\"\",\"\",'Liste Klasse 3'!O35)","v":""},{"$f":"IF('Liste Klasse 3'!P35=\"\",\"\",'Liste Klasse 3'!P35)","v":""},{"$f":"IF('Liste Klasse 3'!Q35=\"\",\"\",'Liste Klasse 3'!Q35)","v":""},{"$f":"IF('Liste Klasse 3'!R35=\"\",\"\",'Liste Klasse 3'!R35)","v":""},{"$f":"'Liste Klasse 3'!S35","v":0},{"$f":"'Liste Klasse 3'!T35","v":""},{"$f":"'Liste Klasse 3'!U35","v":0}]
[{"$f":"IF('Liste Klasse 3'!A36=\"\",\"\",'Liste Klasse 3'!A36&\" / \"&'Liste Klasse 3'!B36&\" / Klasse 3\")","v":""},{"$f":"IF('Liste Klasse 3'!C36=\"\",\"\",'Liste Klasse 3'!C36)","v":""},{"$f":"IF('Liste Klasse 3'!D36=\"\",\"\",'Liste Klasse 3'!D36&CHAR(10)&'Liste Klasse 3'!E36)","v":""},{"$f":"IF('Liste Klasse 3'!F36=\"\",\"\",'Liste Klasse 3'!F36&CHAR(10)&'Liste Klasse 3'!G36)","v":""},{"$f":"IF('Liste Klasse 3'!H36=\"\",\"\",'Liste Klasse 3'!H36)","v":""},{"$f":"IF('Liste Klasse 3'!I36=\"\",\"\",'Liste Klasse 3'!I36)","v":""},{"$f":"IF('Liste Klasse 3'!J36=\"\",\"\",'Liste Klasse 3'!J36)","v":""},{"$f":"IF('Liste Klasse 3'!K36=\"\",\"\",'Liste Klasse 3'!K36)","v":""},{"$f":"IF('Liste Klasse 3'!L36=\"\",\"\",'Liste Klasse 3'!L36)","v":""},{"$f":"IF('Liste Klasse 3'!M36=\"\",\"\",'Liste Klasse 3'!M36)","v":""},{"$f":"IF('Liste Klasse 3'!N36=\"\",\"\",'Liste Klasse 3'!N36)","v":""},{"$f":"IF('Liste Klasse 3'!O36=\"\",\"\",'Liste Klasse 3'!O36)","v":""},{"$f":"IF('Liste Klasse 3'!P36=\"\",\"\",'Liste Klasse 3'!P36)","v":""},{"$f":"IF('Liste Klasse 3'!Q36=\"\",\"\",'Liste Klasse 3'!Q36)","v":""},{"$f":"IF('Liste Klasse 3'!R36=\"\",\"\",'Liste Klasse 3'!R36)","v":""},{"$f":"'Liste Klasse 3'!S36","v":0},{"$f":"'Liste Klasse 3'!T36","v":""},{"$f":"'Liste Klasse 3'!U36","v":0}]
[{"$f":"IF('Liste Klasse 3'!A37=\"\",\"\",'Liste Klasse 3'!A37&\" / \"&'Liste Klasse 3'!B37&\" / Klasse 3\")","v":""},{"$f":"IF('Liste Klasse 3'!C37=\"\",\"\",'Liste Klasse 3'!C37)","v":""},{"$f":"IF('Liste Klasse 3'!D37=\"\",\"\",'Liste Klasse 3'!D37&CHAR(10)&'Liste Klasse 3'!E37)","v":""},{"$f":"IF('Liste Klasse 3'!F37=\"\",\"\",'Liste Klasse 3'!F37&CHAR(10)&'Liste Klasse 3'!G37)","v":""},{"$f":"IF('Liste Klasse 3'!H37=\"\",\"\",'Liste Klasse 3'!H37)","v":""},{"$f":"IF('Liste Klasse 3'!I37=\"\",\"\",'Liste Klasse 3'!I37)","v":""},{"$f":"IF('Liste Klasse 3'!J37=\"\",\"\",'Liste Klasse 3'!J37)","v":""},{"$f":"IF('Liste Klasse 3'!K37=\"\",\"\",'Liste Klasse 3'!K37)","v":""},{"$f":"IF('Liste Klasse 3'!L37=\"\",\"\",'Liste Klasse 3'!L37)","v":""},{"$f":"IF('Liste Klasse 3'!M37=\"\",\"\",'Liste Klasse 3'!M37)","v":""},{"$f":"IF('Liste Klasse 3'!N37=\"\",\"\",'Liste Klasse 3'!N37)","v":""},{"$f":"IF('Liste Klasse 3'!O37=\"\",\"\",'Liste Klasse 3'!O37)","v":""},{"$f":"IF('Liste Klasse 3'!P37=\"\",\"\",'Liste Klasse 3'!P37)","v":""},{"$f":"IF('Liste Klasse 3'!Q37=\"\",\"\",'Liste Klasse 3'!Q37)","v":""},{"$f":"IF('Liste Klasse 3'!R37=\"\",\"\",'Liste Klasse 3'!R37)","v":""},{"$f":"'Liste Klasse 3'!S37","v":0},{"$f":"'Liste Klasse 3'!T37","v":""},{"$f":"'Liste Klasse 3'!U37","v":0}]
[{"$f":"IF('Liste Klasse 3'!A38=\"\",\"\",'Liste Klasse 3'!A38&\" / \"&'Liste Klasse 3'!B38&\" / Klasse 3\")","v":""},{"$f":"IF('Liste Klasse 3'!C38=\"\",\"\",'Liste Klasse 3'!C38)","v":""},{"$f":"IF('Liste Klasse 3'!D38=\"\",\"\",'Liste Klasse 3'!D38&CHAR(10)&'Liste Klasse 3'!E38)","v":""},{"$f":"IF('Liste Klasse 3'!F38=\"\",\"\",'Liste Klasse 3'!F38&CHAR(10)&'Liste Klasse 3'!G38)","v":""},{"$f":"IF('Liste Klasse 3'!H38=\"\",\"\",'Liste Klasse 3'!H38)","v":""},{"$f":"IF('Liste Klasse 3'!I38=\"\",\"\",'Liste Klasse 3'!I38)","v":""},{"$f":"IF('Liste Klasse 3'!J38=\"\",\"\",'Liste Klasse 3'!J38)","v":""},{"$f":"IF('Liste Klasse 3'!K38=\"\",\"\",'Liste Klasse 3'!K38)","v":""},{"$f":"IF('Liste Klasse 3'!L38=\"\",\"\",'Liste Klasse 3'!L38)","v":""},{"$f":"IF('Liste Klasse 3'!M38=\"\",\"\",'Liste Klasse 3'!M38)","v":""},{"$f":"IF('Liste Klasse 3'!N38=\"\",\"\",'Liste Klasse 3'!N38)","v":""},{"$f":"IF('Liste Klasse 3'!O38=\"\",\"\",'Liste Klasse 3'!O38)","v":""},{"$f":"IF('Liste Klasse 3'!P38=\"\",\"\",'Liste Klasse 3'!P38)","v":""},{"$f":"IF('Liste Klasse 3'!Q38=\"\",\"\",'Liste Klasse 3'!Q38)","v":""},{"$f":"IF('Liste Klasse 3'!R38=\"\",\"\",'Liste Klasse 3'!R38)","v":""},{"$f":"'Liste Klasse 3'!S38","v":0},{"$f":"'Liste Klasse 3'!T38","v":""},{"$f":"'Liste Klasse 3'!U38","v":0}]
[{"$f":"IF('Liste Klasse 3'!A39=\"\",\"\",'Liste Klasse 3'!A39&\" / \"&'Liste Klasse 3'!B39&\" / Klasse 3\")","v":""},{"$f":"IF('Liste Klasse 3'!C39=\"\",\"\",'Liste Klasse 3'!C39)","v":""},{"$f":"IF('Liste Klasse 3'!D39=\"\",\"\",'Liste Klasse 3'!D39&CHAR(10)&'Liste Klasse 3'!E39)","v":""},{"$f":"IF('Liste Klasse 3'!F39=\"\",\"\",'Liste Klasse 3'!F39&CHAR(10)&'Liste Klasse 3'!G39)","v":""},{"$f":"IF('Liste Klasse 3'!H39=\"\",\"\",'Liste Klasse 3'!H39)","v":""},{"$f":"IF('Liste Klasse 3'!I39=\"\",\"\",'Liste Klasse 3'!I39)","v":""},{"$f":"IF('Liste Klasse 3'!J39=\"\",\"\",'Liste Klasse 3'!J39)","v":""},{"$f":"IF('Liste Klasse 3'!K39=\"\",\"\",'Liste Klasse 3'!K39)","v":""},{"$f":"IF('Liste Klasse 3'!L39=\"\",\"\",'Liste Klasse 3'!L39)","v":""},{"$f":"IF('Liste Klasse 3'!M39=\"\",\"\",'Liste Klasse 3'!M39)","v":""},{"$f":"IF('Liste Klasse 3'!N39=\"\",\"\",'Liste Klasse 3'!N39)","v":""},{"$f":"IF('Liste Klasse 3'!O39=\"\",\"\",'Liste Klasse 3'!O39)","v":""},{"$f":"IF('Liste Klasse 3'!P39=\"\",\"\",'Liste Klasse 3'!P39)","v":""},{"$f":"IF('Liste Klasse 3'!Q39=\"\",\"\",'Liste Klasse 3'!Q39)","v":""},{"$f":"IF('Liste Klasse 3'!R39=\"\",\"\",'Liste Klasse 3'!R39)","v":""},{"$f":"'Liste Klasse 3'!S39","v":0},{"$f":"'Liste Klasse 3'!T39","v":""},{"$f":"'Liste Klasse 3'!U39","v":0}]
[{"$f":"IF('Liste Klasse 3'!A40=\"\",\"\",'Liste Klasse 3'!A40&\" / \"&'Liste Klasse 3'!B40&\" / Klasse 3\")","v":""},{"$f":"IF('Liste Klasse 3'!C40=\"\",\"\",'Liste Klasse 3'!C40)","v":""},{"$f":"IF('Liste Klasse 3'!D40=\"\",\"\",'Liste Klasse 3'!D40&CHAR(10)&'Liste Klasse 3'!E40)","v":""},{"$f":"IF('Liste Klasse 3'!F40=\"\",\"\",'Liste Klasse 3'!F40&CHAR(10)&'Liste Klasse 3'!G40)","v":""},{"$f":"IF('Liste Klasse 3'!H40=\"\",\"\",'Liste Klasse 3'!H40)","v":""},{"$f":"IF('Liste Klasse 3'!I40=\"\",\"\",'Liste Klasse 3'!I40)","v":""},{"$f":"IF('Liste Klasse 3'!J40=\"\",\"\",'Liste Klasse 3'!J40)","v":""},{"$f":"IF('Liste Klasse 3'!K40=\"\",\"\",'Liste Klasse 3'!K40)","v":""},{"$f":"IF('Liste Klasse 3'!L40=\"\",\"\",'Liste Klasse 3'!L40)","v":""},{"$f":"IF('Liste Klasse 3'!M40=\"\",\"\",'Liste Klasse 3'!M40)","v":""},{"$f":"IF('Liste Klasse 3'!N40=\"\",\"\",'Liste Klasse 3'!N40)","v":""},{"$f":"IF('Liste Klasse 3'!O40=\"\",\"\",'Liste Klasse 3'!O40)","v":""},{"$f":"IF('Liste Klasse 3'!P40=\"\",\"\",'Liste Klasse 3'!P40)","v":""},{"$f":"IF('Liste Klasse 3'!Q40=\"\",\"\",'Liste Klasse 3'!Q40)","v":""},{"$f":"IF('Liste Klasse 3'!R40=\"\",\"\",'Liste Klasse 3'!R40)","v":""},{"$f":"'Liste Klasse 3'!S40","v":0},{"$f":"'Liste Klasse 3'!T40","v":""},{"$f":"'Liste Klasse 3'!U40","v":0}]
[{"$f":"IF('Liste Klasse 3'!A41=\"\",\"\",'Liste Klasse 3'!A41&\" / \"&'Liste Klasse 3'!B41&\" / Klasse 3\")","v":""},{"$f":"IF('Liste Klasse 3'!C41=\"\",\"\",'Liste Klasse 3'!C41)","v":""},{"$f":"IF('Liste Klasse 3'!D41=\"\",\"\",'Liste Klasse 3'!D41&CHAR(10)&'Liste Klasse 3'!E41)","v":""},{"$f":"IF('Liste Klasse 3'!F41=\"\",\"\",'Liste Klasse 3'!F41&CHAR(10)&'Liste Klasse 3'!G41)","v":""},{"$f":"IF('Liste Klasse 3'!H41=\"\",\"\",'Liste Klasse 3'!H41)","v":""},{"$f":"IF('Liste Klasse 3'!I41=\"\",\"\",'Liste Klasse 3'!I41)","v":""},{"$f":"IF('Liste Klasse 3'!J41=\"\",\"\",'Liste Klasse 3'!J41)","v":""},{"$f":"IF('Liste Klasse 3'!K41=\"\",\"\",'Liste Klasse 3'!K41)","v":""},{"$f":"IF('Liste Klasse 3'!L41=\"\",\"\",'Liste Klasse 3'!L41)","v":""},{"$f":"IF('Liste Klasse 3'!M41=\"\",\"\",'Liste Klasse 3'!M41)","v":""},{"$f":"IF('Liste Klasse 3'!N41=\"\",\"\",'Liste Klasse 3'!N41)","v":""},{"$f":"IF('Liste Klasse 3'!O41=\"\",\"\",'Liste Klasse 3'!O41)","v":""},{"$f":"IF('Liste Klasse 3'!P41=\"\",\"\",'Liste Klasse 3'!P41)","v":""},{"$f":"IF('Liste Klasse 3'!Q41=\"\",\"\",'Liste Klasse 3'!Q41)","v":""},{"$f":"IF('Liste Klasse 3'!R41=\"\",\"\",'Liste Klasse 3'!R41)","v":""},{"$f":"'Liste Klasse 3'!S41","v":0},{"$f":"'Liste Klasse 3'!T41","v":""},{"$f":"'Liste Klasse 3'!U41","v":0}]
[{"$f":"IF('Liste Klasse 3'!A42=\"\",\"\",'Liste Klasse 3'!A42&\" / \"&'Liste Klasse 3'!B42&\" / Klasse 3\")","v":""},{"$f":"IF('Liste Klasse 3'!C42=\"\",\"\",'Liste Klasse 3'!C42)","v":""},{"$f":"IF('Liste Klasse 3'!D42=\"\",\"\",'Liste Klasse 3'!D42&CHAR(10)&'Liste Klasse 3'!E42)","v":""},{"$f":"IF('Liste Klasse 3'!F42=\"\",\"\",'Liste Klasse 3'!F42&CHAR(10)&'Liste Klasse 3'!G42)","v":""},{"$f":"IF('Liste Klasse 3'!H42=\"\",\"\",'Liste Klasse 3'!H42)","v":""},{"$f":"IF('Liste Klasse 3'!I42=\"\",\"\",'Liste Klasse 3'!I42)","v":""},{"$f":"IF('Liste Klasse 3'!J42=\"\",\"\",'Liste Klasse 3'!J42)","v":""},{"$f":"IF('Liste Klasse 3'!K42=\"\",\"\",'Liste Klasse 3'!K42)","v":""},{"$f":"IF('Liste Klasse 3'!L42=\"\",\"\",'Liste Klasse 3'!L42)","v":""},{"$f":"IF('Liste Klasse 3'!M42=\"\",\"\",'Liste Klasse 3'!M42)","v":""},{"$f":"IF('Liste Klasse 3'!N42=\"\",\"\",'Liste Klasse 3'!N42)","v":""},{"$f":"IF('Liste Klasse 3'!O42=\"\",\"\",'Liste Klasse 3'!O42)","v":""},{"$f":"IF('Liste Klasse 3'!P42=\"\",\"\",'Liste Klasse 3'!P42)","v":""},{"$f":"IF('Liste Klasse 3'!Q42=\"\",\"\",'Liste Klasse 3'!Q42)","v":""},{"$f":"IF('Liste Klasse 3'!R42=\"\",\"\",'Liste Klasse 3'!R42)","v":""},{"$f":"'Liste Klasse 3'!S42","v":0},{"$f":"'Liste Klasse 3'!T42","v":""},{"$f":"'Liste Klasse 3'!U42","v":0}]
[{"$f":"IF('Liste Klasse 3'!A43=\"\",\"\",'Liste Klasse 3'!A43&\" / \"&'Liste Klasse 3'!B43&\" / Klasse 3\")","v":""},{"$f":"IF('Liste Klasse 3'!C43=\"\",\"\",'Liste Klasse 3'!C43)","v":""},{"$f":"IF('Liste Klasse 3'!D43=\"\",\"\",'Liste Klasse 3'!D43&CHAR(10)&'Liste Klasse 3'!E43)","v":""},{"$f":"IF('Liste Klasse 3'!F43=\"\",\"\",'Liste Klasse 3'!F43&CHAR(10)&'Liste Klasse 3'!G43)","v":""},{"$f":"IF('Liste Klasse 3'!H43=\"\",\"\",'Liste Klasse 3'!H43)","v":""},{"$f":"IF('Liste Klasse 3'!I43=\"\",\"\",'Liste Klasse 3'!I43)","v":""},{"$f":"IF('Liste Klasse 3'!J43=\"\",\"\",'Liste Klasse 3'!J43)","v":""},{"$f":"IF('Liste Klasse 3'!K43=\"\",\"\",'Liste Klasse 3'!K43)","v":""},{"$f":"IF('Liste Klasse 3'!L43=\"\",\"\",'Liste Klasse 3'!L43)","v":""},{"$f":"IF('Liste Klasse 3'!M43=\"\",\"\",'Liste Klasse 3'!M43)","v":""},{"$f":"IF('Liste Klasse 3'!N43=\"\",\"\",'Liste Klasse 3'!N43)","v":""},{"$f":"IF('Liste Klasse 3'!O43=\"\",\"\",'Liste Klasse 3'!O43)","v":""},{"$f":"IF('Liste Klasse 3'!P43=\"\",\"\",'Liste Klasse 3'!P43)","v":""},{"$f":"IF('Liste Klasse 3'!Q43=\"\",\"\",'Liste Klasse 3'!Q43)","v":""},{"$f":"IF('Liste Klasse 3'!R43=\"\",\"\",'Liste Klasse 3'!R43)","v":""},{"$f":"'Liste Klasse 3'!S43","v":0},{"$f":"'Liste Klasse 3'!T43","v":""},{"$f":"'Liste Klasse 3'!U43","v":0}]
[{"$f":"IF('Liste Klasse 3'!A44=\"\",\"\",'Liste Klasse 3'!A44&\" / \"&'Liste Klasse 3'!B44&\" / Klasse 3\")","v":""},{"$f":"IF('Liste Klasse 3'!C44=\"\",\"\",'Liste Klasse 3'!C44)","v":""},{"$f":"IF('Liste Klasse 3'!D44=\"\",\"\",'Liste Klasse 3'!D44&CHAR(10)&'Liste Klasse 3'!E44)","v":""},{"$f":"IF('Liste Klasse 3'!F44=\"\",\"\",'Liste Klasse 3'!F44&CHAR(10)&'Liste Klasse 3'!G44)","v":""},{"$f":"IF('Liste Klasse 3'!H44=\"\",\"\",'Liste Klasse 3'!H44)","v":""},{"$f":"IF('Liste Klasse 3'!I44=\"\",\"\",'Liste Klasse 3'!I44)","v":""},{"$f":"IF('Liste Klasse 3'!J44=\"\",\"\",'Liste Klasse 3'!J44)","v":""},{"$f":"IF('Liste Klasse 3'!K44=\"\",\"\",'Liste Klasse 3'!K44)","v":""},{"$f":"IF('Liste Klasse 3'!L44=\"\",\"\",'Liste Klasse 3'!L44)","v":""},{"$f":"IF('Liste Klasse 3'!M44=\"\",\"\",'Liste Klasse 3'!M44)","v":""},{"$f":"IF('Liste Klasse 3'!N44=\"\",\"\",'Liste Klasse 3'!N44)","v":""},{"$f":"IF('Liste Klasse 3'!O44=\"\",\"\",'Liste Klasse 3'!O44)","v":""},{"$f":"IF('Liste Klasse 3'!P44=\"\",\"\",'Liste Klasse 3'!P44)","v":""},{"$f":"IF('Liste Klasse 3'!Q44=\"\",\"\",'Liste Klasse 3'!Q44)","v":""},{"$f":"IF('Liste Klasse 3'!R44=\"\",\"\",'Liste Klasse 3'!R44)","v":""},{"$f":"'Liste Klasse 3'!S44","v":0},{"$f":"'Liste Klasse 3'!T44","v":""},{"$f":"'Liste Klasse 3'!U44","v":0}]
[{"$f":"IF('Liste Klasse 3'!A45=\"\",\"\",'Liste Klasse 3'!A45&\" / \"&'Liste Klasse 3'!B45&\" / Klasse 3\")","v":""},{"$f":"IF('Liste Klasse 3'!C45=\"\",\"\",'Liste Klasse 3'!C45)","v":""},{"$f":"IF('Liste Klasse 3'!D45=\"\",\"\",'Liste Klasse 3'!D45&CHAR(10)&'Liste Klasse 3'!E45)","v":""},{"$f":"IF('Liste Klasse 3'!F45=\"\",\"\",'Liste Klasse 3'!F45&CHAR(10)&'Liste Klasse 3'!G45)","v":""},{"$f":"IF('Liste Klasse 3'!H45=\"\",\"\",'Liste Klasse 3'!H45)","v":""},{"$f":"IF('Liste Klasse 3'!I45=\"\",\"\",'Liste Klasse 3'!I45)","v":""},{"$f":"IF('Liste Klasse 3'!J45=\"\",\"\",'Liste Klasse 3'!J45)","v":""},{"$f":"IF('Liste Klasse 3'!K45=\"\",\"\",'Liste Klasse 3'!K45)","v":""},{"$f":"IF('Liste Klasse 3'!L45=\"\",\"\",'Liste Klasse 3'!L45)","v":""},{"$f":"IF('Liste Klasse 3'!M45=\"\",\"\",'Liste Klasse 3'!M45)","v":""},{"$f":"IF('Liste Klasse 3'!N45=\"\",\"\",'Liste Klasse 3'!N45)","v":""},{"$f":"IF('Liste Klasse 3'!O45=\"\",\"\",'Liste Klasse 3'!O45)","v":""},{"$f":"IF('Liste Klasse 3'!P45=\"\",\"\",'Liste Klasse 3'!P45)","v":""},{"$f":"IF('Liste Klasse 3'!Q45=\"\",\"\",'Liste Klasse 3'!Q45)","v":""},{"$f":"IF('Liste Klasse 3'!R45=\"\",\"\",'Liste Klasse 3'!R45)","v":""},{"$f":"'Liste Klasse 3'!S45","v":0},{"$f":"'Liste Klasse 3'!T45","v":""},{"$f":"'Liste Klasse 3'!U45","v":0}]
[{"$f":"IF('Liste Klasse 3'!A46=\"\",\"\",'Liste Klasse 3'!A46&\" / \"&'Liste Klasse 3'!B46&\" / Klasse 3\")","v":""},{"$f":"IF('Liste Klasse 3'!C46=\"\",\"\",'Liste Klasse 3'!C46)","v":""},{"$f":"IF('Liste Klasse 3'!D46=\"\",\"\",'Liste Klasse 3'!D46&CHAR(10)&'Liste Klasse 3'!E46)","v":""},{"$f":"IF('Liste Klasse 3'!F46=\"\",\"\",'Liste Klasse 3'!F46&CHAR(10)&'Liste Klasse 3'!G46)","v":""},{"$f":"IF('Liste Klasse 3'!H46=\"\",\"\",'Liste Klasse 3'!H46)","v":""},{"$f":"IF('Liste Klasse 3'!I46=\"\",\"\",'Liste Klasse 3'!I46)","v":""},{"$f":"IF('Liste Klasse 3'!J46=\"\",\"\",'Liste Klasse 3'!J46)","v":""},{"$f":"IF('Liste Klasse 3'!K46=\"\",\"\",'Liste Klasse 3'!K46)","v":""},{"$f":"IF('Liste Klasse 3'!L46=\"\",\"\",'Liste Klasse 3'!L46)","v":""},{"$f":"IF('Liste Klasse 3'!M46=\"\",\"\",'Liste Klasse 3'!M46)","v":""},{"$f":"IF('Liste Klasse 3'!N46=\"\",\"\",'Liste Klasse 3'!N46)","v":""},{"$f":"IF('Liste Klasse 3'!O46=\"\",\"\",'Liste Klasse 3'!O46)","v":""},{"$f":"IF('Liste Klasse 3'!P46=\"\",\"\",'Liste Klasse 3'!P46)","v":""},{"$f":"IF('Liste Klasse 3'!Q46=\"\",\"\",'Liste Klasse 3'!Q46)","v":""},{"$f":"IF('Liste Klasse 3'!R46=\"\",\"\",'Liste Klasse 3'!R46)","v":""},{"$f":"'Liste Klasse 3'!S46","v":0},{"$f":"'Liste Klasse 3'!T46","v":""},{"$f":"'Liste Klasse 3'!U46","v":0}]
[{"$f":"IF('Liste Klasse 3'!A47=\"\",\"\",'Liste Klasse 3'!A47&\" / \"&'Liste Klasse 3'!B47&\" / Klasse 3\")","v":""},{"$f":"IF('Liste Klasse 3'!C47=\"\",\"\",'Liste Klasse 3'!C47)","v":""},{"$f":"IF('Liste Klasse 3'!D47=\"\",\"\",'Liste Klasse 3'!D47&CHAR(10)&'Liste Klasse 3'!E47)","v":""},{"$f":"IF('Liste Klasse 3'!F47=\"\",\"\",'Liste Klasse 3'!F47&CHAR(10)&'Liste Klasse 3'!G47)","v":""},{"$f":"IF('Liste Klasse 3'!H47=\"\",\"\",'Liste Klasse 3'!H47)","v":""},{"$f":"IF('Liste Klasse 3'!I47=\"\",\"\",'Liste Klasse 3'!I47)","v":""},{"$f":"IF('Liste Klasse 3'!J47=\"\",\"\",'Liste Klasse 3'!J47)","v":""},{"$f":"IF('Liste Klasse 3'!K47=\"\",\"\",'Liste Klasse 3'!K47)","v":""},{"$f":"IF('Liste Klasse 3'!L47=\"\",\"\",'Liste Klasse 3'!L47)","v":""},{"$f":"IF('Liste Klasse 3'!M47=\"\",\"\",'Liste Klasse 3'!M47)","v":""},{"$f":"IF('Liste Klasse 3'!N47=\"\",\"\",'Liste Klasse 3'!N47)","v":""},{"$f":"IF('Liste Klasse 3'!O47=\"\",\"\",'Liste Klasse 3'!O47)","v":""},{"$f":"IF('Liste Klasse 3'!P47=\"\",\"\",'Liste Klasse 3'!P47)","v":""},{"$f":"IF('Liste Klasse 3'!Q47=\"\",\"\",'Liste Klasse 3'!Q47)","v":""},{"$f":"IF('Liste Klasse 3'!R47=\"\",\"\",'Liste Klasse 3'!R47)","v":""},{"$f":"'Liste Klasse 3'!S47","v":0},{"$f":"'Liste Klasse 3'!T47","v":""},{"$f":"'Liste Klasse 3'!U47","v":0}]
[{"$f":"IF('Liste Klasse 3'!A48=\"\",\"\",'Liste Klasse 3'!A48&\" / \"&'Liste Klasse 3'!B48&\" / Klasse 3\")","v":""},{"$f":"IF('Liste Klasse 3'!C48=\"\",\"\",'Liste Klasse 3'!C48)","v":""},{"$f":"IF('Liste Klasse 3'!D48=\"\",\"\",'Liste Klasse 3'!D48&CHAR(10)&'Liste Klasse 3'!E48)","v":""},{"$f":"IF('Liste Klasse 3'!F48=\"\",\"\",'Liste Klasse 3'!F48&CHAR(10)&'Liste Klasse 3'!G48)","v":""},{"$f":"IF('Liste Klasse 3'!H48=\"\",\"\",'Liste Klasse 3'!H48)","v":""},{"$f":"IF('Liste Klasse 3'!I48=\"\",\"\",'Liste Klasse 3'!I48)","v":""},{"$f":"IF('Liste Klasse 3'!J48=\"\",\"\",'Liste Klasse 3'!J48)","v":""},{"$f":"IF('Liste Klasse 3'!K48=\"\",\"\",'Liste Klasse 3'!K48)","v":""},{"$f":"IF('Liste Klasse 3'!L48=\"\",\"\",'Liste Klasse 3'!L48)","v":""},{"$f":"IF('Liste Klasse 3'!M48=\"\",\"\",'Liste Klasse 3'!M48)","v":""},{"$f":"IF('Liste Klasse 3'!N48=\"\",\"\",'Liste Klasse 3'!N48)","v":""},{"$f":"IF('Liste Klasse 3'!O48=\"\",\"\",'Liste Klasse 3'!O48)","v":""},{"$f":"IF('Liste Klasse 3'!P48=\"\",\"\",'Liste Klasse 3'!P48)","v":""},{"$f":"IF('Liste Klasse 3'!Q48=\"\",\"\",'Liste Klasse 3'!Q48)","v":""},{"$f":"IF('Liste Klasse 3'!R48=\"\",\"\",'Liste Klasse 3'!R48)","v":""},{"$f":"'Liste Klasse 3'!S48","v":0},{"$f":"'Liste Klasse 3'!T48","v":""},{"$f":"'Liste Klasse 3'!U48","v":0}]
[{"$f":"IF('Liste Klasse 3'!A49=\"\",\"\",'Liste Klasse 3'!A49&\" / \"&'Liste Klasse 3'!B49&\" / Klasse 3\")","v":""},{"$f":"IF('Liste Klasse 3'!C49=\"\",\"\",'Liste Klasse 3'!C49)","v":""},{"$f":"IF('Liste Klasse 3'!D49=\"\",\"\",'Liste Klasse 3'!D49&CHAR(10)&'Liste Klasse 3'!E49)","v":""},{"$f":"IF('Liste Klasse 3'!F49=\"\",\"\",'Liste Klasse 3'!F49&CHAR(10)&'Liste Klasse 3'!G49)","v":""},{"$f":"IF('Liste Klasse 3'!H49=\"\",\"\",'Liste Klasse 3'!H49)","v":""},{"$f":"IF('Liste Klasse 3'!I49=\"\",\"\",'Liste Klasse 3'!I49)","v":""},{"$f":"IF('Liste Klasse 3'!J49=\"\",\"\",'Liste Klasse 3'!J49)","v":""},{"$f":"IF('Liste Klasse 3'!K49=\"\",\"\",'Liste Klasse 3'!K49)","v":""},{"$f":"IF('Liste Klasse 3'!L49=\"\",\"\",'Liste Klasse 3'!L49)","v":""},{"$f":"IF('Liste Klasse 3'!M49=\"\",\"\",'Liste Klasse 3'!M49)","v":""},{"$f":"IF('Liste Klasse 3'!N49=\"\",\"\",'Liste Klasse 3'!N49)","v":""},{"$f":"IF('Liste Klasse 3'!O49=\"\",\"\",'Liste Klasse 3'!O49)","v":""},{"$f":"IF('Liste Klasse 3'!P49=\"\",\"\",'Liste Klasse 3'!P49)","v":""},{"$f":"IF('Liste Klasse 3'!Q49=\"\",\"\",'Liste Klasse 3'!Q49)","v":""},{"$f":"IF('Liste Klasse 3'!R49=\"\",\"\",'Liste Klasse 3'!R49)","v":""},{"$f":"'Liste Klasse 3'!S49","v":0},{"$f":"'Liste Klasse 3'!T49","v":""},{"$f":"'Liste Klasse 3'!U49","v":0}]
[{"$f":"IF('Liste Klasse 3'!A50=\"\",\"\",'Liste Klasse 3'!A50&\" / \"&'Liste Klasse 3'!B50&\" / Klasse 3\")","v":""},{"$f":"IF('Liste Klasse 3'!C50=\"\",\"\",'Liste Klasse 3'!C50)","v":""},{"$f":"IF('Liste Klasse 3'!D50=\"\",\"\",'Liste Klasse 3'!D50&CHAR(10)&'Liste Klasse 3'!E50)","v":""},{"$f":"IF('Liste Klasse 3'!F50=\"\",\"\",'Liste Klasse 3'!F50&CHAR(10)&'Liste Klasse 3'!G50)","v":""},{"$f":"IF('Liste Klasse 3'!H50=\"\",\"\",'Liste Klasse 3'!H50)","v":""},{"$f":"IF('Liste Klasse 3'!I50=\"\",\"\",'Liste Klasse 3'!I50)","v":""},{"$f":"IF('Liste Klasse 3'!J50=\"\",\"\",'Liste Klasse 3'!J50)","v":""},{"$f":"IF('Liste Klasse 3'!K50=\"\",\"\",'Liste Klasse 3'!K50)","v":""},{"$f":"IF('Liste Klasse 3'!L50=\"\",\"\",'Liste Klasse 3'!L50)","v":""},{"$f":"IF('Liste Klasse 3'!M50=\"\",\"\",'Liste Klasse 3'!M50)","v":""},{"$f":"IF('Liste Klasse 3'!N50=\"\",\"\",'Liste Klasse 3'!N50)","v":""},{"$f":"IF('Liste Klasse 3'!O50=\"\",\"\",'Liste Klasse 3'!O50)","v":""},{"$f":"IF('Liste Klasse 3'!P50=\"\",\"\",'Liste Klasse 3'!P50)","v":""},{"$f":"IF('Liste Klasse 3'!Q50=\"\",\"\",'Liste Klasse 3'!Q50)","v":""},{"$f":"IF('Liste Klasse 3'!R50=\"\",\"\",'Liste Klasse 3'!R50)","v":""},{"$f":"'Liste Klasse 3'!S50","v":0},{"$f":"'Liste Klasse 3'!T50","v":""},{"$f":"'Liste Klasse 3'!U50","v":0}]
[{"$f":"IF('Liste Klasse 3'!A51=\"\",\"\",'Liste Klasse 3'!A51&\" / \"&'Liste Klasse 3'!B51&\" / Klasse 3\")","v":""},{"$f":"IF('Liste Klasse 3'!C51=\"\",\"\",'Liste Klasse 3'!C51)","v":""},{"$f":"IF('Liste Klasse 3'!D51=\"\",\"\",'Liste Klasse 3'!D51&CHAR(10)&'Liste Klasse 3'!E51)","v":""},{"$f":"IF('Liste Klasse 3'!F51=\"\",\"\",'Liste Klasse 3'!F51&CHAR(10)&'Liste Klasse 3'!G51)","v":""},{"$f":"IF('Liste Klasse 3'!H51=\"\",\"\",'Liste Klasse 3'!H51)","v":""},{"$f":"IF('Liste Klasse 3'!I51=\"\",\"\",'Liste Klasse 3'!I51)","v":""},{"$f":"IF('Liste Klasse 3'!J51=\"\",\"\",'Liste Klasse 3'!J51)","v":""},{"$f":"IF('Liste Klasse 3'!K51=\"\",\"\",'Liste Klasse 3'!K51)","v":""},{"$f":"IF('Liste Klasse 3'!L51=\"\",\"\",'Liste Klasse 3'!L51)","v":""},{"$f":"IF('Liste Klasse 3'!M51=\"\",\"\",'Liste Klasse 3'!M51)","v":""},{"$f":"IF('Liste Klasse 3'!N51=\"\",\"\",'Liste Klasse 3'!N51)","v":""},{"$f":"IF('Liste Klasse 3'!O51=\"\",\"\",'Liste Klasse 3'!O51)","v":""},{"$f":"IF('Liste Klasse 3'!P51=\"\",\"\",'Liste Klasse 3'!P51)","v":""},{"$f":"IF('Liste Klasse 3'!Q51=\"\",\"\",'Liste Klasse 3'!Q51)","v":""},{"$f":"IF('Liste Klasse 3'!R51=\"\",\"\",'Liste Klasse 3'!R51)","v":""},{"$f":"'Liste Klasse 3'!S51","v":0},{"$f":"'Liste Klasse 3'!T51","v":""},{"$f":"'Liste Klasse 3'!U51","v":0}]
[{"$f":"IF('Liste Klasse 3'!A52=\"\",\"\",'Liste Klasse 3'!A52&\" / \"&'Liste Klasse 3'!B52&\" / Klasse 3\")","v":""},{"$f":"IF('Liste Klasse 3'!C52=\"\",\"\",'Liste Klasse 3'!C52)","v":""},{"$f":"IF('Liste Klasse 3'!D52=\"\",\"\",'Liste Klasse 3'!D52&CHAR(10)&'Liste Klasse 3'!E52)","v":""},{"$f":"IF('Liste Klasse 3'!F52=\"\",\"\",'Liste Klasse 3'!F52&CHAR(10)&'Liste Klasse 3'!G52)","v":""},{"$f":"IF('Liste Klasse 3'!H52=\"\",\"\",'Liste Klasse 3'!H52)","v":""},{"$f":"IF('Liste Klasse 3'!I52=\"\",\"\",'Liste Klasse 3'!I52)","v":""},{"$f":"IF('Liste Klasse 3'!J52=\"\",\"\",'Liste Klasse 3'!J52)","v":""},{"$f":"IF('Liste Klasse 3'!K52=\"\",\"\",'Liste Klasse 3'!K52)","v":""},{"$f":"IF('Liste Klasse 3'!L52=\"\",\"\",'Liste Klasse 3'!L52)","v":""},{"$f":"IF('Liste Klasse 3'!M52=\"\",\"\",'Liste Klasse 3'!M52)","v":""},{"$f":"IF('Liste Klasse 3'!N52=\"\",\"\",'Liste Klasse 3'!N52)","v":""},{"$f":"IF('Liste Klasse 3'!O52=\"\",\"\",'Liste Klasse 3'!O52)","v":""},{"$f":"IF('Liste Klasse 3'!P52=\"\",\"\",'Liste Klasse 3'!P52)","v":""},{"$f":"IF('Liste Klasse 3'!Q52=\"\",\"\",'Liste Klasse 3'!Q52)","v":""},{"$f":"IF('Liste Klasse 3'!R52=\"\",\"\",'Liste Klasse 3'!R52)","v":""},{"$f":"'Liste Klasse 3'!S52","v":0},{"$f":"'Liste Klasse 3'!T52","v":""},{"$f":"'Liste Klasse 3'!U52","v":0}]
[{"$f":"IF('Liste Klasse 3'!A53=\"\",\"\",'Liste Klasse 3'!A53&\" / \"&'Liste Klasse 3'!B53&\" / Klasse 3\")","v":""},{"$f":"IF('Liste Klasse 3'!C53=\"\",\"\",'Liste Klasse 3'!C53)","v":""},{"$f":"IF('Liste Klasse 3'!D53=\"\",\"\",'Liste Klasse 3'!D53&CHAR(10)&'Liste Klasse 3'!E53)","v":""},{"$f":"IF('Liste Klasse 3'!F53=\"\",\"\",'Liste Klasse 3'!F53&CHAR(10)&'Liste Klasse 3'!G53)","v":""},{"$f":"IF('Liste Klasse 3'!H53=\"\",\"\",'Liste Klasse 3'!H53)","v":""},{"$f":"IF('Liste Klasse 3'!I53=\"\",\"\",'Liste Klasse 3'!I53)","v":""},{"$f":"IF('Liste Klasse 3'!J53=\"\",\"\",'Liste Klasse 3'!J53)","v":""},{"$f":"IF('Liste Klasse 3'!K53=\"\",\"\",'Liste Klasse 3'!K53)","v":""},{"$f":"IF('Liste Klasse 3'!L53=\"\",\"\",'Liste Klasse 3'!L53)","v":""},{"$f":"IF('Liste Klasse 3'!M53=\"\",\"\",'Liste Klasse 3'!M53)","v":""},{"$f":"IF('Liste Klasse 3'!N53=\"\",\"\",'Liste Klasse 3'!N53)","v":""},{"$f":"IF('Liste Klasse 3'!O53=\"\",\"\",'Liste Klasse 3'!O53)","v":""},{"$f":"IF('Liste Klasse 3'!P53=\"\",\"\",'Liste Klasse 3'!P53)","v":""},{"$f":"IF('Liste Klasse 3'!Q53=\"\",\"\",'Liste Klasse 3'!Q53)","v":""},{"$f":"IF('Liste Klasse 3'!R53=\"\",\"\",'Liste Klasse 3'!R53)","v":""},{"$f":"'Liste Klasse 3'!S53","v":0},{"$f":"'Liste Klasse 3'!T53","v":""},{"$f":"'Liste Klasse 3'!U53","v":0}]
[{"$f":"IF('Liste Klasse 3'!A54=\"\",\"\",'Liste Klasse 3'!A54&\" / \"&'Liste Klasse 3'!B54&\" / Klasse 3\")","v":""},{"$f":"IF('Liste Klasse 3'!C54=\"\",\"\",'Liste Klasse 3'!C54)","v":""},{"$f":"IF('Liste Klasse 3'!D54=\"\",\"\",'Liste Klasse 3'!D54&CHAR(10)&'Liste Klasse 3'!E54)","v":""},{"$f":"IF('Liste Klasse 3'!F54=\"\",\"\",'Liste Klasse 3'!F54&CHAR(10)&'Liste Klasse 3'!G54)","v":""},{"$f":"IF('Liste Klasse 3'!H54=\"\",\"\",'Liste Klasse 3'!H54)","v":""},{"$f":"IF('Liste Klasse 3'!I54=\"\",\"\",'Liste Klasse 3'!I54)","v":""},{"$f":"IF('Liste Klasse 3'!J54=\"\",\"\",'Liste Klasse 3'!J54)","v":""},{"$f":"IF('Liste Klasse 3'!K54=\"\",\"\",'Liste Klasse 3'!K54)","v":""},{"$f":"IF('Liste Klasse 3'!L54=\"\",\"\",'Liste Klasse 3'!L54)","v":""},{"$f":"IF('Liste Klasse 3'!M54=\"\",\"\",'Liste Klasse 3'!M54)","v":""},{"$f":"IF('Liste Klasse 3'!N54=\"\",\"\",'Liste Klasse 3'!N54)","v":""},{"$f":"IF('Liste Klasse 3'!O54=\"\",\"\",'Liste Klasse 3'!O54)","v":""},{"$f":"IF('Liste Klasse 3'!P54=\"\",\"\",'Liste Klasse 3'!P54)","v":""},{"$f":"IF('Liste Klasse 3'!Q54=\"\",\"\",'Liste Klasse 3'!Q54)","v":""},{"$f":"IF('Liste Klasse 3'!R54=\"\",\"\",'Liste Klasse 3'!R54)","v":""},{"$f":"'Liste Klasse 3'!S54","v":0},{"$f":"'Liste Klasse 3'!T54","v":""},{"$f":"'Liste Klasse 3'!U54","v":0}]
[{"$f":"IF('Liste Klasse 3'!A55=\"\",\"\",'Liste Klasse 3'!A55&\" / \"&'Liste Klasse 3'!B55&\" / Klasse 3\")","v":""},{"$f":"IF('Liste Klasse 3'!C55=\"\",\"\",'Liste Klasse 3'!C55)","v":""},{"$f":"IF('Liste Klasse 3'!D55=\"\",\"\",'Liste Klasse 3'!D55&CHAR(10)&'Liste Klasse 3'!E55)","v":""},{"$f":"IF('Liste Klasse 3'!F55=\"\",\"\",'Liste Klasse 3'!F55&CHAR(10)&'Liste Klasse 3'!G55)","v":""},{"$f":"IF('Liste Klasse 3'!H55=\"\",\"\",'Liste Klasse 3'!H55)","v":""},{"$f":"IF('Liste Klasse 3'!I55=\"\",\"\",'Liste Klasse 3'!I55)","v":""},{"$f":"IF('Liste Klasse 3'!J55=\"\",\"\",'Liste Klasse 3'!J55)","v":""},{"$f":"IF('Liste Klasse 3'!K55=\"\",\"\",'Liste Klasse 3'!K55)","v":""},{"$f":"IF('Liste Klasse 3'!L55=\"\",\"\",'Liste Klasse 3'!L55)","v":""},{"$f":"IF('Liste Klasse 3'!M55=\"\",\"\",'Liste Klasse 3'!M55)","v":""},{"$f":"IF('Liste Klasse 3'!N55=\"\",\"\",'Liste Klasse 3'!N55)","v":""},{"$f":"IF('Liste Klasse 3'!O55=\"\",\"\",'Liste Klasse 3'!O55)","v":""},{"$f":"IF('Liste Klasse 3'!P55=\"\",\"\",'Liste Klasse 3'!P55)","v":""},{"$f":"IF('Liste Klasse 3'!Q55=\"\",\"\",'Liste Klasse 3'!Q55)","v":""},{"$f":"IF('Liste Klasse 3'!R55=\"\",\"\",'Liste Klasse 3'!R55)","v":""},{"$f":"'Liste Klasse 3'!S55","v":0},{"$f":"'Liste Klasse 3'!T55","v":""},{"$f":"'Liste Klasse 3'!U55","v":0}]
[{"$f":"IF('Liste Klasse 3'!A56=\"\",\"\",'Liste Klasse 3'!A56&\" / \"&'Liste Klasse 3'!B56&\" / Klasse 3\")","v":""},{"$f":"IF('Liste Klasse 3'!C56=\"\",\"\",'Liste Klasse 3'!C56)","v":""},{"$f":"IF('Liste Klasse 3'!D56=\"\",\"\",'Liste Klasse 3'!D56&CHAR(10)&'Liste Klasse 3'!E56)","v":""},{"$f":"IF('Liste Klasse 3'!F56=\"\",\"\",'Liste Klasse 3'!F56&CHAR(10)&'Liste Klasse 3'!G56)","v":""},{"$f":"IF('Liste Klasse 3'!H56=\"\",\"\",'Liste Klasse 3'!H56)","v":""},{"$f":"IF('Liste Klasse 3'!I56=\"\",\"\",'Liste Klasse 3'!I56)","v":""},{"$f":"IF('Liste Klasse 3'!J56=\"\",\"\",'Liste Klasse 3'!J56)","v":""},{"$f":"IF('Liste Klasse 3'!K56=\"\",\"\",'Liste Klasse 3'!K56)","v":""},{"$f":"IF('Liste Klasse 3'!L56=\"\",\"\",'Liste Klasse 3'!L56)","v":""},{"$f":"IF('Liste Klasse 3'!M56=\"\",\"\",'Liste Klasse 3'!M56)","v":""},{"$f":"IF('Liste Klasse 3'!N56=\"\",\"\",'Liste Klasse 3'!N56)","v":""},{"$f":"IF('Liste Klasse 3'!O56=\"\",\"\",'Liste Klasse 3'!O56)","v":""},{"$f":"IF('Liste Klasse 3'!P56=\"\",\"\",'Liste Klasse 3'!P56)","v":""},{"$f":"IF('Liste Klasse 3'!Q56=\"\",\"\",'Liste Klasse 3'!Q56)","v":""},{"$f":"IF('Liste Klasse 3'!R56=\"\",\"\",'Liste Klasse 3'!R56)","v":""},{"$f":"'Liste Klasse 3'!S56","v":0},{"$f":"'Liste Klasse 3'!T56","v":""},{"$f":"'Liste Klasse 3'!U56","v":0}]
[{"$f":"IF('Liste Klasse 3'!A57=\"\",\"\",'Liste Klasse 3'!A57&\" / \"&'Liste Klasse 3'!B57&\" / Klasse 3\")","v":""},{"$f":"IF('Liste Klasse 3'!C57=\"\",\"\",'Liste Klasse 3'!C57)","v":""},{"$f":"IF('Liste Klasse 3'!D57=\"\",\"\",'Liste Klasse 3'!D57&CHAR(10)&'Liste Klasse 3'!E57)","v":""},{"$f":"IF('Liste Klasse 3'!F57=\"\",\"\",'Liste Klasse 3'!F57&CHAR(10)&'Liste Klasse 3'!G57)","v":""},{"$f":"IF('Liste Klasse 3'!H57=\"\",\"\",'Liste Klasse 3'!H57)","v":""},{"$f":"IF('Liste Klasse 3'!I57=\"\",\"\",'Liste Klasse 3'!I57)","v":""},{"$f":"IF('Liste Klasse 3'!J57=\"\",\"\",'Liste Klasse 3'!J57)","v":""},{"$f":"IF('Liste Klasse 3'!K57=\"\",\"\",'Liste Klasse 3'!K57)","v":""},{"$f":"IF('Liste Klasse 3'!L57=\"\",\"\",'Liste Klasse 3'!L57)","v":""},{"$f":"IF('Liste Klasse 3'!M57=\"\",\"\",'Liste Klasse 3'!M57)","v":""},{"$f":"IF('Liste Klasse 3'!N57=\"\",\"\",'Liste Klasse 3'!N57)","v":""},{"$f":"IF('Liste Klasse 3'!O57=\"\",\"\",'Liste Klasse 3'!O57)","v":""},{"$f":"IF('Liste Klasse 3'!P57=\"\",\"\",'Liste Klasse 3'!P57)","v":""},{"$f":"IF('Liste Klasse 3'!Q57=\"\",\"\",'Liste Klasse 3'!Q57)","v":""},{"$f":"IF('Liste Klasse 3'!R57=\"\",\"\",'Liste Klasse 3'!R57)","v":""},{"$f":"'Liste Klasse 3'!S57","v":0},{"$f":"'Liste Klasse 3'!T57","v":""},{"$f":"'Liste Klasse 3'!U57","v":0}]
[{"$f":"IF('Liste Klasse 3'!A58=\"\",\"\",'Liste Klasse 3'!A58&\" / \"&'Liste Klasse 3'!B58&\" / Klasse 3\")","v":""},{"$f":"IF('Liste Klasse 3'!C58=\"\",\"\",'Liste Klasse 3'!C58)","v":""},{"$f":"IF('Liste Klasse 3'!D58=\"\",\"\",'Liste Klasse 3'!D58&CHAR(10)&'Liste Klasse 3'!E58)","v":""},{"$f":"IF('Liste Klasse 3'!F58=\"\",\"\",'Liste Klasse 3'!F58&CHAR(10)&'Liste Klasse 3'!G58)","v":""},{"$f":"IF('Liste Klasse 3'!H58=\"\",\"\",'Liste Klasse 3'!H58)","v":""},{"$f":"IF('Liste Klasse 3'!I58=\"\",\"\",'Liste Klasse 3'!I58)","v":""},{"$f":"IF('Liste Klasse 3'!J58=\"\",\"\",'Liste Klasse 3'!J58)","v":""},{"$f":"IF('Liste Klasse 3'!K58=\"\",\"\",'Liste Klasse 3'!K58)","v":""},{"$f":"IF('Liste Klasse 3'!L58=\"\",\"\",'Liste Klasse 3'!L58)","v":""},{"$f":"IF('Liste Klasse 3'!M58=\"\",\"\",'Liste Klasse 3'!M58)","v":""},{"$f":"IF('Liste Klasse 3'!N58=\"\",\"\",'Liste Klasse 3'!N58)","v":""},{"$f":"IF('Liste Klasse 3'!O58=\"\",\"\",'Liste Klasse 3'!O58)","v":""},{"$f":"IF('Liste Klasse 3'!P58=\"\",\"\",'Liste Klasse 3'!P58)","v":""},{"$f":"IF('Liste Klasse 3'!Q58=\"\",\"\",'Liste Klasse 3'!Q58)","v":""},{"$f":"IF('Liste Klasse 3'!R58=\"\",\"\",'Liste Klasse 3'!R58)","v":""},{"$f":"'Liste Klasse 3'!S58","v":0},{"$f":"'Liste Klasse 3'!T58","v":""},{"$f":"'Liste Klasse 3'!U58","v":0}]
[{"$f":"IF('Liste Klasse 3'!A59=\"\",\"\",'Liste Klasse 3'!A59&\" / \"&'Liste Klasse 3'!B59&\" / Klasse 3\")","v":""},{"$f":"IF('Liste Klasse 3'!C59=\"\",\"\",'Liste Klasse 3'!C59)","v":""},{"$f":"IF('Liste Klasse 3'!D59=\"\",\"\",'Liste Klasse 3'!D59&CHAR(10)&'Liste Klasse 3'!E59)","v":""},{"$f":"IF('Liste Klasse 3'!F59=\"\",\"\",'Liste Klasse 3'!F59&CHAR(10)&'Liste Klasse 3'!G59)","v":""},{"$f":"IF('Liste Klasse 3'!H59=\"\",\"\",'Liste Klasse 3'!H59)","v":""},{"$f":"IF('Liste Klasse 3'!I59=\"\",\"\",'Liste Klasse 3'!I59)","v":""},{"$f":"IF('Liste Klasse 3'!J59=\"\",\"\",'Liste Klasse 3'!J59)","v":""},{"$f":"IF('Liste Klasse 3'!K59=\"\",\"\",'Liste Klasse 3'!K59)","v":""},{"$f":"IF('Liste Klasse 3'!L59=\"\",\"\",'Liste Klasse 3'!L59)","v":""},{"$f":"IF('Liste Klasse 3'!M59=\"\",\"\",'Liste Klasse 3'!M59)","v":""},{"$f":"IF('Liste Klasse 3'!N59=\"\",\"\",'Liste Klasse 3'!N59)","v":""},{"$f":"IF('Liste Klasse 3'!O59=\"\",\"\",'Liste Klasse 3'!O59)","v":""},{"$f":"IF('Liste Klasse 3'!P59=\"\",\"\",'Liste Klasse 3'!P59)","v":""},{"$f":"IF('Liste Klasse 3'!Q59=\"\",\"\",'Liste Klasse 3'!Q59)","v":""},{"$f":"IF('Liste Klasse 3'!R59=\"\",\"\",'Liste Klasse 3'!R59)","v":""},{"$f":"'Liste Klasse 3'!S59","v":0},{"$f":"'Liste Klasse 3'!T59","v":""},{"$f":"'Liste Klasse 3'!U59","v":0}]
[{"$f":"IF('Liste Klasse 3'!A60=\"\",\"\",'Liste Klasse 3'!A60&\" / \"&'Liste Klasse 3'!B60&\" / Klasse 3\")","v":""},{"$f":"IF('Liste Klasse 3'!C60=\"\",\"\",'Liste Klasse 3'!C60)","v":""},{"$f":"IF('Liste Klasse 3'!D60=\"\",\"\",'Liste Klasse 3'!D60&CHAR(10)&'Liste Klasse 3'!E60)","v":""},{"$f":"IF('Liste Klasse 3'!F60=\"\",\"\",'Liste Klasse 3'!F60&CHAR(10)&'Liste Klasse 3'!G60)","v":""},{"$f":"IF('Liste Klasse 3'!H60=\"\",\"\",'Liste Klasse 3'!H60)","v":""},{"$f":"IF('Liste Klasse 3'!I60=\"\",\"\",'Liste Klasse 3'!I60)","v":""},{"$f":"IF('Liste Klasse 3'!J60=\"\",\"\",'Liste Klasse 3'!J60)","v":""},{"$f":"IF('Liste Klasse 3'!K60=\"\",\"\",'Liste Klasse 3'!K60)","v":""},{"$f":"IF('Liste Klasse 3'!L60=\"\",\"\",'Liste Klasse 3'!L60)","v":""},{"$f":"IF('Liste Klasse 3'!M60=\"\",\"\",'Liste Klasse 3'!M60)","v":""},{"$f":"IF('Liste Klasse 3'!N60=\"\",\"\",'Liste Klasse 3'!N60)","v":""},{"$f":"IF('Liste Klasse 3'!O60=\"\",\"\",'Liste Klasse 3'!O60)","v":""},{"$f":"IF('Liste Klasse 3'!P60=\"\",\"\",'Liste Klasse 3'!P60)","v":""},{"$f":"IF('Liste Klasse 3'!Q60=\"\",\"\",'Liste Klasse 3'!Q60)","v":""},{"$f":"IF('Liste Klasse 3'!R60=\"\",\"\",'Liste Klasse 3'!R60)","v":""},{"$f":"'Liste Klasse 3'!S60","v":0},{"$f":"'Liste Klasse 3'!T60","v":""},{"$f":"'Liste Klasse 3'!U60","v":0}]
[{"$f":"IF('Liste Klasse 3'!A61=\"\",\"\",'Liste Klasse 3'!A61&\" / \"&'Liste Klasse 3'!B61&\" / Klasse 3\")","v":""},{"$f":"IF('Liste Klasse 3'!C61=\"\",\"\",'Liste Klasse 3'!C61)","v":""},{"$f":"IF('Liste Klasse 3'!D61=\"\",\"\",'Liste Klasse 3'!D61&CHAR(10)&'Liste Klasse 3'!E61)","v":""},{"$f":"IF('Liste Klasse 3'!F61=\"\",\"\",'Liste Klasse 3'!F61&CHAR(10)&'Liste Klasse 3'!G61)","v":""},{"$f":"IF('Liste Klasse 3'!H61=\"\",\"\",'Liste Klasse 3'!H61)","v":""},{"$f":"IF('Liste Klasse 3'!I61=\"\",\"\",'Liste Klasse 3'!I61)","v":""},{"$f":"IF('Liste Klasse 3'!J61=\"\",\"\",'Liste Klasse 3'!J61)","v":""},{"$f":"IF('Liste Klasse 3'!K61=\"\",\"\",'Liste Klasse 3'!K61)","v":""},{"$f":"IF('Liste Klasse 3'!L61=\"\",\"\",'Liste Klasse 3'!L61)","v":""},{"$f":"IF('Liste Klasse 3'!M61=\"\",\"\",'Liste Klasse 3'!M61)","v":""},{"$f":"IF('Liste Klasse 3'!N61=\"\",\"\",'Liste Klasse 3'!N61)","v":""},{"$f":"IF('Liste Klasse 3'!O61=\"\",\"\",'Liste Klasse 3'!O61)","v":""},{"$f":"IF('Liste Klasse 3'!P61=\"\",\"\",'Liste Klasse 3'!P61)","v":""},{"$f":"IF('Liste Klasse 3'!Q61=\"\",\"\",'Liste Klasse 3'!Q61)","v":""},{"$f":"IF('Liste Klasse 3'!R61=\"\",\"\",'Liste Klasse 3'!R61)","v":""},{"$f":"'Liste Klasse 3'!S61","v":0},{"$f":"'Liste Klasse 3'!T61","v":""},{"$f":"'Liste Klasse 3'!U61","v":0}]
[{"$f":"IF('Liste Klasse 3'!A62=\"\",\"\",'Liste Klasse 3'!A62&\" / \"&'Liste Klasse 3'!B62&\" / Klasse 3\")","v":""},{"$f":"IF('Liste Klasse 3'!C62=\"\",\"\",'Liste Klasse 3'!C62)","v":""},{"$f":"IF('Liste Klasse 3'!D62=\"\",\"\",'Liste Klasse 3'!D62&CHAR(10)&'Liste Klasse 3'!E62)","v":""},{"$f":"IF('Liste Klasse 3'!F62=\"\",\"\",'Liste Klasse 3'!F62&CHAR(10)&'Liste Klasse 3'!G62)","v":""},{"$f":"IF('Liste Klasse 3'!H62=\"\",\"\",'Liste Klasse 3'!H62)","v":""},{"$f":"IF('Liste Klasse 3'!I62=\"\",\"\",'Liste Klasse 3'!I62)","v":""},{"$f":"IF('Liste Klasse 3'!J62=\"\",\"\",'Liste Klasse 3'!J62)","v":""},{"$f":"IF('Liste Klasse 3'!K62=\"\",\"\",'Liste Klasse 3'!K62)","v":""},{"$f":"IF('Liste Klasse 3'!L62=\"\",\"\",'Liste Klasse 3'!L62)","v":""},{"$f":"IF('Liste Klasse 3'!M62=\"\",\"\",'Liste Klasse 3'!M62)","v":""},{"$f":"IF('Liste Klasse 3'!N62=\"\",\"\",'Liste Klasse 3'!N62)","v":""},{"$f":"IF('Liste Klasse 3'!O62=\"\",\"\",'Liste Klasse 3'!O62)","v":""},{"$f":"IF('Liste Klasse 3'!P62=\"\",\"\",'Liste Klasse 3'!P62)","v":""},{"$f":"IF('Liste Klasse 3'!Q62=\"\",\"\",'Liste Klasse 3'!Q62)","v":""},{"$f":"IF('Liste Klasse 3'!R62=\"\",\"\",'Liste Klasse 3'!R62)","v":""},{"$f":"'Liste Klasse 3'!S62","v":0},{"$f":"'Liste Klasse 3'!T62","v":""},{"$f":"'Liste Klasse 3'!U62","v":0}]
[{"$f":"IF('Liste Klasse 3'!A63=\"\",\"\",'Liste Klasse 3'!A63&\" / \"&'Liste Klasse 3'!B63&\" / Klasse 3\")","v":""},{"$f":"IF('Liste Klasse 3'!C63=\"\",\"\",'Liste Klasse 3'!C63)","v":""},{"$f":"IF('Liste Klasse 3'!D63=\"\",\"\",'Liste Klasse 3'!D63&CHAR(10)&'Liste Klasse 3'!E63)","v":""},{"$f":"IF('Liste Klasse 3'!F63=\"\",\"\",'Liste Klasse 3'!F63&CHAR(10)&'Liste Klasse 3'!G63)","v":""},{"$f":"IF('Liste Klasse 3'!H63=\"\",\"\",'Liste Klasse 3'!H63)","v":""},{"$f":"IF('Liste Klasse 3'!I63=\"\",\"\",'Liste Klasse 3'!I63)","v":""},{"$f":"IF('Liste Klasse 3'!J63=\"\",\"\",'Liste Klasse 3'!J63)","v":""},{"$f":"IF('Liste Klasse 3'!K63=\"\",\"\",'Liste Klasse 3'!K63)","v":""},{"$f":"IF('Liste Klasse 3'!L63=\"\",\"\",'Liste Klasse 3'!L63)","v":""},{"$f":"IF('Liste Klasse 3'!M63=\"\",\"\",'Liste Klasse 3'!M63)","v":""},{"$f":"IF('Liste Klasse 3'!N63=\"\",\"\",'Liste Klasse 3'!N63)","v":""},{"$f":"IF('Liste Klasse 3'!O63=\"\",\"\",'Liste Klasse 3'!O63)","v":""},{"$f":"IF('Liste Klasse 3'!P63=\"\",\"\",'Liste Klasse 3'!P63)","v":""},{"$f":"IF('Liste Klasse 3'!Q63=\"\",\"\",'Liste Klasse 3'!Q63)","v":""},{"$f":"IF('Liste Klasse 3'!R63=\"\",\"\",'Liste Klasse 3'!R63)","v":""},{"$f":"'Liste Klasse 3'!S63","v":0},{"$f":"'Liste Klasse 3'!T63","v":""},{"$f":"'Liste Klasse 3'!U63","v":0}]
[{"$f":"IF('Liste Klasse 3'!A64=\"\",\"\",'Liste Klasse 3'!A64&\" / \"&'Liste Klasse 3'!B64&\" / Klasse 3\")","v":""},{"$f":"IF('Liste Klasse 3'!C64=\"\",\"\",'Liste Klasse 3'!C64)","v":""},{"$f":"IF('Liste Klasse 3'!D64=\"\",\"\",'Liste Klasse 3'!D64&CHAR(10)&'Liste Klasse 3'!E64)","v":""},{"$f":"IF('Liste Klasse 3'!F64=\"\",\"\",'Liste Klasse 3'!F64&CHAR(10)&'Liste Klasse 3'!G64)","v":""},{"$f":"IF('Liste Klasse 3'!H64=\"\",\"\",'Liste Klasse 3'!H64)","v":""},{"$f":"IF('Liste Klasse 3'!I64=\"\",\"\",'Liste Klasse 3'!I64)","v":""},{"$f":"IF('Liste Klasse 3'!J64=\"\",\"\",'Liste Klasse 3'!J64)","v":""},{"$f":"IF('Liste Klasse 3'!K64=\"\",\"\",'Liste Klasse 3'!K64)","v":""},{"$f":"IF('Liste Klasse 3'!L64=\"\",\"\",'Liste Klasse 3'!L64)","v":""},{"$f":"IF('Liste Klasse 3'!M64=\"\",\"\",'Liste Klasse 3'!M64)","v":""},{"$f":"IF('Liste Klasse 3'!N64=\"\",\"\",'Liste Klasse 3'!N64)","v":""},{"$f":"IF('Liste Klasse 3'!O64=\"\",\"\",'Liste Klasse 3'!O64)","v":""},{"$f":"IF('Liste Klasse 3'!P64=\"\",\"\",'Liste Klasse 3'!P64)","v":""},{"$f":"IF('Liste Klasse 3'!Q64=\"\",\"\",'Liste Klasse 3'!Q64)","v":""},{"$f":"IF('Liste Klasse 3'!R64=\"\",\"\",'Liste Klasse 3'!R64)","v":""},{"$f":"'Liste Klasse 3'!S64","v":0},{"$f":"'Liste Klasse 3'!T64","v":""},{"$f":"'Liste Klasse 3'!U64","v":0}]
[{"$f":"IF('Liste Klasse 3'!A65=\"\",\"\",'Liste Klasse 3'!A65&\" / \"&'Liste Klasse 3'!B65&\" / Klasse 3\")","v":""},{"$f":"IF('Liste Klasse 3'!C65=\"\",\"\",'Liste Klasse 3'!C65)","v":""},{"$f":"IF('Liste Klasse 3'!D65=\"\",\"\",'Liste Klasse 3'!D65&CHAR(10)&'Liste Klasse 3'!E65)","v":""},{"$f":"IF('Liste Klasse 3'!F65=\"\",\"\",'Liste Klasse 3'!F65&CHAR(10)&'Liste Klasse 3'!G65)","v":""},{"$f":"IF('Liste Klasse 3'!H65=\"\",\"\",'Liste Klasse 3'!H65)","v":""},{"$f":"IF('Liste Klasse 3'!I65=\"\",\"\",'Liste Klasse 3'!I65)","v":""},{"$f":"IF('Liste Klasse 3'!J65=\"\",\"\",'Liste Klasse 3'!J65)","v":""},{"$f":"IF('Liste Klasse 3'!K65=\"\",\"\",'Liste Klasse 3'!K65)","v":""},{"$f":"IF('Liste Klasse 3'!L65=\"\",\"\",'Liste Klasse 3'!L65)","v":""},{"$f":"IF('Liste Klasse 3'!M65=\"\",\"\",'Liste Klasse 3'!M65)","v":""},{"$f":"IF('Liste Klasse 3'!N65=\"\",\"\",'Liste Klasse 3'!N65)","v":""},{"$f":"IF('Liste Klasse 3'!O65=\"\",\"\",'Liste Klasse 3'!O65)","v":""},{"$f":"IF('Liste Klasse 3'!P65=\"\",\"\",'Liste Klasse 3'!P65)","v":""},{"$f":"IF('Liste Klasse 3'!Q65=\"\",\"\",'Liste Klasse 3'!Q65)","v":""},{"$f":"IF('Liste Klasse 3'!R65=\"\",\"\",'Liste Klasse 3'!R65)","v":""},{"$f":"'Liste Klasse 3'!S65","v":0},{"$f":"'Liste Klasse 3'!T65","v":""},{"$f":"'Liste Klasse 3'!U65","v":0}]
[{"$f":"IF('Liste Klasse 3'!A66=\"\",\"\",'Liste Klasse 3'!A66&\" / \"&'Liste Klasse 3'!B66&\" / Klasse 3\")","v":""},{"$f":"IF('Liste Klasse 3'!C66=\"\",\"\",'Liste Klasse 3'!C66)","v":""},{"$f":"IF('Liste Klasse 3'!D66=\"\",\"\",'Liste Klasse 3'!D66&CHAR(10)&'Liste Klasse 3'!E66)","v":""},{"$f":"IF('Liste Klasse 3'!F66=\"\",\"\",'Liste Klasse 3'!F66&CHAR(10)&'Liste Klasse 3'!G66)","v":""},{"$f":"IF('Liste Klasse 3'!H66=\"\",\"\",'Liste Klasse 3'!H66)","v":""},{"$f":"IF('Liste Klasse 3'!I66=\"\",\"\",'Liste Klasse 3'!I66)","v":""},{"$f":"IF('Liste Klasse 3'!J66=\"\",\"\",'Liste Klasse 3'!J66)","v":""},{"$f":"IF('Liste Klasse 3'!K66=\"\",\"\",'Liste Klasse 3'!K66)","v":""},{"$f":"IF('Liste Klasse 3'!L66=\"\",\"\",'Liste Klasse 3'!L66)","v":""},{"$f":"IF('Liste Klasse 3'!M66=\"\",\"\",'Liste Klasse 3'!M66)","v":""},{"$f":"IF('Liste Klasse 3'!N66=\"\",\"\",'Liste Klasse 3'!N66)","v":""},{"$f":"IF('Liste Klasse 3'!O66=\"\",\"\",'Liste Klasse 3'!O66)","v":""},{"$f":"IF('Liste Klasse 3'!P66=\"\",\"\",'Liste Klasse 3'!P66)","v":""},{"$f":"IF('Liste Klasse 3'!Q66=\"\",\"\",'Liste Klasse 3'!Q66)","v":""},{"$f":"IF('Liste Klasse 3'!R66=\"\",\"\",'Liste Klasse 3'!R66)","v":""},{"$f":"'Liste Klasse 3'!S66","v":0},{"$f":"'Liste Klasse 3'!T66","v":""},{"$f":"'Liste Klasse 3'!U66","v":0}]
[{"$f":"IF('Liste Klasse 3'!A67=\"\",\"\",'Liste Klasse 3'!A67&\" / \"&'Liste Klasse 3'!B67&\" / Klasse 3\")","v":""},{"$f":"IF('Liste Klasse 3'!C67=\"\",\"\",'Liste Klasse 3'!C67)","v":""},{"$f":"IF('Liste Klasse 3'!D67=\"\",\"\",'Liste Klasse 3'!D67&CHAR(10)&'Liste Klasse 3'!E67)","v":""},{"$f":"IF('Liste Klasse 3'!F67=\"\",\"\",'Liste Klasse 3'!F67&CHAR(10)&'Liste Klasse 3'!G67)","v":""},{"$f":"IF('Liste Klasse 3'!H67=\"\",\"\",'Liste Klasse 3'!H67)","v":""},{"$f":"IF('Liste Klasse 3'!I67=\"\",\"\",'Liste Klasse 3'!I67)","v":""},{"$f":"IF('Liste Klasse 3'!J67=\"\",\"\",'Liste Klasse 3'!J67)","v":""},{"$f":"IF('Liste Klasse 3'!K67=\"\",\"\",'Liste Klasse 3'!K67)","v":""},{"$f":"IF('Liste Klasse 3'!L67=\"\",\"\",'Liste Klasse 3'!L67)","v":""},{"$f":"IF('Liste Klasse 3'!M67=\"\",\"\",'Liste Klasse 3'!M67)","v":""},{"$f":"IF('Liste Klasse 3'!N67=\"\",\"\",'Liste Klasse 3'!N67)","v":""},{"$f":"IF('Liste Klasse 3'!O67=\"\",\"\",'Liste Klasse 3'!O67)","v":""},{"$f":"IF('Liste Klasse 3'!P67=\"\",\"\",'Liste Klasse 3'!P67)","v":""},{"$f":"IF('Liste Klasse 3'!Q67=\"\",\"\",'Liste Klasse 3'!Q67)","v":""},{"$f":"IF('Liste Klasse 3'!R67=\"\",\"\",'Liste Klasse 3'!R67)","v":""},{"$f":"'Liste Klasse 3'!S67","v":0},{"$f":"'Liste Klasse 3'!T67","v":""},{"$f":"'Liste Klasse 3'!U67","v":0}]
[{"$f":"IF('Liste Klasse 3'!A68=\"\",\"\",'Liste Klasse 3'!A68&\" / \"&'Liste Klasse 3'!B68&\" / Klasse 3\")","v":""},{"$f":"IF('Liste Klasse 3'!C68=\"\",\"\",'Liste Klasse 3'!C68)","v":""},{"$f":"IF('Liste Klasse 3'!D68=\"\",\"\",'Liste Klasse 3'!D68&CHAR(10)&'Liste Klasse 3'!E68)","v":""},{"$f":"IF('Liste Klasse 3'!F68=\"\",\"\",'Liste Klasse 3'!F68&CHAR(10)&'Liste Klasse 3'!G68)","v":""},{"$f":"IF('Liste Klasse 3'!H68=\"\",\"\",'Liste Klasse 3'!H68)","v":""},{"$f":"IF('Liste Klasse 3'!I68=\"\",\"\",'Liste Klasse 3'!I68)","v":""},{"$f":"IF('Liste Klasse 3'!J68=\"\",\"\",'Liste Klasse 3'!J68)","v":""},{"$f":"IF('Liste Klasse 3'!K68=\"\",\"\",'Liste Klasse 3'!K68)","v":""},{"$f":"IF('Liste Klasse 3'!L68=\"\",\"\",'Liste Klasse 3'!L68)","v":""},{"$f":"IF('Liste Klasse 3'!M68=\"\",\"\",'Liste Klasse 3'!M68)","v":""},{"$f":"IF('Liste Klasse 3'!N68=\"\",\"\",'Liste Klasse 3'!N68)","v":""},{"$f":"IF('Liste Klasse 3'!O68=\"\",\"\",'Liste Klasse 3'!O68)","v":""},{"$f":"IF('Liste Klasse 3'!P68=\"\",\"\",'Liste Klasse 3'!P68)","v":""},{"$f":"IF('Liste Klasse 3'!Q68=\"\",\"\",'Liste Klasse 3'!Q68)","v":""},{"$f":"IF('Liste Klasse 3'!R68=\"\",\"\",'Liste Klasse 3'!R68)","v":""},{"$f":"'Liste Klasse 3'!S68","v":0},{"$f":"'Liste Klasse 3'!T68","v":""},{"$f":"'Liste Klasse 3'!U68","v":0}]
["Start / Los / Klasse","Hundeführer/-in","Verein","Hund",{"$f":"IF('Liste Senioren'!H$4=0,\"\",'Liste Senioren'!H$4)","v":1},{"$f":"IF('Liste Senioren'!I$4=0,\"\",'Liste Senioren'!I$4)","v":2},{"$f":"IF('Liste Senioren'!J$4=0,\"\",'Liste Senioren'!J$4)","v":3},{"$f":"IF('Liste Senioren'!K$4=0,\"\",'Liste Senioren'!K$4)","v":4},{"$f":"IF('Liste Senioren'!L$4=0,\"\",'Liste Senioren'!L$4)","v":5},{"$f":"IF('Liste Senioren'!M$4=0,\"\",'Liste Senioren'!M$4)","v":6},{"$f":"IF('Liste Senioren'!N$4=0,\"\",'Liste Senioren'!N$4)","v":7},{"$f":"IF('Liste Senioren'!O$4=0,\"\",'Liste Senioren'!O$4)","v":8},{"$f":"IF('Liste Senioren'!P$4=0,\"\",'Liste Senioren'!P$4)","v":9},{"$f":"IF('Liste Senioren'!Q$4=0,\"\",'Liste Senioren'!Q$4)","v":10},{"$f":"IF('Liste Senioren'!R$4=0,\"\",'Liste Senioren'!R$4)","v":""},"Gesamt","WN","Platz"]
[{"$f":"IF('Liste Senioren'!A8=\"\",\"\",'Liste Senioren'!A8&\" / \"&'Liste Senioren'!B8&\" / Senioren\")","v":""},{"$f":"IF('Liste Senioren'!C8=\"\",\"\",'Liste Senioren'!C8)","v":""},{"$f":"IF('Liste Senioren'!D8=\"\",\"\",'Liste Senioren'!D8&CHAR(10)&'Liste Senioren'!E8)","v":""},{"$f":"IF('Liste Senioren'!F8=\"\",\"\",'Liste Senioren'!F8&CHAR(10)&'Liste Senioren'!G8)","v":""},{"$f":"IF('Liste Senioren'!H8=\"\",\"\",'Liste Senioren'!H8)","v":""},{"$f":"IF('Liste Senioren'!I8=\"\",\"\",'Liste Senioren'!I8)","v":""},{"$f":"IF('Liste Senioren'!J8=\"\",\"\",'Liste Senioren'!J8)","v":""},{"$f":"IF('Liste Senioren'!K8=\"\",\"\",'Liste Senioren'!K8)","v":""},{"$f":"IF('Liste Senioren'!L8=\"\",\"\",'Liste Senioren'!L8)","v":""},{"$f":"IF('Liste Senioren'!M8=\"\",\"\",'Liste Senioren'!M8)","v":""},{"$f":"IF('Liste Senioren'!N8=\"\",\"\",'Liste Senioren'!N8)","v":""},{"$f":"IF('Liste Senioren'!O8=\"\",\"\",'Liste Senioren'!O8)","v":""},{"$f":"IF('Liste Senioren'!P8=\"\",\"\",'Liste Senioren'!P8)","v":""},{"$f":"IF('Liste Senioren'!Q8=\"\",\"\",'Liste Senioren'!Q8)","v":""},{"$f":"IF('Liste Senioren'!R8=\"\",\"\",'Liste Senioren'!R8)","v":""},{"$f":"'Liste Senioren'!S8","v":0},{"$f":"'Liste Senioren'!T8","v":""},{"$f":"'Liste Senioren'!U8","v":0}]
[{"$f":"IF('Liste Senioren'!A9=\"\",\"\",'Liste Senioren'!A9&\" / \"&'Liste Senioren'!B9&\" / Senioren\")","v":""},{"$f":"IF('Liste Senioren'!C9=\"\",\"\",'Liste Senioren'!C9)","v":""},{"$f":"IF('Liste Senioren'!D9=\"\",\"\",'Liste Senioren'!D9&CHAR(10)&'Liste Senioren'!E9)","v":""},{"$f":"IF('Liste Senioren'!F9=\"\",\"\",'Liste Senioren'!F9&CHAR(10)&'Liste Senioren'!G9)","v":""},{"$f":"IF('Liste Senioren'!H9=\"\",\"\",'Liste Senioren'!H9)","v":""},{"$f":"IF('Liste Senioren'!I9=\"\",\"\",'Liste Senioren'!I9)","v":""},{"$f":"IF('Liste Senioren'!J9=\"\",\"\",'Liste Senioren'!J9)","v":""},{"$f":"IF('Liste Senioren'!K9=\"\",\"\",'Liste Senioren'!K9)","v":""},{"$f":"IF('Liste Senioren'!L9=\"\",\"\",'Liste Senioren'!L9)","v":""},{"$f":"IF('Liste Senioren'!M9=\"\",\"\",'Liste Senioren'!M9)","v":""},{"$f":"IF('Liste Senioren'!N9=\"\",\"\",'Liste Senioren'!N9)","v":""},{"$f":"IF('Liste Senioren'!O9=\"\",\"\",'Liste Senioren'!O9)","v":""},{"$f":"IF('Liste Senioren'!P9=\"\",\"\",'Liste Senioren'!P9)","v":""},{"$f":"IF('Liste Senioren'!Q9=\"\",\"\",'Liste Senioren'!Q9)","v":""},{"$f":"IF('Liste Senioren'!R9=\"\",\"\",'Liste Senioren'!R9)","v":""},{"$f":"'Liste Senioren'!S9","v":0},{"$f":"'Liste Senioren'!T9","v":""},{"$f":"'Liste Senioren'!U9","v":0}]
[{"$f":"IF('Liste Senioren'!A10=\"\",\"\",'Liste Senioren'!A10&\" / \"&'Liste Senioren'!B10&\" / Senioren\")","v":""},{"$f":"IF('Liste Senioren'!C10=\"\",\"\",'Liste Senioren'!C10)","v":""},{"$f":"IF('Liste Senioren'!D10=\"\",\"\",'Liste Senioren'!D10&CHAR(10)&'Liste Senioren'!E10)","v":""},{"$f":"IF('Liste Senioren'!F10=\"\",\"\",'Liste Senioren'!F10&CHAR(10)&'Liste Senioren'!G10)","v":""},{"$f":"IF('Liste Senioren'!H10=\"\",\"\",'Liste Senioren'!H10)","v":""},{"$f":"IF('Liste Senioren'!I10=\"\",\"\",'Liste Senioren'!I10)","v":""},{"$f":"IF('Liste Senioren'!J10=\"\",\"\",'Liste Senioren'!J10)","v":""},{"$f":"IF('Liste Senioren'!K10=\"\",\"\",'Liste Senioren'!K10)","v":""},{"$f":"IF('Liste Senioren'!L10=\"\",\"\",'Liste Senioren'!L10)","v":""},{"$f":"IF('Liste Senioren'!M10=\"\",\"\",'Liste Senioren'!M10)","v":""},{"$f":"IF('Liste Senioren'!N10=\"\",\"\",'Liste Senioren'!N10)","v":""},{"$f":"IF('Liste Senioren'!O10=\"\",\"\",'Liste Senioren'!O10)","v":""},{"$f":"IF('Liste Senioren'!P10=\"\",\"\",'Liste Senioren'!P10)","v":""},{"$f":"IF('Liste Senioren'!Q10=\"\",\"\",'Liste Senioren'!Q10)","v":""},{"$f":"IF('Liste Senioren'!R10=\"\",\"\",'Liste Senioren'!R10)","v":""},{"$f":"'Liste Senioren'!S10","v":0},{"$f":"'Liste Senioren'!T10","v":""},{"$f":"'Liste Senioren'!U10","v":0}]
[{"$f":"IF('Liste Senioren'!A11=\"\",\"\",'Liste Senioren'!A11&\" / \"&'Liste Senioren'!B11&\" / Senioren\")","v":""},{"$f":"IF('Liste Senioren'!C11=\"\",\"\",'Liste Senioren'!C11)","v":""},{"$f":"IF('Liste Senioren'!D11=\"\",\"\",'Liste Senioren'!D11&CHAR(10)&'Liste Senioren'!E11)","v":""},{"$f":"IF('Liste Senioren'!F11=\"\",\"\",'Liste Senioren'!F11&CHAR(10)&'Liste Senioren'!G11)","v":""},{"$f":"IF('Liste Senioren'!H11=\"\",\"\",'Liste Senioren'!H11)","v":""},{"$f":"IF('Liste Senioren'!I11=\"\",\"\",'Liste Senioren'!I11)","v":""},{"$f":"IF('Liste Senioren'!J11=\"\",\"\",'Liste Senioren'!J11)","v":""},{"$f":"IF('Liste Senioren'!K11=\"\",\"\",'Liste Senioren'!K11)","v":""},{"$f":"IF('Liste Senioren'!L11=\"\",\"\",'Liste Senioren'!L11)","v":""},{"$f":"IF('Liste Senioren'!M11=\"\",\"\",'Liste Senioren'!M11)","v":""},{"$f":"IF('Liste Senioren'!N11=\"\",\"\",'Liste Senioren'!N11)","v":""},{"$f":"IF('Liste Senioren'!O11=\"\",\"\",'Liste Senioren'!O11)","v":""},{"$f":"IF('Liste Senioren'!P11=\"\",\"\",'Liste Senioren'!P11)","v":""},{"$f":"IF('Liste Senioren'!Q11=\"\",\"\",'Liste Senioren'!Q11)","v":""},{"$f":"IF('Liste Senioren'!R11=\"\",\"\",'Liste Senioren'!R11)","v":""},{"$f":"'Liste Senioren'!S11","v":0},{"$f":"'Liste Senioren'!T11","v":""},{"$f":"'Liste Senioren'!U11","v":0}]
[{"$f":"IF('Liste Senioren'!A12=\"\",\"\",'Liste Senioren'!A12&\" / \"&'Liste Senioren'!B12&\" / Senioren\")","v":""},{"$f":"IF('Liste Senioren'!C12=\"\",\"\",'Liste Senioren'!C12)","v":""},{"$f":"IF('Liste Senioren'!D12=\"\",\"\",'Liste Senioren'!D12&CHAR(10)&'Liste Senioren'!E12)","v":""},{"$f":"IF('Liste Senioren'!F12=\"\",\"\",'Liste Senioren'!F12&CHAR(10)&'Liste Senioren'!G12)","v":""},{"$f":"IF('Liste Senioren'!H12=\"\",\"\",'Liste Senioren'!H12)","v":""},{"$f":"IF('Liste Senioren'!I12=\"\",\"\",'Liste Senioren'!I12)","v":""},{"$f":"IF('Liste Senioren'!J12=\"\",\"\",'Liste Senioren'!J12)","v":""},{"$f":"IF('Liste Senioren'!K12=\"\",\"\",'Liste Senioren'!K12)","v":""},{"$f":"IF('Liste Senioren'!L12=\"\",\"\",'Liste Senioren'!L12)","v":""},{"$f":"IF('Liste Senioren'!M12=\"\",\"\",'Liste Senioren'!M12)","v":""},{"$f":"IF('Liste Senioren'!N12=\"\",\"\",'Liste Senioren'!N12)","v":""},{"$f":"IF('Liste Senioren'!O12=\"\",\"\",'Liste Senioren'!O12)","v":""},{"$f":"IF('Liste Senioren'!P12=\"\",\"\",'Liste Senioren'!P12)","v":""},{"$f":"IF('Liste Senioren'!Q12=\"\",\"\",'Liste Senioren'!Q12)","v":""},{"$f":"IF('Liste Senioren'!R12=\"\",\"\",'Liste Senioren'!R12)","v":""},{"$f":"'Liste Senioren'!S12","v":0},{"$f":"'Liste Senioren'!T12","v":""},{"$f":"'Liste Senioren'!U12","v":0}]
[{"$f":"IF('Liste Senioren'!A13=\"\",\"\",'Liste Senioren'!A13&\" / \"&'Liste Senioren'!B13&\" / Senioren\")","v":""},{"$f":"IF('Liste Senioren'!C13=\"\",\"\",'Liste Senioren'!C13)","v":""},{"$f":"IF('Liste Senioren'!D13=\"\",\"\",'Liste Senioren'!D13&CHAR(10)&'Liste Senioren'!E13)","v":""},{"$f":"IF('Liste Senioren'!F13=\"\",\"\",'Liste Senioren'!F13&CHAR(10)&'Liste Senioren'!G13)","v":""},{"$f":"IF('Liste Senioren'!H13=\"\",\"\",'Liste Senioren'!H13)","v":""},{"$f":"IF('Liste Senioren'!I13=\"\",\"\",'Liste Senioren'!I13)","v":""},{"$f":"IF('Liste Senioren'!J13=\"\",\"\",'Liste Senioren'!J13)","v":""},{"$f":"IF('Liste Senioren'!K13=\"\",\"\",'Liste Senioren'!K13)","v":""},{"$f":"IF('Liste Senioren'!L13=\"\",\"\",'Liste Senioren'!L13)","v":""},{"$f":"IF('Liste Senioren'!M13=\"\",\"\",'Liste Senioren'!M13)","v":""},{"$f":"IF('Liste Senioren'!N13=\"\",\"\",'Liste Senioren'!N13)","v":""},{"$f":"IF('Liste Senioren'!O13=\"\",\"\",'Liste Senioren'!O13)","v":""},{"$f":"IF('Liste Senioren'!P13=\"\",\"\",'Liste Senioren'!P13)","v":""},{"$f":"IF('Liste Senioren'!Q13=\"\",\"\",'Liste Senioren'!Q13)","v":""},{"$f":"IF('Liste Senioren'!R13=\"\",\"\",'Liste Senioren'!R13)","v":""},{"$f":"'Liste Senioren'!S13","v":0},{"$f":"'Liste Senioren'!T13","v":""},{"$f":"'Liste Senioren'!U13","v":0}]
[{"$f":"IF('Liste Senioren'!A14=\"\",\"\",'Liste Senioren'!A14&\" / \"&'Liste Senioren'!B14&\" / Senioren\")","v":""},{"$f":"IF('Liste Senioren'!C14=\"\",\"\",'Liste Senioren'!C14)","v":""},{"$f":"IF('Liste Senioren'!D14=\"\",\"\",'Liste Senioren'!D14&CHAR(10)&'Liste Senioren'!E14)","v":""},{"$f":"IF('Liste Senioren'!F14=\"\",\"\",'Liste Senioren'!F14&CHAR(10)&'Liste Senioren'!G14)","v":""},{"$f":"IF('Liste Senioren'!H14=\"\",\"\",'Liste Senioren'!H14)","v":""},{"$f":"IF('Liste Senioren'!I14=\"\",\"\",'Liste Senioren'!I14)","v":""},{"$f":"IF('Liste Senioren'!J14=\"\",\"\",'Liste Senioren'!J14)","v":""},{"$f":"IF('Liste Senioren'!K14=\"\",\"\",'Liste Senioren'!K14)","v":""},{"$f":"IF('Liste Senioren'!L14=\"\",\"\",'Liste Senioren'!L14)","v":""},{"$f":"IF('Liste Senioren'!M14=\"\",\"\",'Liste Senioren'!M14)","v":""},{"$f":"IF('Liste Senioren'!N14=\"\",\"\",'Liste Senioren'!N14)","v":""},{"$f":"IF('Liste Senioren'!O14=\"\",\"\",'Liste Senioren'!O14)","v":""},{"$f":"IF('Liste Senioren'!P14=\"\",\"\",'Liste Senioren'!P14)","v":""},{"$f":"IF('Liste Senioren'!Q14=\"\",\"\",'Liste Senioren'!Q14)","v":""},{"$f":"IF('Liste Senioren'!R14=\"\",\"\",'Liste Senioren'!R14)","v":""},{"$f":"'Liste Senioren'!S14","v":0},{"$f":"'Liste Senioren'!T14","v":""},{"$f":"'Liste Senioren'!U14","v":0}]
[{"$f":"IF('Liste Senioren'!A15=\"\",\"\",'Liste Senioren'!A15&\" / \"&'Liste Senioren'!B15&\" / Senioren\")","v":""},{"$f":"IF('Liste Senioren'!C15=\"\",\"\",'Liste Senioren'!C15)","v":""},{"$f":"IF('Liste Senioren'!D15=\"\",\"\",'Liste Senioren'!D15&CHAR(10)&'Liste Senioren'!E15)","v":""},{"$f":"IF('Liste Senioren'!F15=\"\",\"\",'Liste Senioren'!F15&CHAR(10)&'Liste Senioren'!G15)","v":""},{"$f":"IF('Liste Senioren'!H15=\"\",\"\",'Liste Senioren'!H15)","v":""},{"$f":"IF('Liste Senioren'!I15=\"\",\"\",'Liste Senioren'!I15)","v":""},{"$f":"IF('Liste Senioren'!J15=\"\",\"\",'Liste Senioren'!J15)","v":""},{"$f":"IF('Liste Senioren'!K15=\"\",\"\",'Liste Senioren'!K15)","v":""},{"$f":"IF('Liste Senioren'!L15=\"\",\"\",'Liste Senioren'!L15)","v":""},{"$f":"IF('Liste Senioren'!M15=\"\",\"\",'Liste Senioren'!M15)","v":""},{"$f":"IF('Liste Senioren'!N15=\"\",\"\",'Liste Senioren'!N15)","v":""},{"$f":"IF('Liste Senioren'!O15=\"\",\"\",'Liste Senioren'!O15)","v":""},{"$f":"IF('Liste Senioren'!P15=\"\",\"\",'Liste Senioren'!P15)","v":""},{"$f":"IF('Liste Senioren'!Q15=\"\",\"\",'Liste Senioren'!Q15)","v":""},{"$f":"IF('Liste Senioren'!R15=\"\",\"\",'Liste Senioren'!R15)","v":""},{"$f":"'Liste Senioren'!S15","v":0},{"$f":"'Liste Senioren'!T15","v":""},{"$f":"'Liste Senioren'!U15","v":0}]
[{"$f":"IF('Liste Senioren'!A16=\"\",\"\",'Liste Senioren'!A16&\" / \"&'Liste Senioren'!B16&\" / Senioren\")","v":""},{"$f":"IF('Liste Senioren'!C16=\"\",\"\",'Liste Senioren'!C16)","v":""},{"$f":"IF('Liste Senioren'!D16=\"\",\"\",'Liste Senioren'!D16&CHAR(10)&'Liste Senioren'!E16)","v":""},{"$f":"IF('Liste Senioren'!F16=\"\",\"\",'Liste Senioren'!F16&CHAR(10)&'Liste Senioren'!G16)","v":""},{"$f":"IF('Liste Senioren'!H16=\"\",\"\",'Liste Senioren'!H16)","v":""},{"$f":"IF('Liste Senioren'!I16=\"\",\"\",'Liste Senioren'!I16)","v":""},{"$f":"IF('Liste Senioren'!J16=\"\",\"\",'Liste Senioren'!J16)","v":""},{"$f":"IF('Liste Senioren'!K16=\"\",\"\",'Liste Senioren'!K16)","v":""},{"$f":"IF('Liste Senioren'!L16=\"\",\"\",'Liste Senioren'!L16)","v":""},{"$f":"IF('Liste Senioren'!M16=\"\",\"\",'Liste Senioren'!M16)","v":""},{"$f":"IF('Liste Senioren'!N16=\"\",\"\",'Liste Senioren'!N16)","v":""},{"$f":"IF('Liste Senioren'!O16=\"\",\"\",'Liste Senioren'!O16)","v":""},{"$f":"IF('Liste Senioren'!P16=\"\",\"\",'Liste Senioren'!P16)","v":""},{"$f":"IF('Liste Senioren'!Q16=\"\",\"\",'Liste Senioren'!Q16)","v":""},{"$f":"IF('Liste Senioren'!R16=\"\",\"\",'Liste Senioren'!R16)","v":""},{"$f":"'Liste Senioren'!S16","v":0},{"$f":"'Liste Senioren'!T16","v":""},{"$f":"'Liste Senioren'!U16","v":0}]
[{"$f":"IF('Liste Senioren'!A17=\"\",\"\",'Liste Senioren'!A17&\" / \"&'Liste Senioren'!B17&\" / Senioren\")","v":""},{"$f":"IF('Liste Senioren'!C17=\"\",\"\",'Liste Senioren'!C17)","v":""},{"$f":"IF('Liste Senioren'!D17=\"\",\"\",'Liste Senioren'!D17&CHAR(10)&'Liste Senioren'!E17)","v":""},{"$f":"IF('Liste Senioren'!F17=\"\",\"\",'Liste Senioren'!F17&CHAR(10)&'Liste Senioren'!G17)","v":""},{"$f":"IF('Liste Senioren'!H17=\"\",\"\",'Liste Senioren'!H17)","v":""},{"$f":"IF('Liste Senioren'!I17=\"\",\"\",'Liste Senioren'!I17)","v":""},{"$f":"IF('Liste Senioren'!J17=\"\",\"\",'Liste Senioren'!J17)","v":""},{"$f":"IF('Liste Senioren'!K17=\"\",\"\",'Liste Senioren'!K17)","v":""},{"$f":"IF('Liste Senioren'!L17=\"\",\"\",'Liste Senioren'!L17)","v":""},{"$f":"IF('Liste Senioren'!M17=\"\",\"\",'Liste Senioren'!M17)","v":""},{"$f":"IF('Liste Senioren'!N17=\"\",\"\",'Liste Senioren'!N17)","v":""},{"$f":"IF('Liste Senioren'!O17=\"\",\"\",'Liste Senioren'!O17)","v":""},{"$f":"IF('Liste Senioren'!P17=\"\",\"\",'Liste Senioren'!P17)","v":""},{"$f":"IF('Liste Senioren'!Q17=\"\",\"\",'Liste Senioren'!Q17)","v":""},{"$f":"IF('Liste Senioren'!R17=\"\",\"\",'Liste Senioren'!R17)","v":""},{"$f":"'Liste Senioren'!S17","v":0},{"$f":"'Liste Senioren'!T17","v":""},{"$f":"'Liste Senioren'!U17","v":0}]
[{"$f":"IF('Liste Senioren'!A18=\"\",\"\",'Liste Senioren'!A18&\" / \"&'Liste Senioren'!B18&\" / Senioren\")","v":""},{"$f":"IF('Liste Senioren'!C18=\"\",\"\",'Liste Senioren'!C18)","v":""},{"$f":"IF('Liste Senioren'!D18=\"\",\"\",'Liste Senioren'!D18&CHAR(10)&'Liste Senioren'!E18)","v":""},{"$f":"IF('Liste Senioren'!F18=\"\",\"\",'Liste Senioren'!F18&CHAR(10)&'Liste Senioren'!G18)","v":""},{"$f":"IF('Liste Senioren'!H18=\"\",\"\",'Liste Senioren'!H18)","v":""},{"$f":"IF('Liste Senioren'!I18=\"\",\"\",'Liste Senioren'!I18)","v":""},{"$f":"IF('Liste Senioren'!J18=\"\",\"\",'Liste Senioren'!J18)","v":""},{"$f":"IF('Liste Senioren'!K18=\"\",\"\",'Liste Senioren'!K18)","v":""},{"$f":"IF('Liste Senioren'!L18=\"\",\"\",'Liste Senioren'!L18)","v":""},{"$f":"IF('Liste Senioren'!M18=\"\",\"\",'Liste Senioren'!M18)","v":""},{"$f":"IF('Liste Senioren'!N18=\"\",\"\",'Liste Senioren'!N18)","v":""},{"$f":"IF('Liste Senioren'!O18=\"\",\"\",'Liste Senioren'!O18)","v":""},{"$f":"IF('Liste Senioren'!P18=\"\",\"\",'Liste Senioren'!P18)","v":""},{"$f":"IF('Liste Senioren'!Q18=\"\",\"\",'Liste Senioren'!Q18)","v":""},{"$f":"IF('Liste Senioren'!R18=\"\",\"\",'Liste Senioren'!R18)","v":""},{"$f":"'Liste Senioren'!S18","v":0},{"$f":"'Liste Senioren'!T18","v":""},{"$f":"'Liste Senioren'!U18","v":0}]
[{"$f":"IF('Liste Senioren'!A19=\"\",\"\",'Liste Senioren'!A19&\" / \"&'Liste Senioren'!B19&\" / Senioren\")","v":""},{"$f":"IF('Liste Senioren'!C19=\"\",\"\",'Liste Senioren'!C19)","v":""},{"$f":"IF('Liste Senioren'!D19=\"\",\"\",'Liste Senioren'!D19&CHAR(10)&'Liste Senioren'!E19)","v":""},{"$f":"IF('Liste Senioren'!F19=\"\",\"\",'Liste Senioren'!F19&CHAR(10)&'Liste Senioren'!G19)","v":""},{"$f":"IF('Liste Senioren'!H19=\"\",\"\",'Liste Senioren'!H19)","v":""},{"$f":"IF('Liste Senioren'!I19=\"\",\"\",'Liste Senioren'!I19)","v":""},{"$f":"IF('Liste Senioren'!J19=\"\",\"\",'Liste Senioren'!J19)","v":""},{"$f":"IF('Liste Senioren'!K19=\"\",\"\",'Liste Senioren'!K19)","v":""},{"$f":"IF('Liste Senioren'!L19=\"\",\"\",'Liste Senioren'!L19)","v":""},{"$f":"IF('Liste Senioren'!M19=\"\",\"\",'Liste Senioren'!M19)","v":""},{"$f":"IF('Liste Senioren'!N19=\"\",\"\",'Liste Senioren'!N19)","v":""},{"$f":"IF('Liste Senioren'!O19=\"\",\"\",'Liste Senioren'!O19)","v":""},{"$f":"IF('Liste Senioren'!P19=\"\",\"\",'Liste Senioren'!P19)","v":""},{"$f":"IF('Liste Senioren'!Q19=\"\",\"\",'Liste Senioren'!Q19)","v":""},{"$f":"IF('Liste Senioren'!R19=\"\",\"\",'Liste Senioren'!R19)","v":""},{"$f":"'Liste Senioren'!S19","v":0},{"$f":"'Liste Senioren'!T19","v":""},{"$f":"'Liste Senioren'!U19","v":0}]
[{"$f":"IF('Liste Senioren'!A20=\"\",\"\",'Liste Senioren'!A20&\" / \"&'Liste Senioren'!B20&\" / Senioren\")","v":""},{"$f":"IF('Liste Senioren'!C20=\"\",\"\",'Liste Senioren'!C20)","v":""},{"$f":"IF('Liste Senioren'!D20=\"\",\"\",'Liste Senioren'!D20&CHAR(10)&'Liste Senioren'!E20)","v":""},{"$f":"IF('Liste Senioren'!F20=\"\",\"\",'Liste Senioren'!F20&CHAR(10)&'Liste Senioren'!G20)","v":""},{"$f":"IF('Liste Senioren'!H20=\"\",\"\",'Liste Senioren'!H20)","v":""},{"$f":"IF('Liste Senioren'!I20=\"\",\"\",'Liste Senioren'!I20)","v":""},{"$f":"IF('Liste Senioren'!J20=\"\",\"\",'Liste Senioren'!J20)","v":""},{"$f":"IF('Liste Senioren'!K20=\"\",\"\",'Liste Senioren'!K20)","v":""},{"$f":"IF('Liste Senioren'!L20=\"\",\"\",'Liste Senioren'!L20)","v":""},{"$f":"IF('Liste Senioren'!M20=\"\",\"\",'Liste Senioren'!M20)","v":""},{"$f":"IF('Liste Senioren'!N20=\"\",\"\",'Liste Senioren'!N20)","v":""},{"$f":"IF('Liste Senioren'!O20=\"\",\"\",'Liste Senioren'!O20)","v":""},{"$f":"IF('Liste Senioren'!P20=\"\",\"\",'Liste Senioren'!P20)","v":""},{"$f":"IF('Liste Senioren'!Q20=\"\",\"\",'Liste Senioren'!Q20)","v":""},{"$f":"IF('Liste Senioren'!R20=\"\",\"\",'Liste Senioren'!R20)","v":""},{"$f":"'Liste Senioren'!S20","v":0},{"$f":"'Liste Senioren'!T20","v":""},{"$f":"'Liste Senioren'!U20","v":0}]
[{"$f":"IF('Liste Senioren'!A21=\"\",\"\",'Liste Senioren'!A21&\" / \"&'Liste Senioren'!B21&\" / Senioren\")","v":""},{"$f":"IF('Liste Senioren'!C21=\"\",\"\",'Liste Senioren'!C21)","v":""},{"$f":"IF('Liste Senioren'!D21=\"\",\"\",'Liste Senioren'!D21&CHAR(10)&'Liste Senioren'!E21)","v":""},{"$f":"IF('Liste Senioren'!F21=\"\",\"\",'Liste Senioren'!F21&CHAR(10)&'Liste Senioren'!G21)","v":""},{"$f":"IF('Liste Senioren'!H21=\"\",\"\",'Liste Senioren'!H21)","v":""},{"$f":"IF('Liste Senioren'!I21=\"\",\"\",'Liste Senioren'!I21)","v":""},{"$f":"IF('Liste Senioren'!J21=\"\",\"\",'Liste Senioren'!J21)","v":""},{"$f":"IF('Liste Senioren'!K21=\"\",\"\",'Liste Senioren'!K21)","v":""},{"$f":"IF('Liste Senioren'!L21=\"\",\"\",'Liste Senioren'!L21)","v":""},{"$f":"IF('Liste Senioren'!M21=\"\",\"\",'Liste Senioren'!M21)","v":""},{"$f":"IF('Liste Senioren'!N21=\"\",\"\",'Liste Senioren'!N21)","v":""},{"$f":"IF('Liste Senioren'!O21=\"\",\"\",'Liste Senioren'!O21)","v":""},{"$f":"IF('Liste Senioren'!P21=\"\",\"\",'Liste Senioren'!P21)","v":""},{"$f":"IF('Liste Senioren'!Q21=\"\",\"\",'Liste Senioren'!Q21)","v":""},{"$f":"IF('Liste Senioren'!R21=\"\",\"\",'Liste Senioren'!R21)","v":""},{"$f":"'Liste Senioren'!S21","v":0},{"$f":"'Liste Senioren'!T21","v":""},{"$f":"'Liste Senioren'!U21","v":0}]
[{"$f":"IF('Liste Senioren'!A22=\"\",\"\",'Liste Senioren'!A22&\" / \"&'Liste Senioren'!B22&\" / Senioren\")","v":""},{"$f":"IF('Liste Senioren'!C22=\"\",\"\",'Liste Senioren'!C22)","v":""},{"$f":"IF('Liste Senioren'!D22=\"\",\"\",'Liste Senioren'!D22&CHAR(10)&'Liste Senioren'!E22)","v":""},{"$f":"IF('Liste Senioren'!F22=\"\",\"\",'Liste Senioren'!F22&CHAR(10)&'Liste Senioren'!G22)","v":""},{"$f":"IF('Liste Senioren'!H22=\"\",\"\",'Liste Senioren'!H22)","v":""},{"$f":"IF('Liste Senioren'!I22=\"\",\"\",'Liste Senioren'!I22)","v":""},{"$f":"IF('Liste Senioren'!J22=\"\",\"\",'Liste Senioren'!J22)","v":""},{"$f":"IF('Liste Senioren'!K22=\"\",\"\",'Liste Senioren'!K22)","v":""},{"$f":"IF('Liste Senioren'!L22=\"\",\"\",'Liste Senioren'!L22)","v":""},{"$f":"IF('Liste Senioren'!M22=\"\",\"\",'Liste Senioren'!M22)","v":""},{"$f":"IF('Liste Senioren'!N22=\"\",\"\",'Liste Senioren'!N22)","v":""},{"$f":"IF('Liste Senioren'!O22=\"\",\"\",'Liste Senioren'!O22)","v":""},{"$f":"IF('Liste Senioren'!P22=\"\",\"\",'Liste Senioren'!P22)","v":""},{"$f":"IF('Liste Senioren'!Q22=\"\",\"\",'Liste Senioren'!Q22)","v":""},{"$f":"IF('Liste Senioren'!R22=\"\",\"\",'Liste Senioren'!R22)","v":""},{"$f":"'Liste Senioren'!S22","v":0},{"$f":"'Liste Senioren'!T22","v":""},{"$f":"'Liste Senioren'!U22","v":0}]
[{"$f":"IF('Liste Senioren'!A23=\"\",\"\",'Liste Senioren'!A23&\" / \"&'Liste Senioren'!B23&\" / Senioren\")","v":""},{"$f":"IF('Liste Senioren'!C23=\"\",\"\",'Liste Senioren'!C23)","v":""},{"$f":"IF('Liste Senioren'!D23=\"\",\"\",'Liste Senioren'!D23&CHAR(10)&'Liste Senioren'!E23)","v":""},{"$f":"IF('Liste Senioren'!F23=\"\",\"\",'Liste Senioren'!F23&CHAR(10)&'Liste Senioren'!G23)","v":""},{"$f":"IF('Liste Senioren'!H23=\"\",\"\",'Liste Senioren'!H23)","v":""},{"$f":"IF('Liste Senioren'!I23=\"\",\"\",'Liste Senioren'!I23)","v":""},{"$f":"IF('Liste Senioren'!J23=\"\",\"\",'Liste Senioren'!J23)","v":""},{"$f":"IF('Liste Senioren'!K23=\"\",\"\",'Liste Senioren'!K23)","v":""},{"$f":"IF('Liste Senioren'!L23=\"\",\"\",'Liste Senioren'!L23)","v":""},{"$f":"IF('Liste Senioren'!M23=\"\",\"\",'Liste Senioren'!M23)","v":""},{"$f":"IF('Liste Senioren'!N23=\"\",\"\",'Liste Senioren'!N23)","v":""},{"$f":"IF('Liste Senioren'!O23=\"\",\"\",'Liste Senioren'!O23)","v":""},{"$f":"IF('Liste Senioren'!P23=\"\",\"\",'Liste Senioren'!P23)","v":""},{"$f":"IF('Liste Senioren'!Q23=\"\",\"\",'Liste Senioren'!Q23)","v":""},{"$f":"IF('Liste Senioren'!R23=\"\",\"\",'Liste Senioren'!R23)","v":""},{"$f":"'Liste Senioren'!S23","v":0},{"$f":"'Liste Senioren'!T23","v":""},{"$f":"'Liste Senioren'!U23","v":0}]
[{"$f":"IF('Liste Senioren'!A24=\"\",\"\",'Liste Senioren'!A24&\" / \"&'Liste Senioren'!B24&\" / Senioren\")","v":""},{"$f":"IF('Liste Senioren'!C24=\"\",\"\",'Liste Senioren'!C24)","v":""},{"$f":"IF('Liste Senioren'!D24=\"\",\"\",'Liste Senioren'!D24&CHAR(10)&'Liste Senioren'!E24)","v":""},{"$f":"IF('Liste Senioren'!F24=\"\",\"\",'Liste Senioren'!F24&CHAR(10)&'Liste Senioren'!G24)","v":""},{"$f":"IF('Liste Senioren'!H24=\"\",\"\",'Liste Senioren'!H24)","v":""},{"$f":"IF('Liste Senioren'!I24=\"\",\"\",'Liste Senioren'!I24)","v":""},{"$f":"IF('Liste Senioren'!J24=\"\",\"\",'Liste Senioren'!J24)","v":""},{"$f":"IF('Liste Senioren'!K24=\"\",\"\",'Liste Senioren'!K24)","v":""},{"$f":"IF('Liste Senioren'!L24=\"\",\"\",'Liste Senioren'!L24)","v":""},{"$f":"IF('Liste Senioren'!M24=\"\",\"\",'Liste Senioren'!M24)","v":""},{"$f":"IF('Liste Senioren'!N24=\"\",\"\",'Liste Senioren'!N24)","v":""},{"$f":"IF('Liste Senioren'!O24=\"\",\"\",'Liste Senioren'!O24)","v":""},{"$f":"IF('Liste Senioren'!P24=\"\",\"\",'Liste Senioren'!P24)","v":""},{"$f":"IF('Liste Senioren'!Q24=\"\",\"\",'Liste Senioren'!Q24)","v":""},{"$f":"IF('Liste Senioren'!R24=\"\",\"\",'Liste Senioren'!R24)","v":""},{"$f":"'Liste Senioren'!S24","v":0},{"$f":"'Liste Senioren'!T24","v":""},{"$f":"'Liste Senioren'!U24","v":0}]
[{"$f":"IF('Liste Senioren'!A25=\"\",\"\",'Liste Senioren'!A25&\" / \"&'Liste Senioren'!B25&\" / Senioren\")","v":""},{"$f":"IF('Liste Senioren'!C25=\"\",\"\",'Liste Senioren'!C25)","v":""},{"$f":"IF('Liste Senioren'!D25=\"\",\"\",'Liste Senioren'!D25&CHAR(10)&'Liste Senioren'!E25)","v":""},{"$f":"IF('Liste Senioren'!F25=\"\",\"\",'Liste Senioren'!F25&CHAR(10)&'Liste Senioren'!G25)","v":""},{"$f":"IF('Liste Senioren'!H25=\"\",\"\",'Liste Senioren'!H25)","v":""},{"$f":"IF('Liste Senioren'!I25=\"\",\"\",'Liste Senioren'!I25)","v":""},{"$f":"IF('Liste Senioren'!J25=\"\",\"\",'Liste Senioren'!J25)","v":""},{"$f":"IF('Liste Senioren'!K25=\"\",\"\",'Liste Senioren'!K25)","v":""},{"$f":"IF('Liste Senioren'!L25=\"\",\"\",'Liste Senioren'!L25)","v":""},{"$f":"IF('Liste Senioren'!M25=\"\",\"\",'Liste Senioren'!M25)","v":""},{"$f":"IF('Liste Senioren'!N25=\"\",\"\",'Liste Senioren'!N25)","v":""},{"$f":"IF('Liste Senioren'!O25=\"\",\"\",'Liste Senioren'!O25)","v":""},{"$f":"IF('Liste Senioren'!P25=\"\",\"\",'Liste Senioren'!P25)","v":""},{"$f":"IF('Liste Senioren'!Q25=\"\",\"\",'Liste Senioren'!Q25)","v":""},{"$f":"IF('Liste Senioren'!R25=\"\",\"\",'Liste Senioren'!R25)","v":""},{"$f":"'Liste Senioren'!S25","v":0},{"$f":"'Liste Senioren'!T25","v":""},{"$f":"'Liste Senioren'!U25","v":0}]
[{"$f":"IF('Liste Senioren'!A26=\"\",\"\",'Liste Senioren'!A26&\" / \"&'Liste Senioren'!B26&\" / Senioren\")","v":""},{"$f":"IF('Liste Senioren'!C26=\"\",\"\",'Liste Senioren'!C26)","v":""},{"$f":"IF('Liste Senioren'!D26=\"\",\"\",'Liste Senioren'!D26&CHAR(10)&'Liste Senioren'!E26)","v":""},{"$f":"IF('Liste Senioren'!F26=\"\",\"\",'Liste Senioren'!F26&CHAR(10)&'Liste Senioren'!G26)","v":""},{"$f":"IF('Liste Senioren'!H26=\"\",\"\",'Liste Senioren'!H26)","v":""},{"$f":"IF('Liste Senioren'!I26=\"\",\"\",'Liste Senioren'!I26)","v":""},{"$f":"IF('Liste Senioren'!J26=\"\",\"\",'Liste Senioren'!J26)","v":""},{"$f":"IF('Liste Senioren'!K26=\"\",\"\",'Liste Senioren'!K26)","v":""},{"$f":"IF('Liste Senioren'!L26=\"\",\"\",'Liste Senioren'!L26)","v":""},{"$f":"IF('Liste Senioren'!M26=\"\",\"\",'Liste Senioren'!M26)","v":""},{"$f":"IF('Liste Senioren'!N26=\"\",\"\",'Liste Senioren'!N26)","v":""},{"$f":"IF('Liste Senioren'!O26=\"\",\"\",'Liste Senioren'!O26)","v":""},{"$f":"IF('Liste Senioren'!P26=\"\",\"\",'Liste Senioren'!P26)","v":""},{"$f":"IF('Liste Senioren'!Q26=\"\",\"\",'Liste Senioren'!Q26)","v":""},{"$f":"IF('Liste Senioren'!R26=\"\",\"\",'Liste Senioren'!R26)","v":""},{"$f":"'Liste Senioren'!S26","v":0},{"$f":"'Liste Senioren'!T26","v":""},{"$f":"'Liste Senioren'!U26","v":0}]
[{"$f":"IF('Liste Senioren'!A27=\"\",\"\",'Liste Senioren'!A27&\" / \"&'Liste Senioren'!B27&\" / Senioren\")","v":""},{"$f":"IF('Liste Senioren'!C27=\"\",\"\",'Liste Senioren'!C27)","v":""},{"$f":"IF('Liste Senioren'!D27=\"\",\"\",'Liste Senioren'!D27&CHAR(10)&'Liste Senioren'!E27)","v":""},{"$f":"IF('Liste Senioren'!F27=\"\",\"\",'Liste Senioren'!F27&CHAR(10)&'Liste Senioren'!G27)","v":""},{"$f":"IF('Liste Senioren'!H27=\"\",\"\",'Liste Senioren'!H27)","v":""},{"$f":"IF('Liste Senioren'!I27=\"\",\"\",'Liste Senioren'!I27)","v":""},{"$f":"IF('Liste Senioren'!J27=\"\",\"\",'Liste Senioren'!J27)","v":""},{"$f":"IF('Liste Senioren'!K27=\"\",\"\",'Liste Senioren'!K27)","v":""},{"$f":"IF('Liste Senioren'!L27=\"\",\"\",'Liste Senioren'!L27)","v":""},{"$f":"IF('Liste Senioren'!M27=\"\",\"\",'Liste Senioren'!M27)","v":""},{"$f":"IF('Liste Senioren'!N27=\"\",\"\",'Liste Senioren'!N27)","v":""},{"$f":"IF('Liste Senioren'!O27=\"\",\"\",'Liste Senioren'!O27)","v":""},{"$f":"IF('Liste Senioren'!P27=\"\",\"\",'Liste Senioren'!P27)","v":""},{"$f":"IF('Liste Senioren'!Q27=\"\",\"\",'Liste Senioren'!Q27)","v":""},{"$f":"IF('Liste Senioren'!R27=\"\",\"\",'Liste Senioren'!R27)","v":""},{"$f":"'Liste Senioren'!S27","v":0},{"$f":"'Liste Senioren'!T27","v":""},{"$f":"'Liste Senioren'!U27","v":0}]
[{"$f":"IF('Liste Senioren'!A28=\"\",\"\",'Liste Senioren'!A28&\" / \"&'Liste Senioren'!B28&\" / Senioren\")","v":""},{"$f":"IF('Liste Senioren'!C28=\"\",\"\",'Liste Senioren'!C28)","v":""},{"$f":"IF('Liste Senioren'!D28=\"\",\"\",'Liste Senioren'!D28&CHAR(10)&'Liste Senioren'!E28)","v":""},{"$f":"IF('Liste Senioren'!F28=\"\",\"\",'Liste Senioren'!F28&CHAR(10)&'Liste Senioren'!G28)","v":""},{"$f":"IF('Liste Senioren'!H28=\"\",\"\",'Liste Senioren'!H28)","v":""},{"$f":"IF('Liste Senioren'!I28=\"\",\"\",'Liste Senioren'!I28)","v":""},{"$f":"IF('Liste Senioren'!J28=\"\",\"\",'Liste Senioren'!J28)","v":""},{"$f":"IF('Liste Senioren'!K28=\"\",\"\",'Liste Senioren'!K28)","v":""},{"$f":"IF('Liste Senioren'!L28=\"\",\"\",'Liste Senioren'!L28)","v":""},{"$f":"IF('Liste Senioren'!M28=\"\",\"\",'Liste Senioren'!M28)","v":""},{"$f":"IF('Liste Senioren'!N28=\"\",\"\",'Liste Senioren'!N28)","v":""},{"$f":"IF('Liste Senioren'!O28=\"\",\"\",'Liste Senioren'!O28)","v":""},{"$f":"IF('Liste Senioren'!P28=\"\",\"\",'Liste Senioren'!P28)","v":""},{"$f":"IF('Liste Senioren'!Q28=\"\",\"\",'Liste Senioren'!Q28)","v":""},{"$f":"IF('Liste Senioren'!R28=\"\",\"\",'Liste Senioren'!R28)","v":""},{"$f":"'Liste Senioren'!S28","v":0},{"$f":"'Liste Senioren'!T28","v":""},{"$f":"'Liste Senioren'!U28","v":0}]
[{"$f":"IF('Liste Senioren'!A29=\"\",\"\",'Liste Senioren'!A29&\" / \"&'Liste Senioren'!B29&\" / Senioren\")","v":""},{"$f":"IF('Liste Senioren'!C29=\"\",\"\",'Liste Senioren'!C29)","v":""},{"$f":"IF('Liste Senioren'!D29=\"\",\"\",'Liste Senioren'!D29&CHAR(10)&'Liste Senioren'!E29)","v":""},{"$f":"IF('Liste Senioren'!F29=\"\",\"\",'Liste Senioren'!F29&CHAR(10)&'Liste Senioren'!G29)","v":""},{"$f":"IF('Liste Senioren'!H29=\"\",\"\",'Liste Senioren'!H29)","v":""},{"$f":"IF('Liste Senioren'!I29=\"\",\"\",'Liste Senioren'!I29)","v":""},{"$f":"IF('Liste Senioren'!J29=\"\",\"\",'Liste Senioren'!J29)","v":""},{"$f":"IF('Liste Senioren'!K29=\"\",\"\",'Liste Senioren'!K29)","v":""},{"$f":"IF('Liste Senioren'!L29=\"\",\"\",'Liste Senioren'!L29)","v":""},{"$f":"IF('Liste Senioren'!M29=\"\",\"\",'Liste Senioren'!M29)","v":""},{"$f":"IF('Liste Senioren'!N29=\"\",\"\",'Liste Senioren'!N29)","v":""},{"$f":"IF('Liste Senioren'!O29=\"\",\"\",'Liste Senioren'!O29)","v":""},{"$f":"IF('Liste Senioren'!P29=\"\",\"\",'Liste Senioren'!P29)","v":""},{"$f":"IF('Liste Senioren'!Q29=\"\",\"\",'Liste Senioren'!Q29)","v":""},{"$f":"IF('Liste Senioren'!R29=\"\",\"\",'Liste Senioren'!R29)","v":""},{"$f":"'Liste Senioren'!S29","v":0},{"$f":"'Liste Senioren'!T29","v":""},{"$f":"'Liste Senioren'!U29","v":0}]
[{"$f":"IF('Liste Senioren'!A30=\"\",\"\",'Liste Senioren'!A30&\" / \"&'Liste Senioren'!B30&\" / Senioren\")","v":""},{"$f":"IF('Liste Senioren'!C30=\"\",\"\",'Liste Senioren'!C30)","v":""},{"$f":"IF('Liste Senioren'!D30=\"\",\"\",'Liste Senioren'!D30&CHAR(10)&'Liste Senioren'!E30)","v":""},{"$f":"IF('Liste Senioren'!F30=\"\",\"\",'Liste Senioren'!F30&CHAR(10)&'Liste Senioren'!G30)","v":""},{"$f":"IF('Liste Senioren'!H30=\"\",\"\",'Liste Senioren'!H30)","v":""},{"$f":"IF('Liste Senioren'!I30=\"\",\"\",'Liste Senioren'!I30)","v":""},{"$f":"IF('Liste Senioren'!J30=\"\",\"\",'Liste Senioren'!J30)","v":""},{"$f":"IF('Liste Senioren'!K30=\"\",\"\",'Liste Senioren'!K30)","v":""},{"$f":"IF('Liste Senioren'!L30=\"\",\"\",'Liste Senioren'!L30)","v":""},{"$f":"IF('Liste Senioren'!M30=\"\",\"\",'Liste Senioren'!M30)","v":""},{"$f":"IF('Liste Senioren'!N30=\"\",\"\",'Liste Senioren'!N30)","v":""},{"$f":"IF('Liste Senioren'!O30=\"\",\"\",'Liste Senioren'!O30)","v":""},{"$f":"IF('Liste Senioren'!P30=\"\",\"\",'Liste Senioren'!P30)","v":""},{"$f":"IF('Liste Senioren'!Q30=\"\",\"\",'Liste Senioren'!Q30)","v":""},{"$f":"IF('Liste Senioren'!R30=\"\",\"\",'Liste Senioren'!R30)","v":""},{"$f":"'Liste Senioren'!S30","v":0},{"$f":"'Liste Senioren'!T30","v":""},{"$f":"'Liste Senioren'!U30","v":0}]
[{"$f":"IF('Liste Senioren'!A31=\"\",\"\",'Liste Senioren'!A31&\" / \"&'Liste Senioren'!B31&\" / Senioren\")","v":""},{"$f":"IF('Liste Senioren'!C31=\"\",\"\",'Liste Senioren'!C31)","v":""},{"$f":"IF('Liste Senioren'!D31=\"\",\"\",'Liste Senioren'!D31&CHAR(10)&'Liste Senioren'!E31)","v":""},{"$f":"IF('Liste Senioren'!F31=\"\",\"\",'Liste Senioren'!F31&CHAR(10)&'Liste Senioren'!G31)","v":""},{"$f":"IF('Liste Senioren'!H31=\"\",\"\",'Liste Senioren'!H31)","v":""},{"$f":"IF('Liste Senioren'!I31=\"\",\"\",'Liste Senioren'!I31)","v":""},{"$f":"IF('Liste Senioren'!J31=\"\",\"\",'Liste Senioren'!J31)","v":""},{"$f":"IF('Liste Senioren'!K31=\"\",\"\",'Liste Senioren'!K31)","v":""},{"$f":"IF('Liste Senioren'!L31=\"\",\"\",'Liste Senioren'!L31)","v":""},{"$f":"IF('Liste Senioren'!M31=\"\",\"\",'Liste Senioren'!M31)","v":""},{"$f":"IF('Liste Senioren'!N31=\"\",\"\",'Liste Senioren'!N31)","v":""},{"$f":"IF('Liste Senioren'!O31=\"\",\"\",'Liste Senioren'!O31)","v":""},{"$f":"IF('Liste Senioren'!P31=\"\",\"\",'Liste Senioren'!P31)","v":""},{"$f":"IF('Liste Senioren'!Q31=\"\",\"\",'Liste Senioren'!Q31)","v":""},{"$f":"IF('Liste Senioren'!R31=\"\",\"\",'Liste Senioren'!R31)","v":""},{"$f":"'Liste Senioren'!S31","v":0},{"$f":"'Liste Senioren'!T31","v":""},{"$f":"'Liste Senioren'!U31","v":0}]
[{"$f":"IF('Liste Senioren'!A32=\"\",\"\",'Liste Senioren'!A32&\" / \"&'Liste Senioren'!B32&\" / Senioren\")","v":""},{"$f":"IF('Liste Senioren'!C32=\"\",\"\",'Liste Senioren'!C32)","v":""},{"$f":"IF('Liste Senioren'!D32=\"\",\"\",'Liste Senioren'!D32&CHAR(10)&'Liste Senioren'!E32)","v":""},{"$f":"IF('Liste Senioren'!F32=\"\",\"\",'Liste Senioren'!F32&CHAR(10)&'Liste Senioren'!G32)","v":""},{"$f":"IF('Liste Senioren'!H32=\"\",\"\",'Liste Senioren'!H32)","v":""},{"$f":"IF('Liste Senioren'!I32=\"\",\"\",'Liste Senioren'!I32)","v":""},{"$f":"IF('Liste Senioren'!J32=\"\",\"\",'Liste Senioren'!J32)","v":""},{"$f":"IF('Liste Senioren'!K32=\"\",\"\",'Liste Senioren'!K32)","v":""},{"$f":"IF('Liste Senioren'!L32=\"\",\"\",'Liste Senioren'!L32)","v":""},{"$f":"IF('Liste Senioren'!M32=\"\",\"\",'Liste Senioren'!M32)","v":""},{"$f":"IF('Liste Senioren'!N32=\"\",\"\",'Liste Senioren'!N32)","v":""},{"$f":"IF('Liste Senioren'!O32=\"\",\"\",'Liste Senioren'!O32)","v":""},{"$f":"IF('Liste Senioren'!P32=\"\",\"\",'Liste Senioren'!P32)","v":""},{"$f":"IF('Liste Senioren'!Q32=\"\",\"\",'Liste Senioren'!Q32)","v":""},{"$f":"IF('Liste Senioren'!R32=\"\",\"\",'Liste Senioren'!R32)","v":""},{"$f":"'Liste Senioren'!S32","v":0},{"$f":"'Liste Senioren'!T32","v":""},{"$f":"'Liste Senioren'!U32","v":0}]
[{"$f":"IF('Liste Senioren'!A33=\"\",\"\",'Liste Senioren'!A33&\" / \"&'Liste Senioren'!B33&\" / Senioren\")","v":""},{"$f":"IF('Liste Senioren'!C33=\"\",\"\",'Liste Senioren'!C33)","v":""},{"$f":"IF('Liste Senioren'!D33=\"\",\"\",'Liste Senioren'!D33&CHAR(10)&'Liste Senioren'!E33)","v":""},{"$f":"IF('Liste Senioren'!F33=\"\",\"\",'Liste Senioren'!F33&CHAR(10)&'Liste Senioren'!G33)","v":""},{"$f":"IF('Liste Senioren'!H33=\"\",\"\",'Liste Senioren'!H33)","v":""},{"$f":"IF('Liste Senioren'!I33=\"\",\"\",'Liste Senioren'!I33)","v":""},{"$f":"IF('Liste Senioren'!J33=\"\",\"\",'Liste Senioren'!J33)","v":""},{"$f":"IF('Liste Senioren'!K33=\"\",\"\",'Liste Senioren'!K33)","v":""},{"$f":"IF('Liste Senioren'!L33=\"\",\"\",'Liste Senioren'!L33)","v":""},{"$f":"IF('Liste Senioren'!M33=\"\",\"\",'Liste Senioren'!M33)","v":""},{"$f":"IF('Liste Senioren'!N33=\"\",\"\",'Liste Senioren'!N33)","v":""},{"$f":"IF('Liste Senioren'!O33=\"\",\"\",'Liste Senioren'!O33)","v":""},{"$f":"IF('Liste Senioren'!P33=\"\",\"\",'Liste Senioren'!P33)","v":""},{"$f":"IF('Liste Senioren'!Q33=\"\",\"\",'Liste Senioren'!Q33)","v":""},{"$f":"IF('Liste Senioren'!R33=\"\",\"\",'Liste Senioren'!R33)","v":""},{"$f":"'Liste Senioren'!S33","v":0},{"$f":"'Liste Senioren'!T33","v":""},{"$f":"'Liste Senioren'!U33","v":0}]
[{"$f":"IF('Liste Senioren'!A34=\"\",\"\",'Liste Senioren'!A34&\" / \"&'Liste Senioren'!B34&\" / Senioren\")","v":""},{"$f":"IF('Liste Senioren'!C34=\"\",\"\",'Liste Senioren'!C34)","v":""},{"$f":"IF('Liste Senioren'!D34=\"\",\"\",'Liste Senioren'!D34&CHAR(10)&'Liste Senioren'!E34)","v":""},{"$f":"IF('Liste Senioren'!F34=\"\",\"\",'Liste Senioren'!F34&CHAR(10)&'Liste Senioren'!G34)","v":""},{"$f":"IF('Liste Senioren'!H34=\"\",\"\",'Liste Senioren'!H34)","v":""},{"$f":"IF('Liste Senioren'!I34=\"\",\"\",'Liste Senioren'!I34)","v":""},{"$f":"IF('Liste Senioren'!J34=\"\",\"\",'Liste Senioren'!J34)","v":""},{"$f":"IF('Liste Senioren'!K34=\"\",\"\",'Liste Senioren'!K34)","v":""},{"$f":"IF('Liste Senioren'!L34=\"\",\"\",'Liste Senioren'!L34)","v":""},{"$f":"IF('Liste Senioren'!M34=\"\",\"\",'Liste Senioren'!M34)","v":""},{"$f":"IF('Liste Senioren'!N34=\"\",\"\",'Liste Senioren'!N34)","v":""},{"$f":"IF('Liste Senioren'!O34=\"\",\"\",'Liste Senioren'!O34)","v":""},{"$f":"IF('Liste Senioren'!P34=\"\",\"\",'Liste Senioren'!P34)","v":""},{"$f":"IF('Liste Senioren'!Q34=\"\",\"\",'Liste Senioren'!Q34)","v":""},{"$f":"IF('Liste Senioren'!R34=\"\",\"\",'Liste Senioren'!R34)","v":""},{"$f":"'Liste Senioren'!S34","v":0},{"$f":"'Liste Senioren'!T34","v":""},{"$f":"'Liste Senioren'!U34","v":0}]
[{"$f":"IF('Liste Senioren'!A35=\"\",\"\",'Liste Senioren'!A35&\" / \"&'Liste Senioren'!B35&\" / Senioren\")","v":""},{"$f":"IF('Liste Senioren'!C35=\"\",\"\",'Liste Senioren'!C35)","v":""},{"$f":"IF('Liste Senioren'!D35=\"\",\"\",'Liste Senioren'!D35&CHAR(10)&'Liste Senioren'!E35)","v":""},{"$f":"IF('Liste Senioren'!F35=\"\",\"\",'Liste Senioren'!F35&CHAR(10)&'Liste Senioren'!G35)","v":""},{"$f":"IF('Liste Senioren'!H35=\"\",\"\",'Liste Senioren'!H35)","v":""},{"$f":"IF('Liste Senioren'!I35=\"\",\"\",'Liste Senioren'!I35)","v":""},{"$f":"IF('Liste Senioren'!J35=\"\",\"\",'Liste Senioren'!J35)","v":""},{"$f":"IF('Liste Senioren'!K35=\"\",\"\",'Liste Senioren'!K35)","v":""},{"$f":"IF('Liste Senioren'!L35=\"\",\"\",'Liste Senioren'!L35)","v":""},{"$f":"IF('Liste Senioren'!M35=\"\",\"\",'Liste Senioren'!M35)","v":""},{"$f":"IF('Liste Senioren'!N35=\"\",\"\",'Liste Senioren'!N35)","v":""},{"$f":"IF('Liste Senioren'!O35=\"\",\"\",'Liste Senioren'!O35)","v":""},{"$f":"IF('Liste Senioren'!P35=\"\",\"\",'Liste Senioren'!P35)","v":""},{"$f":"IF('Liste Senioren'!Q35=\"\",\"\",'Liste Senioren'!Q35)","v":""},{"$f":"IF('Liste Senioren'!R35=\"\",\"\",'Liste Senioren'!R35)","v":""},{"$f":"'Liste Senioren'!S35","v":0},{"$f":"'Liste Senioren'!T35","v":""},{"$f":"'Liste Senioren'!U35","v":0}]
[{"$f":"IF('Liste Senioren'!A36=\"\",\"\",'Liste Senioren'!A36&\" / \"&'Liste Senioren'!B36&\" / Senioren\")","v":""},{"$f":"IF('Liste Senioren'!C36=\"\",\"\",'Liste Senioren'!C36)","v":""},{"$f":"IF('Liste Senioren'!D36=\"\",\"\",'Liste Senioren'!D36&CHAR(10)&'Liste Senioren'!E36)","v":""},{"$f":"IF('Liste Senioren'!F36=\"\",\"\",'Liste Senioren'!F36&CHAR(10)&'Liste Senioren'!G36)","v":""},{"$f":"IF('Liste Senioren'!H36=\"\",\"\",'Liste Senioren'!H36)","v":""},{"$f":"IF('Liste Senioren'!I36=\"\",\"\",'Liste Senioren'!I36)","v":""},{"$f":"IF('Liste Senioren'!J36=\"\",\"\",'Liste Senioren'!J36)","v":""},{"$f":"IF('Liste Senioren'!K36=\"\",\"\",'Liste Senioren'!K36)","v":""},{"$f":"IF('Liste Senioren'!L36=\"\",\"\",'Liste Senioren'!L36)","v":""},{"$f":"IF('Liste Senioren'!M36=\"\",\"\",'Liste Senioren'!M36)","v":""},{"$f":"IF('Liste Senioren'!N36=\"\",\"\",'Liste Senioren'!N36)","v":""},{"$f":"IF('Liste Senioren'!O36=\"\",\"\",'Liste Senioren'!O36)","v":""},{"$f":"IF('Liste Senioren'!P36=\"\",\"\",'Liste Senioren'!P36)","v":""},{"$f":"IF('Liste Senioren'!Q36=\"\",\"\",'Liste Senioren'!Q36)","v":""},{"$f":"IF('Liste Senioren'!R36=\"\",\"\",'Liste Senioren'!R36)","v":""},{"$f":"'Liste Senioren'!S36","v":0},{"$f":"'Liste Senioren'!T36","v":""},{"$f":"'Liste Senioren'!U36","v":0}]
[{"$f":"IF('Liste Senioren'!A37=\"\",\"\",'Liste Senioren'!A37&\" / \"&'Liste Senioren'!B37&\" / Senioren\")","v":""},{"$f":"IF('Liste Senioren'!C37=\"\",\"\",'Liste Senioren'!C37)","v":""},{"$f":"IF('Liste Senioren'!D37=\"\",\"\",'Liste Senioren'!D37&CHAR(10)&'Liste Senioren'!E37)","v":""},{"$f":"IF('Liste Senioren'!F37=\"\",\"\",'Liste Senioren'!F37&CHAR(10)&'Liste Senioren'!G37)","v":""},{"$f":"IF('Liste Senioren'!H37=\"\",\"\",'Liste Senioren'!H37)","v":""},{"$f":"IF('Liste Senioren'!I37=\"\",\"\",'Liste Senioren'!I37)","v":""},{"$f":"IF('Liste Senioren'!J37=\"\",\"\",'Liste Senioren'!J37)","v":""},{"$f":"IF('Liste Senioren'!K37=\"\",\"\",'Liste Senioren'!K37)","v":""},{"$f":"IF('Liste Senioren'!L37=\"\",\"\",'Liste Senioren'!L37)","v":""},{"$f":"IF('Liste Senioren'!M37=\"\",\"\",'Liste Senioren'!M37)","v":""},{"$f":"IF('Liste Senioren'!N37=\"\",\"\",'Liste Senioren'!N37)","v":""},{"$f":"IF('Liste Senioren'!O37=\"\",\"\",'Liste Senioren'!O37)","v":""},{"$f":"IF('Liste Senioren'!P37=\"\",\"\",'Liste Senioren'!P37)","v":""},{"$f":"IF('Liste Senioren'!Q37=\"\",\"\",'Liste Senioren'!Q37)","v":""},{"$f":"IF('Liste Senioren'!R37=\"\",\"\",'Liste Senioren'!R37)","v":""},{"$f":"'Liste Senioren'!S37","v":0},{"$f":"'Liste Senioren'!T37","v":""},{"$f":"'Liste Senioren'!U37","v":0}]
[{"$f":"IF('Liste Senioren'!A38=\"\",\"\",'Liste Senioren'!A38&\" / \"&'Liste Senioren'!B38&\" / Senioren\")","v":""},{"$f":"IF('Liste Senioren'!C38=\"\",\"\",'Liste Senioren'!C38)","v":""},{"$f":"IF('Liste Senioren'!D38=\"\",\"\",'Liste Senioren'!D38&CHAR(10)&'Liste Senioren'!E38)","v":""},{"$f":"IF('Liste Senioren'!F38=\"\",\"\",'Liste Senioren'!F38&CHAR(10)&'Liste Senioren'!G38)","v":""},{"$f":"IF('Liste Senioren'!H38=\"\",\"\",'Liste Senioren'!H38)","v":""},{"$f":"IF('Liste Senioren'!I38=\"\",\"\",'Liste Senioren'!I38)","v":""},{"$f":"IF('Liste Senioren'!J38=\"\",\"\",'Liste Senioren'!J38)","v":""},{"$f":"IF('Liste Senioren'!K38=\"\",\"\",'Liste Senioren'!K38)","v":""},{"$f":"IF('Liste Senioren'!L38=\"\",\"\",'Liste Senioren'!L38)","v":""},{"$f":"IF('Liste Senioren'!M38=\"\",\"\",'Liste Senioren'!M38)","v":""},{"$f":"IF('Liste Senioren'!N38=\"\",\"\",'Liste Senioren'!N38)","v":""},{"$f":"IF('Liste Senioren'!O38=\"\",\"\",'Liste Senioren'!O38)","v":""},{"$f":"IF('Liste Senioren'!P38=\"\",\"\",'Liste Senioren'!P38)","v":""},{"$f":"IF('Liste Senioren'!Q38=\"\",\"\",'Liste Senioren'!Q38)","v":""},{"$f":"IF('Liste Senioren'!R38=\"\",\"\",'Liste Senioren'!R38)","v":""},{"$f":"'Liste Senioren'!S38","v":0},{"$f":"'Liste Senioren'!T38","v":""},{"$f":"'Liste Senioren'!U38","v":0}]